BEGIN:VCALENDAR
VERSION:2.0
PRODID:-//Race Time - ECPv6.15.13//NONSGML v1.0//EN
CALSCALE:GREGORIAN
METHOD:PUBLISH
X-ORIGINAL-URL:https://www.racetime.info
X-WR-CALDESC:Events for Race Time
REFRESH-INTERVAL;VALUE=DURATION:PT1H
X-Robots-Tag:noindex
X-PUBLISHED-TTL:PT1H
BEGIN:VTIMEZONE
TZID:America/Chicago
BEGIN:DAYLIGHT
TZOFFSETFROM:-0600
TZOFFSETTO:-0500
TZNAME:CDT
DTSTART:20150308T080000
END:DAYLIGHT
BEGIN:STANDARD
TZOFFSETFROM:-0500
TZOFFSETTO:-0600
TZNAME:CST
DTSTART:20151101T070000
END:STANDARD
BEGIN:DAYLIGHT
TZOFFSETFROM:-0600
TZOFFSETTO:-0500
TZNAME:CDT
DTSTART:20160313T080000
END:DAYLIGHT
BEGIN:STANDARD
TZOFFSETFROM:-0500
TZOFFSETTO:-0600
TZNAME:CST
DTSTART:20161106T070000
END:STANDARD
BEGIN:DAYLIGHT
TZOFFSETFROM:-0600
TZOFFSETTO:-0500
TZNAME:CDT
DTSTART:20170312T080000
END:DAYLIGHT
BEGIN:STANDARD
TZOFFSETFROM:-0500
TZOFFSETTO:-0600
TZNAME:CST
DTSTART:20171105T070000
END:STANDARD
BEGIN:DAYLIGHT
TZOFFSETFROM:-0600
TZOFFSETTO:-0500
TZNAME:CDT
DTSTART:20180311T080000
END:DAYLIGHT
BEGIN:STANDARD
TZOFFSETFROM:-0500
TZOFFSETTO:-0600
TZNAME:CST
DTSTART:20181104T070000
END:STANDARD
END:VTIMEZONE
BEGIN:VEVENT
DTSTART;TZID=America/Chicago:20170521T090000
DTEND;TZID=America/Chicago:20170521T110000
DTSTAMP:20260424T035402
CREATED:20170518T235152Z
LAST-MODIFIED:20170521T194620Z
UID:10000590-1495357200-1495364400@www.racetime.info
SUMMARY:Danny Blatz Memorial 5K Run/Walk
DESCRIPTION:Danny Blatz Memorial 5K Overall Results
URL:https://www.racetime.info/event/danny-blatz-memorial-5k-runwalk-2/
LOCATION:Huffman Park\, 811 Tartans Drive\, West Dundee\, IL\, 60118\, United States
CATEGORIES:2017-05 Results (May)
ORGANIZER;CN="John Mayer":MAILTO:dundeemayer@comcast.net
GEO:42.1057091;-88.305821
X-APPLE-STRUCTURED-LOCATION;VALUE=URI;X-ADDRESS=Huffman Park 811 Tartans Drive West Dundee IL 60118 United States;X-APPLE-RADIUS=500;X-TITLE=811 Tartans Drive:geo:-88.305821,42.1057091
END:VEVENT
BEGIN:VEVENT
DTSTART;TZID=America/Chicago:20160515T090000
DTEND;TZID=America/Chicago:20160515T110000
DTSTAMP:20260424T035402
CREATED:20160408T113804Z
LAST-MODIFIED:20160517T124844Z
UID:10000612-1463302800-1463310000@www.racetime.info
SUMMARY:Danny Blatz Memorial 5K Run/Walk
DESCRIPTION:Danny Blatz 5K Overall Results
URL:https://www.racetime.info/event/danny-blatz-memorial-5k-runwalk/
LOCATION:Huffman Park\, 811 Tartans Drive\, West Dundee\, IL\, 60118\, United States
CATEGORIES:2016-05 Results (May)
ORGANIZER;CN="Chris Andersen":MAILTO:candersen1347@yahoo.com
GEO:42.1057091;-88.305821
X-APPLE-STRUCTURED-LOCATION;VALUE=URI;X-ADDRESS=Huffman Park 811 Tartans Drive West Dundee IL 60118 United States;X-APPLE-RADIUS=500;X-TITLE=811 Tartans Drive:geo:-88.305821,42.1057091
END:VEVENT
END:VCALENDAR