BEGIN:VCALENDAR
VERSION:2.0
PRODID:-//Race Time - ECPv6.15.13//NONSGML v1.0//EN
CALSCALE:GREGORIAN
METHOD:PUBLISH
X-ORIGINAL-URL:https://www.racetime.info
X-WR-CALDESC:Events for Race Time
REFRESH-INTERVAL;VALUE=DURATION:PT1H
X-Robots-Tag:noindex
X-PUBLISHED-TTL:PT1H
BEGIN:VTIMEZONE
TZID:America/Chicago
BEGIN:DAYLIGHT
TZOFFSETFROM:-0600
TZOFFSETTO:-0500
TZNAME:CDT
DTSTART:20140309T080000
END:DAYLIGHT
BEGIN:STANDARD
TZOFFSETFROM:-0500
TZOFFSETTO:-0600
TZNAME:CST
DTSTART:20141102T070000
END:STANDARD
BEGIN:DAYLIGHT
TZOFFSETFROM:-0600
TZOFFSETTO:-0500
TZNAME:CDT
DTSTART:20150308T080000
END:DAYLIGHT
BEGIN:STANDARD
TZOFFSETFROM:-0500
TZOFFSETTO:-0600
TZNAME:CST
DTSTART:20151101T070000
END:STANDARD
BEGIN:DAYLIGHT
TZOFFSETFROM:-0600
TZOFFSETTO:-0500
TZNAME:CDT
DTSTART:20160313T080000
END:DAYLIGHT
BEGIN:STANDARD
TZOFFSETFROM:-0500
TZOFFSETTO:-0600
TZNAME:CST
DTSTART:20161106T070000
END:STANDARD
BEGIN:DAYLIGHT
TZOFFSETFROM:-0600
TZOFFSETTO:-0500
TZNAME:CDT
DTSTART:20170312T080000
END:DAYLIGHT
BEGIN:STANDARD
TZOFFSETFROM:-0500
TZOFFSETTO:-0600
TZNAME:CST
DTSTART:20171105T070000
END:STANDARD
BEGIN:DAYLIGHT
TZOFFSETFROM:-0600
TZOFFSETTO:-0500
TZNAME:CDT
DTSTART:20180311T080000
END:DAYLIGHT
BEGIN:STANDARD
TZOFFSETFROM:-0500
TZOFFSETTO:-0600
TZNAME:CST
DTSTART:20181104T070000
END:STANDARD
BEGIN:DAYLIGHT
TZOFFSETFROM:-0600
TZOFFSETTO:-0500
TZNAME:CDT
DTSTART:20190310T080000
END:DAYLIGHT
BEGIN:STANDARD
TZOFFSETFROM:-0500
TZOFFSETTO:-0600
TZNAME:CST
DTSTART:20191103T070000
END:STANDARD
BEGIN:DAYLIGHT
TZOFFSETFROM:-0600
TZOFFSETTO:-0500
TZNAME:CDT
DTSTART:20200308T080000
END:DAYLIGHT
BEGIN:STANDARD
TZOFFSETFROM:-0500
TZOFFSETTO:-0600
TZNAME:CST
DTSTART:20201101T070000
END:STANDARD
END:VTIMEZONE
BEGIN:VEVENT
DTSTART;TZID=America/Chicago:20190707T080000
DTEND;TZID=America/Chicago:20190707T100000
DTSTAMP:20260423T225732
CREATED:20190702T105408Z
LAST-MODIFIED:20190707T165904Z
UID:10001075-1562486400-1562493600@www.racetime.info
SUMMARY:Sandwich Freedom Run 5K & 1 Mile
DESCRIPTION:Sandwich Freedom 1 Mile Overall Results\n\nSandwich Freedom 5K Age Group Results\n\nSandwich Freedom 5K Overall Results
URL:https://www.racetime.info/event/sandwich-freedom-run-5k-1-mile/
LOCATION:James Knights Park\, 1001 N. Latham Street\, Sandwich\, IL\, 60548\, United States
CATEGORIES:2019-07 Results (July)
ORGANIZER;CN="Brandon Knox":MAILTO:brandon.knox.spd@gmail.com
GEO:41.6552736;-88.6126217
X-APPLE-STRUCTURED-LOCATION;VALUE=URI;X-ADDRESS=James Knights Park 1001 N. Latham Street Sandwich IL 60548 United States;X-APPLE-RADIUS=500;X-TITLE=1001 N. Latham Street:geo:-88.6126217,41.6552736
END:VEVENT
BEGIN:VEVENT
DTSTART;TZID=America/Chicago:20171111T090000
DTEND;TZID=America/Chicago:20171111T110000
DTSTAMP:20260423T225732
CREATED:20170830T165319Z
LAST-MODIFIED:20171111T213405Z
UID:10001624-1510390800-1510398000@www.racetime.info
SUMMARY:Sandwich Turkey Trot for Technology 5K & 1 Mile Run/Walk
DESCRIPTION:Sandwich Turkey Trot 1 Mile Overall Results\n\nSandwich Turkey Trot 5K Age Group Results\n\nSandwich Turkey Trot 5K Overall Results
URL:https://www.racetime.info/event/sandwich-turkey-trot-for-technology-5k-1-mile-runwalk/
LOCATION:James Knights Park\, 1001 N. Latham Street\, Sandwich\, IL\, 60548\, United States
CATEGORIES:2017-11 Results (November)
ORGANIZER;CN="Beth Volpp":MAILTO:bvolpp@kidsroe.org
GEO:41.6552736;-88.6126217
X-APPLE-STRUCTURED-LOCATION;VALUE=URI;X-ADDRESS=James Knights Park 1001 N. Latham Street Sandwich IL 60548 United States;X-APPLE-RADIUS=500;X-TITLE=1001 N. Latham Street:geo:-88.6126217,41.6552736
END:VEVENT
BEGIN:VEVENT
DTSTART;TZID=America/Chicago:20161112T090000
DTEND;TZID=America/Chicago:20161112T110000
DTSTAMP:20260423T225732
CREATED:20160521T014039Z
LAST-MODIFIED:20161112T213858Z
UID:10000261-1478941200-1478948400@www.racetime.info
SUMMARY:Sandwich Turkey Trot 5K
DESCRIPTION:Sandwich Turkey Trot 5K Age Group Results\n\nSandwich Turkey Trot 5K Overall Results\n\nSandwich Turkey Trot 1 Mile Overall Results
URL:https://www.racetime.info/event/sandwich-turkey-trot-5k/
LOCATION:James Knights Park\, 1001 N. Latham Street\, Sandwich\, IL\, 60548\, United States
CATEGORIES:2016-11 Results (November)
ORGANIZER;CN="Beth Volpp":MAILTO:bvolpp@kidsroe.org
GEO:41.6552736;-88.6126217
X-APPLE-STRUCTURED-LOCATION;VALUE=URI;X-ADDRESS=James Knights Park 1001 N. Latham Street Sandwich IL 60548 United States;X-APPLE-RADIUS=500;X-TITLE=1001 N. Latham Street:geo:-88.6126217,41.6552736
END:VEVENT
BEGIN:VEVENT
DTSTART;TZID=America/Chicago:20151114T090000
DTEND;TZID=America/Chicago:20151114T110000
DTSTAMP:20260423T225732
CREATED:20150604T185605Z
LAST-MODIFIED:20151114T190615Z
UID:10000247-1447491600-1447498800@www.racetime.info
SUMMARY:Sandwich Turkey Trot 5K & 1 Mile Run/Walk
DESCRIPTION:Sandwich Turkey Trot 1 Mile Results\n\nSandwich Turkey Trot 5K Age Group Results\n\nSandwich Turkey Trot 5K Overall Results
URL:https://www.racetime.info/event/sandwich-turkey-trot-5k-runwalk/
LOCATION:James Knights Park\, 1001 N. Latham Street\, Sandwich\, IL\, 60548\, United States
CATEGORIES:2015-11 Results (November)
ORGANIZER;CN="Beth Volpp":MAILTO:bvolpp@kidsroe.org
GEO:41.6552736;-88.6126217
X-APPLE-STRUCTURED-LOCATION;VALUE=URI;X-ADDRESS=James Knights Park 1001 N. Latham Street Sandwich IL 60548 United States;X-APPLE-RADIUS=500;X-TITLE=1001 N. Latham Street:geo:-88.6126217,41.6552736
END:VEVENT
END:VCALENDAR