BEGIN:VCALENDAR
VERSION:2.0
PRODID:-//Race Time - ECPv6.15.13//NONSGML v1.0//EN
CALSCALE:GREGORIAN
METHOD:PUBLISH
X-ORIGINAL-URL:https://www.racetime.info
X-WR-CALDESC:Events for Race Time
REFRESH-INTERVAL;VALUE=DURATION:PT1H
X-Robots-Tag:noindex
X-PUBLISHED-TTL:PT1H
BEGIN:VTIMEZONE
TZID:America/Chicago
BEGIN:DAYLIGHT
TZOFFSETFROM:-0600
TZOFFSETTO:-0500
TZNAME:CDT
DTSTART:20140309T080000
END:DAYLIGHT
BEGIN:STANDARD
TZOFFSETFROM:-0500
TZOFFSETTO:-0600
TZNAME:CST
DTSTART:20141102T070000
END:STANDARD
BEGIN:DAYLIGHT
TZOFFSETFROM:-0600
TZOFFSETTO:-0500
TZNAME:CDT
DTSTART:20150308T080000
END:DAYLIGHT
BEGIN:STANDARD
TZOFFSETFROM:-0500
TZOFFSETTO:-0600
TZNAME:CST
DTSTART:20151101T070000
END:STANDARD
BEGIN:DAYLIGHT
TZOFFSETFROM:-0600
TZOFFSETTO:-0500
TZNAME:CDT
DTSTART:20160313T080000
END:DAYLIGHT
BEGIN:STANDARD
TZOFFSETFROM:-0500
TZOFFSETTO:-0600
TZNAME:CST
DTSTART:20161106T070000
END:STANDARD
BEGIN:DAYLIGHT
TZOFFSETFROM:-0600
TZOFFSETTO:-0500
TZNAME:CDT
DTSTART:20170312T080000
END:DAYLIGHT
BEGIN:STANDARD
TZOFFSETFROM:-0500
TZOFFSETTO:-0600
TZNAME:CST
DTSTART:20171105T070000
END:STANDARD
BEGIN:DAYLIGHT
TZOFFSETFROM:-0600
TZOFFSETTO:-0500
TZNAME:CDT
DTSTART:20180311T080000
END:DAYLIGHT
BEGIN:STANDARD
TZOFFSETFROM:-0500
TZOFFSETTO:-0600
TZNAME:CST
DTSTART:20181104T070000
END:STANDARD
BEGIN:DAYLIGHT
TZOFFSETFROM:-0600
TZOFFSETTO:-0500
TZNAME:CDT
DTSTART:20190310T080000
END:DAYLIGHT
BEGIN:STANDARD
TZOFFSETFROM:-0500
TZOFFSETTO:-0600
TZNAME:CST
DTSTART:20191103T070000
END:STANDARD
BEGIN:DAYLIGHT
TZOFFSETFROM:-0600
TZOFFSETTO:-0500
TZNAME:CDT
DTSTART:20200308T080000
END:DAYLIGHT
BEGIN:STANDARD
TZOFFSETFROM:-0500
TZOFFSETTO:-0600
TZNAME:CST
DTSTART:20201101T070000
END:STANDARD
BEGIN:DAYLIGHT
TZOFFSETFROM:-0600
TZOFFSETTO:-0500
TZNAME:CDT
DTSTART:20210314T080000
END:DAYLIGHT
BEGIN:STANDARD
TZOFFSETFROM:-0500
TZOFFSETTO:-0600
TZNAME:CST
DTSTART:20211107T070000
END:STANDARD
BEGIN:DAYLIGHT
TZOFFSETFROM:-0600
TZOFFSETTO:-0500
TZNAME:CDT
DTSTART:20220313T080000
END:DAYLIGHT
BEGIN:STANDARD
TZOFFSETFROM:-0500
TZOFFSETTO:-0600
TZNAME:CST
DTSTART:20221106T070000
END:STANDARD
BEGIN:DAYLIGHT
TZOFFSETFROM:-0600
TZOFFSETTO:-0500
TZNAME:CDT
DTSTART:20230312T080000
END:DAYLIGHT
BEGIN:STANDARD
TZOFFSETFROM:-0500
TZOFFSETTO:-0600
TZNAME:CST
DTSTART:20231105T070000
END:STANDARD
BEGIN:DAYLIGHT
TZOFFSETFROM:-0600
TZOFFSETTO:-0500
TZNAME:CDT
DTSTART:20240310T080000
END:DAYLIGHT
BEGIN:STANDARD
TZOFFSETFROM:-0500
TZOFFSETTO:-0600
TZNAME:CST
DTSTART:20241103T070000
END:STANDARD
BEGIN:DAYLIGHT
TZOFFSETFROM:-0600
TZOFFSETTO:-0500
TZNAME:CDT
DTSTART:20250309T080000
END:DAYLIGHT
BEGIN:STANDARD
TZOFFSETFROM:-0500
TZOFFSETTO:-0600
TZNAME:CST
DTSTART:20251102T070000
END:STANDARD
BEGIN:DAYLIGHT
TZOFFSETFROM:-0600
TZOFFSETTO:-0500
TZNAME:CDT
DTSTART:20260308T080000
END:DAYLIGHT
BEGIN:STANDARD
TZOFFSETFROM:-0500
TZOFFSETTO:-0600
TZNAME:CST
DTSTART:20261101T070000
END:STANDARD
END:VTIMEZONE
BEGIN:VEVENT
DTSTART;TZID=America/Chicago:20250719T080000
DTEND;TZID=America/Chicago:20250719T100000
DTSTAMP:20260423T181749
CREATED:20250406T231327Z
LAST-MODIFIED:20250718T120452Z
UID:10002347-1752912000-1752919200@www.racetime.info
SUMMARY:Splashes & Dashes Youth Duathlon - Race Cancelled
DESCRIPTION:
URL:https://www.racetime.info/event/splashes-dashes-youth-duathlon/
LOCATION:James O’Breen Community Park\, Campton Hills Road & Peck Road\, St. Charles\, IL\, 60174\, United States
ORGANIZER;CN="Rosie Edwards":MAILTO:redwards@stcparks.org
GEO:41.9135899;-88.3601517
X-APPLE-STRUCTURED-LOCATION;VALUE=URI;X-ADDRESS=James O’Breen Community Park Campton Hills Road & Peck Road St. Charles IL 60174 United States;X-APPLE-RADIUS=500;X-TITLE=Campton Hills Road & Peck Road:geo:-88.3601517,41.9135899
END:VEVENT
BEGIN:VEVENT
DTSTART;TZID=America/Chicago:20240720T080000
DTEND;TZID=America/Chicago:20240720T100000
DTSTAMP:20260423T181749
CREATED:20170613T192906Z
LAST-MODIFIED:20240724T204237Z
UID:10001478-1721462400-1721469600@www.racetime.info
SUMMARY:Splashes\, Dashes & Spokes Youth Triathlon
DESCRIPTION:Splashes Dashes and Spokes\n\nSplashes Dashes and Spokes Overall No Bike
URL:https://www.racetime.info/event/copy-of-splashes-dashes-spokes-youth-triathlon-3/
LOCATION:James O’Breen Community Park\, Campton Hills Road & Peck Road\, St. Charles\, IL\, 60174\, United States
CATEGORIES:2024-07 Results (July)
ORGANIZER;CN="Rosie Edwards":MAILTO:redwards@stcparks.org
GEO:41.9135899;-88.3601517
X-APPLE-STRUCTURED-LOCATION;VALUE=URI;X-ADDRESS=James O’Breen Community Park Campton Hills Road & Peck Road St. Charles IL 60174 United States;X-APPLE-RADIUS=500;X-TITLE=Campton Hills Road & Peck Road:geo:-88.3601517,41.9135899
END:VEVENT
BEGIN:VEVENT
DTSTART;TZID=America/Chicago:20230715T080000
DTEND;TZID=America/Chicago:20230715T100000
DTSTAMP:20260423T181749
CREATED:20170613T192906Z
LAST-MODIFIED:20230715T155756Z
UID:10001477-1689408000-1689415200@www.racetime.info
SUMMARY:Splashes\, Dashes & Spokes Youth Triathlon
DESCRIPTION:Splashes*Dashes*Spokes Results by Age Group
URL:https://www.racetime.info/event/copy-of-splashes-dashes-spokes-youth-triathlon-2/
LOCATION:James O’Breen Community Park\, Campton Hills Road & Peck Road\, St. Charles\, IL\, 60174\, United States
CATEGORIES:2023-07 Results (July)
ORGANIZER;CN="Rosie Edwards":MAILTO:redwards@stcparks.org
GEO:41.9135899;-88.3601517
X-APPLE-STRUCTURED-LOCATION;VALUE=URI;X-ADDRESS=James O’Breen Community Park Campton Hills Road & Peck Road St. Charles IL 60174 United States;X-APPLE-RADIUS=500;X-TITLE=Campton Hills Road & Peck Road:geo:-88.3601517,41.9135899
END:VEVENT
BEGIN:VEVENT
DTSTART;TZID=America/Chicago:20220723T080000
DTEND;TZID=America/Chicago:20220723T100000
DTSTAMP:20260423T181749
CREATED:20170613T192906Z
LAST-MODIFIED:20220724T110623Z
UID:10001476-1658563200-1658570400@www.racetime.info
SUMMARY:Splashes\, Dashes & Spokes Youth Triathlon
DESCRIPTION:Event cancelled due to weather
URL:https://www.racetime.info/event/copy-of-splashes-dashes-spokes-youth-triathlon/
LOCATION:James O’Breen Community Park\, Campton Hills Road & Peck Road\, St. Charles\, IL\, 60174\, United States
ORGANIZER;CN="Rosie Edwards":MAILTO:redwards@stcparks.org
GEO:41.9135899;-88.3601517
X-APPLE-STRUCTURED-LOCATION;VALUE=URI;X-ADDRESS=James O’Breen Community Park Campton Hills Road & Peck Road St. Charles IL 60174 United States;X-APPLE-RADIUS=500;X-TITLE=Campton Hills Road & Peck Road:geo:-88.3601517,41.9135899
END:VEVENT
BEGIN:VEVENT
DTSTART;TZID=America/Chicago:20210724T080000
DTEND;TZID=America/Chicago:20210724T100000
DTSTAMP:20260423T181749
CREATED:20170613T192906Z
LAST-MODIFIED:20210724T175933Z
UID:10001475-1627113600-1627120800@www.racetime.info
SUMMARY:Splashes\, Dashes & Spokes Youth Triathlon
DESCRIPTION:Splash Dashes & Spokes Age Group Results
URL:https://www.racetime.info/event/splashes-dashes-spokes-youth-triathlon-4/
LOCATION:James O’Breen Community Park\, Campton Hills Road & Peck Road\, St. Charles\, IL\, 60174\, United States
CATEGORIES:2021-07 Results (July)
ORGANIZER;CN="Rosie Edwards":MAILTO:redwards@stcparks.org
GEO:41.9135899;-88.3601517
X-APPLE-STRUCTURED-LOCATION;VALUE=URI;X-ADDRESS=James O’Breen Community Park Campton Hills Road & Peck Road St. Charles IL 60174 United States;X-APPLE-RADIUS=500;X-TITLE=Campton Hills Road & Peck Road:geo:-88.3601517,41.9135899
END:VEVENT
BEGIN:VEVENT
DTSTART;TZID=America/Chicago:20190720T083000
DTEND;TZID=America/Chicago:20190720T103000
DTSTAMP:20260423T181749
CREATED:20170613T192906Z
LAST-MODIFIED:20190720T153245Z
UID:10001474-1563611400-1563618600@www.racetime.info
SUMMARY:Splashes\, Dashes & Spokes Youth Triathlon
DESCRIPTION:Splashes\, Dashes & Spokes Youth Triathlon
URL:https://www.racetime.info/event/splashes-dashes-spokes-youth-triathlon-3/
LOCATION:James O’Breen Community Park\, Campton Hills Road & Peck Road\, St. Charles\, IL\, 60174\, United States
CATEGORIES:2019-07 Results (July)
ORGANIZER;CN="Melissa Caine":MAILTO:mcaine@stcparks.org
GEO:41.9135899;-88.3601517
X-APPLE-STRUCTURED-LOCATION;VALUE=URI;X-ADDRESS=James O’Breen Community Park Campton Hills Road & Peck Road St. Charles IL 60174 United States;X-APPLE-RADIUS=500;X-TITLE=Campton Hills Road & Peck Road:geo:-88.3601517,41.9135899
END:VEVENT
BEGIN:VEVENT
DTSTART;TZID=America/Chicago:20180721T083000
DTEND;TZID=America/Chicago:20180721T103000
DTSTAMP:20260423T181749
CREATED:20170613T192906Z
LAST-MODIFIED:20180721T164455Z
UID:10001473-1532161800-1532169000@www.racetime.info
SUMMARY:Splashes\, Dashes & Spokes Youth Triathlon
DESCRIPTION:Splashes\, Dashes & Spokes Youth Tri Age Group Results
URL:https://www.racetime.info/event/splashes-dashes-spokes-youth-triathlon-2/
LOCATION:James O’Breen Community Park\, Campton Hills Road & Peck Road\, St. Charles\, IL\, 60174\, United States
CATEGORIES:2018-07 Results (July)
ORGANIZER;CN="Melissa Caine":MAILTO:mcaine@stcparks.org
GEO:41.9135899;-88.3601517
X-APPLE-STRUCTURED-LOCATION;VALUE=URI;X-ADDRESS=James O’Breen Community Park Campton Hills Road & Peck Road St. Charles IL 60174 United States;X-APPLE-RADIUS=500;X-TITLE=Campton Hills Road & Peck Road:geo:-88.3601517,41.9135899
END:VEVENT
BEGIN:VEVENT
DTSTART;TZID=America/Chicago:20170729T080000
DTEND;TZID=America/Chicago:20170729T170000
DTSTAMP:20260423T181749
CREATED:20170613T192906Z
LAST-MODIFIED:20170729T161750Z
UID:10001472-1501315200-1501347600@www.racetime.info
SUMMARY:Splashes\, Dashes & Spokes Youth Triathlon
DESCRIPTION:Splashes\, Dashes & Spokes Youth Triathlon
URL:https://www.racetime.info/event/splashes-dashes-spokes-youth-triathlon/
LOCATION:James O’Breen Community Park\, Campton Hills Road & Peck Road\, St. Charles\, IL\, 60174\, United States
CATEGORIES:2017-07 Results (July)
ORGANIZER;CN="Melissa Caine":MAILTO:mcaine@stcparks.org
GEO:41.9135899;-88.3601517
X-APPLE-STRUCTURED-LOCATION;VALUE=URI;X-ADDRESS=James O’Breen Community Park Campton Hills Road & Peck Road St. Charles IL 60174 United States;X-APPLE-RADIUS=500;X-TITLE=Campton Hills Road & Peck Road:geo:-88.3601517,41.9135899
END:VEVENT
BEGIN:VEVENT
DTSTART;TZID=America/Chicago:20160723T083000
DTEND;TZID=America/Chicago:20160723T110000
DTSTAMP:20260423T181749
CREATED:20160722T024849Z
LAST-MODIFIED:20160723T162614Z
UID:10000721-1469262600-1469271600@www.racetime.info
SUMMARY:Splashes\, Dashes and Spokes Youth Triathlon
DESCRIPTION:Splashes\, Dashes & Spokes Age Group Results
URL:https://www.racetime.info/event/splashes-dashes-and-spokes-youth-triathlon/
LOCATION:James O’Breen Community Park\, Campton Hills Road & Peck Road\, St. Charles\, IL\, 60174\, United States
CATEGORIES:2016-07 Results (July)
ORGANIZER;CN="Melissa Caine":MAILTO:mcaine@stcparks.org
GEO:41.9135899;-88.3601517
X-APPLE-STRUCTURED-LOCATION;VALUE=URI;X-ADDRESS=James O’Breen Community Park Campton Hills Road & Peck Road St. Charles IL 60174 United States;X-APPLE-RADIUS=500;X-TITLE=Campton Hills Road & Peck Road:geo:-88.3601517,41.9135899
END:VEVENT
BEGIN:VEVENT
DTSTART;TZID=America/Chicago:20150725T083000
DTEND;TZID=America/Chicago:20150725T113000
DTSTAMP:20260423T181749
CREATED:20150409T034517Z
LAST-MODIFIED:20150726T002336Z
UID:10000189-1437813000-1437823800@www.racetime.info
SUMMARY:Splashes\, Dashes & Spokes Kids Triathlon
DESCRIPTION:St. Charles Youth Triathlon
URL:https://www.racetime.info/event/splashes-and-dashes-kids-tri-2/
LOCATION:James O’Breen Community Park\, Campton Hills Road & Peck Road\, St. Charles\, IL\, 60174\, United States
CATEGORIES:2015-07 Results (July)
ORGANIZER;CN="Melissa Caine":MAILTO:mcaine@stcparks.org
GEO:41.9135899;-88.3601517
X-APPLE-STRUCTURED-LOCATION;VALUE=URI;X-ADDRESS=James O’Breen Community Park Campton Hills Road & Peck Road St. Charles IL 60174 United States;X-APPLE-RADIUS=500;X-TITLE=Campton Hills Road & Peck Road:geo:-88.3601517,41.9135899
END:VEVENT
END:VCALENDAR