BEGIN:VCALENDAR
VERSION:2.0
PRODID:-//Race Time - ECPv6.15.13//NONSGML v1.0//EN
CALSCALE:GREGORIAN
METHOD:PUBLISH
X-WR-CALNAME:Race Time
X-ORIGINAL-URL:https://www.racetime.info
X-WR-CALDESC:Events for Race Time
REFRESH-INTERVAL;VALUE=DURATION:PT1H
X-Robots-Tag:noindex
X-PUBLISHED-TTL:PT1H
BEGIN:VTIMEZONE
TZID:America/Chicago
BEGIN:DAYLIGHT
TZOFFSETFROM:-0600
TZOFFSETTO:-0500
TZNAME:CDT
DTSTART:20170312T080000
END:DAYLIGHT
BEGIN:STANDARD
TZOFFSETFROM:-0500
TZOFFSETTO:-0600
TZNAME:CST
DTSTART:20171105T070000
END:STANDARD
BEGIN:DAYLIGHT
TZOFFSETFROM:-0600
TZOFFSETTO:-0500
TZNAME:CDT
DTSTART:20180311T080000
END:DAYLIGHT
BEGIN:STANDARD
TZOFFSETFROM:-0500
TZOFFSETTO:-0600
TZNAME:CST
DTSTART:20181104T070000
END:STANDARD
BEGIN:DAYLIGHT
TZOFFSETFROM:-0600
TZOFFSETTO:-0500
TZNAME:CDT
DTSTART:20190310T080000
END:DAYLIGHT
BEGIN:STANDARD
TZOFFSETFROM:-0500
TZOFFSETTO:-0600
TZNAME:CST
DTSTART:20191103T070000
END:STANDARD
BEGIN:DAYLIGHT
TZOFFSETFROM:-0600
TZOFFSETTO:-0500
TZNAME:CDT
DTSTART:20200308T080000
END:DAYLIGHT
BEGIN:STANDARD
TZOFFSETFROM:-0500
TZOFFSETTO:-0600
TZNAME:CST
DTSTART:20201101T070000
END:STANDARD
BEGIN:DAYLIGHT
TZOFFSETFROM:-0600
TZOFFSETTO:-0500
TZNAME:CDT
DTSTART:20210314T080000
END:DAYLIGHT
BEGIN:STANDARD
TZOFFSETFROM:-0500
TZOFFSETTO:-0600
TZNAME:CST
DTSTART:20211107T070000
END:STANDARD
BEGIN:DAYLIGHT
TZOFFSETFROM:-0600
TZOFFSETTO:-0500
TZNAME:CDT
DTSTART:20220313T080000
END:DAYLIGHT
BEGIN:STANDARD
TZOFFSETFROM:-0500
TZOFFSETTO:-0600
TZNAME:CST
DTSTART:20221106T070000
END:STANDARD
BEGIN:DAYLIGHT
TZOFFSETFROM:-0600
TZOFFSETTO:-0500
TZNAME:CDT
DTSTART:20230312T080000
END:DAYLIGHT
BEGIN:STANDARD
TZOFFSETFROM:-0500
TZOFFSETTO:-0600
TZNAME:CST
DTSTART:20231105T070000
END:STANDARD
BEGIN:DAYLIGHT
TZOFFSETFROM:-0600
TZOFFSETTO:-0500
TZNAME:CDT
DTSTART:20240310T080000
END:DAYLIGHT
BEGIN:STANDARD
TZOFFSETFROM:-0500
TZOFFSETTO:-0600
TZNAME:CST
DTSTART:20241103T070000
END:STANDARD
BEGIN:DAYLIGHT
TZOFFSETFROM:-0600
TZOFFSETTO:-0500
TZNAME:CDT
DTSTART:20250309T080000
END:DAYLIGHT
BEGIN:STANDARD
TZOFFSETFROM:-0500
TZOFFSETTO:-0600
TZNAME:CST
DTSTART:20251102T070000
END:STANDARD
BEGIN:DAYLIGHT
TZOFFSETFROM:-0600
TZOFFSETTO:-0500
TZNAME:CDT
DTSTART:20260308T080000
END:DAYLIGHT
BEGIN:STANDARD
TZOFFSETFROM:-0500
TZOFFSETTO:-0600
TZNAME:CST
DTSTART:20261101T070000
END:STANDARD
END:VTIMEZONE
BEGIN:VEVENT
DTSTART;TZID=America/Chicago:20251018T080000
DTEND;TZID=America/Chicago:20251018T110000
DTSTAMP:20260424T011629
CREATED:20250828T145824Z
LAST-MODIFIED:20251018T200557Z
UID:10002433-1760774400-1760785200@www.racetime.info
SUMMARY:Run Stephenson County: 1/2 Marathon * 10K * 5K
DESCRIPTION:Run Stephenson 5K Age Group Results\n\nRun Stephenson 5K Overall Results\n\nRun Stephenson 10K Age Group Results\n\nRun Stephenson 10K Overall Results\n\nRun Stephenson Half Marathon Age Group Results\n\nRun Stephenson Half Marathon Overall Results
URL:https://www.racetime.info/event/run-stephenson-county-1-2-marathon-10k-5k-2/
LOCATION:Jane Addams Trail\, 2636 W. Fairview Road\, Freeport\, IL\, 61032\, United States
CATEGORIES:2025-10 Results (October)
ORGANIZER;CN="Matt Dougherty":MAILTO:mdougherty@freeportymca.org
GEO:42.3306438;-89.6661465
X-APPLE-STRUCTURED-LOCATION;VALUE=URI;X-ADDRESS=Jane Addams Trail 2636 W. Fairview Road Freeport IL 61032 United States;X-APPLE-RADIUS=500;X-TITLE=2636 W. Fairview Road:geo:-89.6661465,42.3306438
END:VEVENT
BEGIN:VEVENT
DTSTART;TZID=America/Chicago:20241019T080000
DTEND;TZID=America/Chicago:20241019T110000
DTSTAMP:20260424T011629
CREATED:20240813T123946Z
LAST-MODIFIED:20241019T200513Z
UID:10002222-1729324800-1729335600@www.racetime.info
SUMMARY:Run Stephenson County: 1/2 Marathon * 10K * 5K
DESCRIPTION:Pint to Pint 5K Age Group Results\n\nPint to Pint 5K Overall Results\n\nPint to Pint 10K Age Group Results\n\nPint to Pint 10K Overall Results\n\nPint to Pint Half Marathon Overall Results
URL:https://www.racetime.info/event/run-stephenson-county-1-2-marathon-10k-5k/
LOCATION:Jane Addams Trail\, 2636 W. Fairview Road\, Freeport\, IL\, 61032\, United States
CATEGORIES:2024-10 Results (October)
ORGANIZER;CN="Matt Dougherty":MAILTO:mdougherty@freeportymca.org
GEO:42.3306438;-89.6661465
X-APPLE-STRUCTURED-LOCATION;VALUE=URI;X-ADDRESS=Jane Addams Trail 2636 W. Fairview Road Freeport IL 61032 United States;X-APPLE-RADIUS=500;X-TITLE=2636 W. Fairview Road:geo:-89.6661465,42.3306438
END:VEVENT
BEGIN:VEVENT
DTSTART;TZID=America/Chicago:20180602T080000
DTEND;TZID=America/Chicago:20180602T093000
DTSTAMP:20260424T011629
CREATED:20180501T220934Z
LAST-MODIFIED:20180602T165024Z
UID:10000957-1527926400-1527931800@www.racetime.info
SUMMARY:Blue Nun 5K Run/Walk
DESCRIPTION:Blue Nun 5K Age Group Results\n\nBlue Nun 5K Overall Results
URL:https://www.racetime.info/event/blue-nun-5k-run-walk/
LOCATION:Jane Addams Trail\, 2636 W. Fairview Road\, Freeport\, IL\, 61032\, United States
CATEGORIES:2018-06 Results (June)
ORGANIZER;CN="Bob  Froelich":MAILTO:bob.froelich@gmail.com
GEO:42.3306438;-89.6661465
X-APPLE-STRUCTURED-LOCATION;VALUE=URI;X-ADDRESS=Jane Addams Trail 2636 W. Fairview Road Freeport IL 61032 United States;X-APPLE-RADIUS=500;X-TITLE=2636 W. Fairview Road:geo:-89.6661465,42.3306438
END:VEVENT
END:VCALENDAR