BEGIN:VCALENDAR
VERSION:2.0
PRODID:-//Race Time - ECPv6.15.13//NONSGML v1.0//EN
CALSCALE:GREGORIAN
METHOD:PUBLISH
X-WR-CALNAME:Race Time
X-ORIGINAL-URL:https://www.racetime.info
X-WR-CALDESC:Events for Race Time
REFRESH-INTERVAL;VALUE=DURATION:PT1H
X-Robots-Tag:noindex
X-PUBLISHED-TTL:PT1H
BEGIN:VTIMEZONE
TZID:America/Chicago
BEGIN:DAYLIGHT
TZOFFSETFROM:-0600
TZOFFSETTO:-0500
TZNAME:CDT
DTSTART:20160313T080000
END:DAYLIGHT
BEGIN:STANDARD
TZOFFSETFROM:-0500
TZOFFSETTO:-0600
TZNAME:CST
DTSTART:20161106T070000
END:STANDARD
BEGIN:DAYLIGHT
TZOFFSETFROM:-0600
TZOFFSETTO:-0500
TZNAME:CDT
DTSTART:20170312T080000
END:DAYLIGHT
BEGIN:STANDARD
TZOFFSETFROM:-0500
TZOFFSETTO:-0600
TZNAME:CST
DTSTART:20171105T070000
END:STANDARD
BEGIN:DAYLIGHT
TZOFFSETFROM:-0600
TZOFFSETTO:-0500
TZNAME:CDT
DTSTART:20180311T080000
END:DAYLIGHT
BEGIN:STANDARD
TZOFFSETFROM:-0500
TZOFFSETTO:-0600
TZNAME:CST
DTSTART:20181104T070000
END:STANDARD
END:VTIMEZONE
BEGIN:VEVENT
DTSTART;TZID=America/Chicago:20170910T080000
DTEND;TZID=America/Chicago:20170910T100000
DTSTAMP:20260424T041325
CREATED:20170617T010557Z
LAST-MODIFIED:20170910T194206Z
UID:10000659-1505030400-1505037600@www.racetime.info
SUMMARY:Dare to be Rare - Race For Emilio 5K Run/Walk
DESCRIPTION:Race for Emilio 5K Run Age Group Results\n\nRace for Emilio 5K Run Overall Results
URL:https://www.racetime.info/event/dare-to-be-rare-race-for-emilio-5k-runwalk/
LOCATION:John Husar I & M Canal\, Near Archer Road and Willow Springs Boulevard\, Willow Springs\, IL\, United States
CATEGORIES:2017-09 Results (September)
ORGANIZER;CN="Monica Rosas":MAILTO:mrosas.motherhood@gmail.com
GEO:41.7319964;-87.8771546
X-APPLE-STRUCTURED-LOCATION;VALUE=URI;X-ADDRESS=John Husar I & M Canal Near Archer Road and Willow Springs Boulevard Willow Springs IL United States;X-APPLE-RADIUS=500;X-TITLE=Near Archer Road and Willow Springs Boulevard:geo:-87.8771546,41.7319964
END:VEVENT
END:VCALENDAR