BEGIN:VCALENDAR
VERSION:2.0
PRODID:-//Race Time - ECPv6.15.13//NONSGML v1.0//EN
CALSCALE:GREGORIAN
METHOD:PUBLISH
X-WR-CALNAME:Race Time
X-ORIGINAL-URL:https://www.racetime.info
X-WR-CALDESC:Events for Race Time
REFRESH-INTERVAL;VALUE=DURATION:PT1H
X-Robots-Tag:noindex
X-PUBLISHED-TTL:PT1H
BEGIN:VTIMEZONE
TZID:America/Chicago
BEGIN:DAYLIGHT
TZOFFSETFROM:-0600
TZOFFSETTO:-0500
TZNAME:CDT
DTSTART:20200308T080000
END:DAYLIGHT
BEGIN:STANDARD
TZOFFSETFROM:-0500
TZOFFSETTO:-0600
TZNAME:CST
DTSTART:20201101T070000
END:STANDARD
BEGIN:DAYLIGHT
TZOFFSETFROM:-0600
TZOFFSETTO:-0500
TZNAME:CDT
DTSTART:20210314T080000
END:DAYLIGHT
BEGIN:STANDARD
TZOFFSETFROM:-0500
TZOFFSETTO:-0600
TZNAME:CST
DTSTART:20211107T070000
END:STANDARD
BEGIN:DAYLIGHT
TZOFFSETFROM:-0600
TZOFFSETTO:-0500
TZNAME:CDT
DTSTART:20220313T080000
END:DAYLIGHT
BEGIN:STANDARD
TZOFFSETFROM:-0500
TZOFFSETTO:-0600
TZNAME:CST
DTSTART:20221106T070000
END:STANDARD
BEGIN:DAYLIGHT
TZOFFSETFROM:-0600
TZOFFSETTO:-0500
TZNAME:CDT
DTSTART:20230312T080000
END:DAYLIGHT
BEGIN:STANDARD
TZOFFSETFROM:-0500
TZOFFSETTO:-0600
TZNAME:CST
DTSTART:20231105T070000
END:STANDARD
BEGIN:DAYLIGHT
TZOFFSETFROM:-0600
TZOFFSETTO:-0500
TZNAME:CDT
DTSTART:20240310T080000
END:DAYLIGHT
BEGIN:STANDARD
TZOFFSETFROM:-0500
TZOFFSETTO:-0600
TZNAME:CST
DTSTART:20241103T070000
END:STANDARD
END:VTIMEZONE
BEGIN:VEVENT
DTSTART;TZID=America/Chicago:20230828T160000
DTEND;TZID=America/Chicago:20230828T180000
DTSTAMP:20260424T041409
CREATED:20210831T024827Z
LAST-MODIFIED:20230829T022330Z
UID:10002009-1693238400-1693245600@www.racetime.info
SUMMARY:Joliet West XC Meet
DESCRIPTION:Joliet West Girls 5 and 6 Overall\n\nJoliet West Boys 5 and 6 Overall\n\nJoliet West Girls 7 and 8 Overall\n\nJoliet West Boys 7 and 8 Overall\n\nJoliet West Girls High School Overall\n\nJoliet West Boys High School Overall
URL:https://www.racetime.info/event/copy-of-joliet-west-xc-meet/
LOCATION:Joliet West High School\, Joliet\, IL\, United States
CATEGORIES:2023 Cross Country Results
END:VEVENT
BEGIN:VEVENT
DTSTART;TZID=America/Chicago:20210830T163000
DTEND;TZID=America/Chicago:20210830T190000
DTSTAMP:20260424T041409
CREATED:20210831T024827Z
LAST-MODIFIED:20210831T175303Z
UID:10002008-1630341000-1630350000@www.racetime.info
SUMMARY:Joliet West XC Meet
DESCRIPTION:Joliet West Girls 5th and 6th Overall Results\n\nJoliet West Girls 5th and 6th Team Results\n\nJoliet West Boys 5th and 6th Overall Results\n\nJoliet West Boys 5th and 6th Team Results\n\nJoliet West Girls 7th and 8th Overall Results\n\nJoliet West Girls 7th and 8th Team Results\n\nJoliet West Boys 7th and 8th Overall Results\n\nJoliet West Boys 7th and 8th Team Results\n\nJoliet West Girls High School Overall Results\n\nJoliet West Girls High School Team Results\n\nJoliet West Boys High School Overall Results\n\nJoliet West Boys High School Team Results
URL:https://www.racetime.info/event/joliet-west-xc-meet/
LOCATION:Joliet West High School\, Joliet\, IL\, United States
CATEGORIES:2021 Cross Country Results
END:VEVENT
END:VCALENDAR