BEGIN:VCALENDAR
VERSION:2.0
PRODID:-//Race Time - ECPv6.15.13//NONSGML v1.0//EN
CALSCALE:GREGORIAN
METHOD:PUBLISH
X-WR-CALNAME:Race Time
X-ORIGINAL-URL:https://www.racetime.info
X-WR-CALDESC:Events for Race Time
REFRESH-INTERVAL;VALUE=DURATION:PT1H
X-Robots-Tag:noindex
X-PUBLISHED-TTL:PT1H
BEGIN:VTIMEZONE
TZID:America/Chicago
BEGIN:DAYLIGHT
TZOFFSETFROM:-0600
TZOFFSETTO:-0500
TZNAME:CDT
DTSTART:20140309T080000
END:DAYLIGHT
BEGIN:STANDARD
TZOFFSETFROM:-0500
TZOFFSETTO:-0600
TZNAME:CST
DTSTART:20141102T070000
END:STANDARD
BEGIN:DAYLIGHT
TZOFFSETFROM:-0600
TZOFFSETTO:-0500
TZNAME:CDT
DTSTART:20150308T080000
END:DAYLIGHT
BEGIN:STANDARD
TZOFFSETFROM:-0500
TZOFFSETTO:-0600
TZNAME:CST
DTSTART:20151101T070000
END:STANDARD
BEGIN:DAYLIGHT
TZOFFSETFROM:-0600
TZOFFSETTO:-0500
TZNAME:CDT
DTSTART:20160313T080000
END:DAYLIGHT
BEGIN:STANDARD
TZOFFSETFROM:-0500
TZOFFSETTO:-0600
TZNAME:CST
DTSTART:20161106T070000
END:STANDARD
BEGIN:DAYLIGHT
TZOFFSETFROM:-0600
TZOFFSETTO:-0500
TZNAME:CDT
DTSTART:20170312T080000
END:DAYLIGHT
BEGIN:STANDARD
TZOFFSETFROM:-0500
TZOFFSETTO:-0600
TZNAME:CST
DTSTART:20171105T070000
END:STANDARD
END:VTIMEZONE
BEGIN:VEVENT
DTSTART;TZID=America/Chicago:20160507T083000
DTEND;TZID=America/Chicago:20160507T110000
DTSTAMP:20260423T224015
CREATED:20160112T123056Z
LAST-MODIFIED:20160507T234501Z
UID:10000480-1462609800-1462618800@www.racetime.info
SUMMARY:Hope For Haitian's 5th Annual 5K Walk/Run For Education
DESCRIPTION:Hope For Haitians 5K Age Group Results\n\nHope For Haitians 5K Overall Results
URL:https://www.racetime.info/event/hope-for-haitians-5th-annual-5k-walkrun-for-education/
LOCATION:Kane County Courthouse\, 100 S. Third Street\, Geneva\, IL\, 60134\, United States
CATEGORIES:2016-05 Results (May)
ORGANIZER;CN="Chris Weickert":MAILTO:chris@hopeforhaitians.org
GEO:41.886459;-88.308982
X-APPLE-STRUCTURED-LOCATION;VALUE=URI;X-ADDRESS=Kane County Courthouse 100 S. Third Street Geneva IL 60134 United States;X-APPLE-RADIUS=500;X-TITLE=100 S. Third Street:geo:-88.308982,41.886459
END:VEVENT
BEGIN:VEVENT
DTSTART;TZID=America/Chicago:20150926T070000
DTEND;TZID=America/Chicago:20150926T110000
DTSTAMP:20260423T224015
CREATED:20150610T001257Z
LAST-MODIFIED:20150610T002650Z
UID:10000060-1443250800-1443265200@www.racetime.info
SUMMARY:Trick or Trot 1/4 Marathon\, 5K Run\, 1 Mile and Youth Dash
DESCRIPTION:
URL:https://www.racetime.info/event/trick-or-trot-14-marathon-5k-run-1-mile-and-youth-dash/
LOCATION:Kane County Courthouse\, 100 S. Third Street\, Geneva\, IL\, 60134\, United States
ORGANIZER;CN="Mary Agnes Zellmer":MAILTO:maz@chicagoracemanagement.com
GEO:41.886459;-88.308982
X-APPLE-STRUCTURED-LOCATION;VALUE=URI;X-ADDRESS=Kane County Courthouse 100 S. Third Street Geneva IL 60134 United States;X-APPLE-RADIUS=500;X-TITLE=100 S. Third Street:geo:-88.308982,41.886459
END:VEVENT
END:VCALENDAR