BEGIN:VCALENDAR
VERSION:2.0
PRODID:-//Race Time - ECPv6.15.13//NONSGML v1.0//EN
CALSCALE:GREGORIAN
METHOD:PUBLISH
X-ORIGINAL-URL:https://www.racetime.info
X-WR-CALDESC:Events for Race Time
REFRESH-INTERVAL;VALUE=DURATION:PT1H
X-Robots-Tag:noindex
X-PUBLISHED-TTL:PT1H
BEGIN:VTIMEZONE
TZID:America/Chicago
BEGIN:DAYLIGHT
TZOFFSETFROM:-0600
TZOFFSETTO:-0500
TZNAME:CDT
DTSTART:20140309T080000
END:DAYLIGHT
BEGIN:STANDARD
TZOFFSETFROM:-0500
TZOFFSETTO:-0600
TZNAME:CST
DTSTART:20141102T070000
END:STANDARD
BEGIN:DAYLIGHT
TZOFFSETFROM:-0600
TZOFFSETTO:-0500
TZNAME:CDT
DTSTART:20150308T080000
END:DAYLIGHT
BEGIN:STANDARD
TZOFFSETFROM:-0500
TZOFFSETTO:-0600
TZNAME:CST
DTSTART:20151101T070000
END:STANDARD
BEGIN:DAYLIGHT
TZOFFSETFROM:-0600
TZOFFSETTO:-0500
TZNAME:CDT
DTSTART:20160313T080000
END:DAYLIGHT
BEGIN:STANDARD
TZOFFSETFROM:-0500
TZOFFSETTO:-0600
TZNAME:CST
DTSTART:20161106T070000
END:STANDARD
BEGIN:DAYLIGHT
TZOFFSETFROM:-0600
TZOFFSETTO:-0500
TZNAME:CDT
DTSTART:20170312T080000
END:DAYLIGHT
BEGIN:STANDARD
TZOFFSETFROM:-0500
TZOFFSETTO:-0600
TZNAME:CST
DTSTART:20171105T070000
END:STANDARD
BEGIN:DAYLIGHT
TZOFFSETFROM:-0600
TZOFFSETTO:-0500
TZNAME:CDT
DTSTART:20180311T080000
END:DAYLIGHT
BEGIN:STANDARD
TZOFFSETFROM:-0500
TZOFFSETTO:-0600
TZNAME:CST
DTSTART:20181104T070000
END:STANDARD
BEGIN:DAYLIGHT
TZOFFSETFROM:-0600
TZOFFSETTO:-0500
TZNAME:CDT
DTSTART:20190310T080000
END:DAYLIGHT
BEGIN:STANDARD
TZOFFSETFROM:-0500
TZOFFSETTO:-0600
TZNAME:CST
DTSTART:20191103T070000
END:STANDARD
BEGIN:DAYLIGHT
TZOFFSETFROM:-0600
TZOFFSETTO:-0500
TZNAME:CDT
DTSTART:20200308T080000
END:DAYLIGHT
BEGIN:STANDARD
TZOFFSETFROM:-0500
TZOFFSETTO:-0600
TZNAME:CST
DTSTART:20201101T070000
END:STANDARD
BEGIN:DAYLIGHT
TZOFFSETFROM:-0600
TZOFFSETTO:-0500
TZNAME:CDT
DTSTART:20210314T080000
END:DAYLIGHT
BEGIN:STANDARD
TZOFFSETFROM:-0500
TZOFFSETTO:-0600
TZNAME:CST
DTSTART:20211107T070000
END:STANDARD
BEGIN:DAYLIGHT
TZOFFSETFROM:-0600
TZOFFSETTO:-0500
TZNAME:CDT
DTSTART:20220313T080000
END:DAYLIGHT
BEGIN:STANDARD
TZOFFSETFROM:-0500
TZOFFSETTO:-0600
TZNAME:CST
DTSTART:20221106T070000
END:STANDARD
BEGIN:DAYLIGHT
TZOFFSETFROM:-0600
TZOFFSETTO:-0500
TZNAME:CDT
DTSTART:20230312T080000
END:DAYLIGHT
BEGIN:STANDARD
TZOFFSETFROM:-0500
TZOFFSETTO:-0600
TZNAME:CST
DTSTART:20231105T070000
END:STANDARD
BEGIN:DAYLIGHT
TZOFFSETFROM:-0600
TZOFFSETTO:-0500
TZNAME:CDT
DTSTART:20240310T080000
END:DAYLIGHT
BEGIN:STANDARD
TZOFFSETFROM:-0500
TZOFFSETTO:-0600
TZNAME:CST
DTSTART:20241103T070000
END:STANDARD
BEGIN:DAYLIGHT
TZOFFSETFROM:-0600
TZOFFSETTO:-0500
TZNAME:CDT
DTSTART:20250309T080000
END:DAYLIGHT
BEGIN:STANDARD
TZOFFSETFROM:-0500
TZOFFSETTO:-0600
TZNAME:CST
DTSTART:20251102T070000
END:STANDARD
BEGIN:DAYLIGHT
TZOFFSETFROM:-0600
TZOFFSETTO:-0500
TZNAME:CDT
DTSTART:20260308T080000
END:DAYLIGHT
BEGIN:STANDARD
TZOFFSETFROM:-0500
TZOFFSETTO:-0600
TZNAME:CST
DTSTART:20261101T070000
END:STANDARD
END:VTIMEZONE
BEGIN:VEVENT
DTSTART;TZID=America/Chicago:20250913T090000
DTEND;TZID=America/Chicago:20250913T110000
DTSTAMP:20260424T024802
CREATED:20250819T112630Z
LAST-MODIFIED:20250914T000701Z
UID:10002418-1757754000-1757761200@www.racetime.info
SUMMARY:WE GO Quad Cross Country Meet
DESCRIPTION:West Chicago Varsity Girls Overall Results\n\nWest Chicago Varsity Girls Team Results\n\nWest Chicago Varsity Boys Overall Results\n\nWest Chicago Varsity Boys Team Results
URL:https://www.racetime.info/event/we-go-cross-country-meet-3/
LOCATION:Kress Creek Farm\, 30W150 Wilson Road\, West Chicago\, IL\, 60185\, United States
CATEGORIES:2025 Cross Country Results
ORGANIZER;CN="Dave Saynor":MAILTO:dsaynor@d94.org
GEO:41.856453;-88.2043276
X-APPLE-STRUCTURED-LOCATION;VALUE=URI;X-ADDRESS=Kress Creek Farm 30W150 Wilson Road West Chicago IL 60185 United States;X-APPLE-RADIUS=500;X-TITLE=30W150 Wilson Road:geo:-88.2043276,41.856453
END:VEVENT
BEGIN:VEVENT
DTSTART;TZID=America/Chicago:20240914T090000
DTEND;TZID=America/Chicago:20240914T100000
DTSTAMP:20260424T024802
CREATED:20150925T015422Z
LAST-MODIFIED:20240914T153209Z
UID:10000440-1726304400-1726308000@www.racetime.info
SUMMARY:West Chicago Cross Country Meet
DESCRIPTION:West Chicago Overall Results\n\nWest Chicago Team Results
URL:https://www.racetime.info/event/copy-of-west-chicago-ihsa-regional-cross-country-meet/
LOCATION:Kress Creek Farm\, 30W150 Wilson Road\, West Chicago\, IL\, 60185\, United States
CATEGORIES:2024 Cross Country Results
ORGANIZER;CN="Dave Saynor":MAILTO:dsaynor@d94.org
GEO:41.856453;-88.2043276
X-APPLE-STRUCTURED-LOCATION;VALUE=URI;X-ADDRESS=Kress Creek Farm 30W150 Wilson Road West Chicago IL 60185 United States;X-APPLE-RADIUS=500;X-TITLE=30W150 Wilson Road:geo:-88.2043276,41.856453
END:VEVENT
BEGIN:VEVENT
DTSTART;TZID=America/Chicago:20191012T090000
DTEND;TZID=America/Chicago:20191012T110000
DTSTAMP:20260424T024802
CREATED:20180912T122930Z
LAST-MODIFIED:20191012T204827Z
UID:10001014-1570870800-1570878000@www.racetime.info
SUMMARY:WE GO Cross Country Meet
DESCRIPTION:WE GO Human Race Varsity Girls Overall Results\n\nWE GO Human Race Varsity Girls Team Results\n\nWE GO Human Race Varsity Boys Overall Results\n\nWE GO Human Race Varsity Boys Team Results\n\nWE GO Human Race Open Girls Overall Results\n\nWE GO Human Race Open Girls Team Results\n\nWE GO Human Race Open Boys Overall Results\n\nWE GO Human Race Open Boys Team Results
URL:https://www.racetime.info/event/we-go-cross-country-meet-2/
LOCATION:Kress Creek Farm\, 30W150 Wilson Road\, West Chicago\, IL\, 60185\, United States
CATEGORIES:2019 Cross Country Results
ORGANIZER;CN="Dave Saynor":MAILTO:dsaynor@d94.org
GEO:41.856453;-88.2043276
X-APPLE-STRUCTURED-LOCATION;VALUE=URI;X-ADDRESS=Kress Creek Farm 30W150 Wilson Road West Chicago IL 60185 United States;X-APPLE-RADIUS=500;X-TITLE=30W150 Wilson Road:geo:-88.2043276,41.856453
END:VEVENT
BEGIN:VEVENT
DTSTART;TZID=America/Chicago:20181006T090000
DTEND;TZID=America/Chicago:20181006T110000
DTSTAMP:20260424T024802
CREATED:20180912T122930Z
LAST-MODIFIED:20181006T174557Z
UID:10001024-1538816400-1538823600@www.racetime.info
SUMMARY:WE GO Cross Country Meet
DESCRIPTION:WE GO Human Race Girls Varsity Overall Results\n\nWE GO Human Race Girls Varsity Team Results\n\nWE GO Human Race Boys Varsity Overall Results\n\nWE GO Human Race Boys Varsity Team Results\n\nWE GO Human Race Girls and Boys Open Overall Results\n\nWE GO Human Race Girls Open Team Results\n\nWE GO Human Race Boys Open Team Results
URL:https://www.racetime.info/event/we-go-cross-country-meet/
LOCATION:Kress Creek Farm\, 30W150 Wilson Road\, West Chicago\, IL\, 60185\, United States
CATEGORIES:2018 Cross Country Results
ORGANIZER;CN="Dave Saynor":MAILTO:dsaynor@d94.org
GEO:41.856453;-88.2043276
X-APPLE-STRUCTURED-LOCATION;VALUE=URI;X-ADDRESS=Kress Creek Farm 30W150 Wilson Road West Chicago IL 60185 United States;X-APPLE-RADIUS=500;X-TITLE=30W150 Wilson Road:geo:-88.2043276,41.856453
END:VEVENT
BEGIN:VEVENT
DTSTART;TZID=America/Chicago:20170930T090000
DTEND;TZID=America/Chicago:20170930T110000
DTSTAMP:20260424T024802
CREATED:20170829T190042Z
LAST-MODIFIED:20170930T184225Z
UID:10001614-1506762000-1506769200@www.racetime.info
SUMMARY:Wheaton Academy's Warrior Classic Cross Country Meet
DESCRIPTION:WA Warrior Varsity Girls Overall Results\n\nWA Warrior Varsity Girls Team Results\n\nWA Warrior Varsity Boys Overall Results\n\nWA Warrior Varsity Boys Team Results\n\nWA Warrior Open Co-Ed Overall Results
URL:https://www.racetime.info/event/wheaton-academys-warrior-classic-cross-country-meet/
LOCATION:Kress Creek Farm\, 30W150 Wilson Road\, West Chicago\, IL\, 60185\, United States
CATEGORIES:2017 Cross Country Results
ORGANIZER;CN="Chris Felinski":MAILTO:chris.felinski@wheatonacademy.org
GEO:41.856453;-88.2043276
X-APPLE-STRUCTURED-LOCATION;VALUE=URI;X-ADDRESS=Kress Creek Farm 30W150 Wilson Road West Chicago IL 60185 United States;X-APPLE-RADIUS=500;X-TITLE=30W150 Wilson Road:geo:-88.2043276,41.856453
END:VEVENT
BEGIN:VEVENT
DTSTART;TZID=America/Chicago:20151031T090000
DTEND;TZID=America/Chicago:20151031T110000
DTSTAMP:20260424T024802
CREATED:20150925T015650Z
LAST-MODIFIED:20151031T174734Z
UID:10000442-1446282000-1446289200@www.racetime.info
SUMMARY:IHSA Sectional - Wheaton Academy
DESCRIPTION:Wheaton Academy IHSA Sectional Girls Overall Results\n\nWheaton Academy IHSA Sectional Girls Team Results\n\nWheaton Academy IHSA Sectional Boys Overall Results\n\nWheaton Academy IHSA Sectional Boys Team Results
URL:https://www.racetime.info/event/ihsa-sectional-wheaton-academy/
LOCATION:Kress Creek Farm\, 30W150 Wilson Road\, West Chicago\, IL\, 60185\, United States
CATEGORIES:2015 Cross Country Results
ORGANIZER;CN="Chris Felinski":MAILTO:chris.felinski@wheatonacademy.org
GEO:41.856453;-88.2043276
X-APPLE-STRUCTURED-LOCATION;VALUE=URI;X-ADDRESS=Kress Creek Farm 30W150 Wilson Road West Chicago IL 60185 United States;X-APPLE-RADIUS=500;X-TITLE=30W150 Wilson Road:geo:-88.2043276,41.856453
END:VEVENT
BEGIN:VEVENT
DTSTART;TZID=America/Chicago:20151024T090000
DTEND;TZID=America/Chicago:20151024T110000
DTSTAMP:20260424T024802
CREATED:20150925T015422Z
LAST-MODIFIED:20151024T205033Z
UID:10000439-1445677200-1445684400@www.racetime.info
SUMMARY:West Chicago IHSA Regional Cross Country Meet
DESCRIPTION:West Chicago IHSA Class 3A Regional Girls Overall Results\n\nWest Chicago IHSA Class 3A Regional Girls Team Results\n\nWest Chicago IHSA Class 3A Regional Boys Overall Results\n\nWest Chicago IHSA Class 3A Regional Boys Team Results
URL:https://www.racetime.info/event/ihsa-regional-cross-country-meet/
LOCATION:Kress Creek Farm\, 30W150 Wilson Road\, West Chicago\, IL\, 60185\, United States
CATEGORIES:2015 Cross Country Results
ORGANIZER;CN="Dave Saynor":MAILTO:dsaynor@d94.org
GEO:41.856453;-88.2043276
X-APPLE-STRUCTURED-LOCATION;VALUE=URI;X-ADDRESS=Kress Creek Farm 30W150 Wilson Road West Chicago IL 60185 United States;X-APPLE-RADIUS=500;X-TITLE=30W150 Wilson Road:geo:-88.2043276,41.856453
END:VEVENT
BEGIN:VEVENT
DTSTART;TZID=America/Chicago:20151009T160000
DTEND;TZID=America/Chicago:20151009T180000
DTSTAMP:20260424T024802
CREATED:20150925T011336Z
LAST-MODIFIED:20151010T001714Z
UID:10000147-1444406400-1444413600@www.racetime.info
SUMMARY:West Chicago Race For Awareness Cross Country Meet
DESCRIPTION:WC Race For Awareness Varsity Boys Overall Results\n\nWC Race For Awareness Varsity Boys Team Results\n\nWC Race For Awareness Varsity Girls Overall Results\n\nWC Race For Awareness Varsity Girls Team Results\n\nWC Race For Awareness Open Boys & Girls Overall Results
URL:https://www.racetime.info/event/west-chicago-race-for-awareness-cross-country-meet/
LOCATION:Kress Creek Farm\, 30W150 Wilson Road\, West Chicago\, IL\, 60185\, United States
CATEGORIES:2015 Cross Country Results
ORGANIZER;CN="Dave Saynor":MAILTO:dsaynor@d94.org
GEO:41.856453;-88.2043276
X-APPLE-STRUCTURED-LOCATION;VALUE=URI;X-ADDRESS=Kress Creek Farm 30W150 Wilson Road West Chicago IL 60185 United States;X-APPLE-RADIUS=500;X-TITLE=30W150 Wilson Road:geo:-88.2043276,41.856453
END:VEVENT
BEGIN:VEVENT
DTSTART;TZID=America/Chicago:20151003T080000
DTEND;TZID=America/Chicago:20151003T110000
DTSTAMP:20260424T024802
CREATED:20150924T160632Z
LAST-MODIFIED:20151004T025236Z
UID:10000153-1443859200-1443870000@www.racetime.info
SUMMARY:10th Annual Wheaton Academy Warrior Classic XC
DESCRIPTION:Warrior Girls Varsity Overall\n\nWarrior Girls Varsity Team Results\n\nWarrior Boys Varsity Overall\n\nWarrior Boys Varsity Team Results\nWarrior Co-Ed Overall Male and Female
URL:https://www.racetime.info/event/10th-annual-wheaton-academy-warrior-classic-xc/
LOCATION:Kress Creek Farm\, 30W150 Wilson Road\, West Chicago\, IL\, 60185\, United States
CATEGORIES:2015 Cross Country Results
ORGANIZER;CN="Chris Felinski":MAILTO:chris.felinski@wheatonacademy.org
GEO:41.856453;-88.2043276
X-APPLE-STRUCTURED-LOCATION;VALUE=URI;X-ADDRESS=Kress Creek Farm 30W150 Wilson Road West Chicago IL 60185 United States;X-APPLE-RADIUS=500;X-TITLE=30W150 Wilson Road:geo:-88.2043276,41.856453
END:VEVENT
BEGIN:VEVENT
DTSTART;TZID=America/Chicago:20150627T080000
DTEND;TZID=America/Chicago:20150627T100000
DTSTAMP:20260424T024802
CREATED:20150526T004612Z
LAST-MODIFIED:20150627T153533Z
UID:10000044-1435392000-1435399200@www.racetime.info
SUMMARY:West Chicago Cross Country Reunion 3 Mile Run
DESCRIPTION:WE GO Reunion 5K Overall Results
URL:https://www.racetime.info/event/west-chicago-cross-country-reunion-3-mile-run/
LOCATION:Kress Creek Farm\, 30W150 Wilson Road\, West Chicago\, IL\, 60185\, United States
CATEGORIES:2015-06 Results (June)
ORGANIZER;CN="Robert Maxson":MAILTO:rmaxson@d94.org
GEO:41.856453;-88.2043276
X-APPLE-STRUCTURED-LOCATION;VALUE=URI;X-ADDRESS=Kress Creek Farm 30W150 Wilson Road West Chicago IL 60185 United States;X-APPLE-RADIUS=500;X-TITLE=30W150 Wilson Road:geo:-88.2043276,41.856453
END:VEVENT
END:VCALENDAR