BEGIN:VCALENDAR
VERSION:2.0
PRODID:-//Race Time - ECPv6.15.13//NONSGML v1.0//EN
CALSCALE:GREGORIAN
METHOD:PUBLISH
X-ORIGINAL-URL:https://www.racetime.info
X-WR-CALDESC:Events for Race Time
REFRESH-INTERVAL;VALUE=DURATION:PT1H
X-Robots-Tag:noindex
X-PUBLISHED-TTL:PT1H
BEGIN:VTIMEZONE
TZID:America/Chicago
BEGIN:DAYLIGHT
TZOFFSETFROM:-0600
TZOFFSETTO:-0500
TZNAME:CDT
DTSTART:20150308T080000
END:DAYLIGHT
BEGIN:STANDARD
TZOFFSETFROM:-0500
TZOFFSETTO:-0600
TZNAME:CST
DTSTART:20151101T070000
END:STANDARD
BEGIN:DAYLIGHT
TZOFFSETFROM:-0600
TZOFFSETTO:-0500
TZNAME:CDT
DTSTART:20160313T080000
END:DAYLIGHT
BEGIN:STANDARD
TZOFFSETFROM:-0500
TZOFFSETTO:-0600
TZNAME:CST
DTSTART:20161106T070000
END:STANDARD
BEGIN:DAYLIGHT
TZOFFSETFROM:-0600
TZOFFSETTO:-0500
TZNAME:CDT
DTSTART:20170312T080000
END:DAYLIGHT
BEGIN:STANDARD
TZOFFSETFROM:-0500
TZOFFSETTO:-0600
TZNAME:CST
DTSTART:20171105T070000
END:STANDARD
BEGIN:DAYLIGHT
TZOFFSETFROM:-0600
TZOFFSETTO:-0500
TZNAME:CDT
DTSTART:20180311T080000
END:DAYLIGHT
BEGIN:STANDARD
TZOFFSETFROM:-0500
TZOFFSETTO:-0600
TZNAME:CST
DTSTART:20181104T070000
END:STANDARD
BEGIN:DAYLIGHT
TZOFFSETFROM:-0600
TZOFFSETTO:-0500
TZNAME:CDT
DTSTART:20190310T080000
END:DAYLIGHT
BEGIN:STANDARD
TZOFFSETFROM:-0500
TZOFFSETTO:-0600
TZNAME:CST
DTSTART:20191103T070000
END:STANDARD
BEGIN:DAYLIGHT
TZOFFSETFROM:-0600
TZOFFSETTO:-0500
TZNAME:CDT
DTSTART:20200308T080000
END:DAYLIGHT
BEGIN:STANDARD
TZOFFSETFROM:-0500
TZOFFSETTO:-0600
TZNAME:CST
DTSTART:20201101T070000
END:STANDARD
BEGIN:DAYLIGHT
TZOFFSETFROM:-0600
TZOFFSETTO:-0500
TZNAME:CDT
DTSTART:20210314T080000
END:DAYLIGHT
BEGIN:STANDARD
TZOFFSETFROM:-0500
TZOFFSETTO:-0600
TZNAME:CST
DTSTART:20211107T070000
END:STANDARD
END:VTIMEZONE
BEGIN:VEVENT
DTSTART;TZID=America/Chicago:20200912T080000
DTEND;TZID=America/Chicago:20200912T100000
DTSTAMP:20260424T024752
CREATED:20170224T132836Z
LAST-MODIFIED:20200727T211339Z
UID:10001077-1599897600-1599904800@www.racetime.info
SUMMARY:Run The Shores at Lake Barrington 5K & 1 Mile: CANCELLED
DESCRIPTION:
URL:https://www.racetime.info/event/run-the-shores-at-lake-barrington-5k-1-mile-4/
LOCATION:Lake Barrington Shores\, 5035 Shoreline Road\, Lake Barrington\, IL\, 60010\, United States
ORGANIZER;CN="Jamie Scheppman":MAILTO:jscheppman@fsresidential.com
GEO:42.2275301;-88.1459508
X-APPLE-STRUCTURED-LOCATION;VALUE=URI;X-ADDRESS=Lake Barrington Shores 5035 Shoreline Road Lake Barrington IL 60010 United States;X-APPLE-RADIUS=500;X-TITLE=5035 Shoreline Road:geo:-88.1459508,42.2275301
END:VEVENT
BEGIN:VEVENT
DTSTART;TZID=America/Chicago:20190914T080000
DTEND;TZID=America/Chicago:20190914T100000
DTSTAMP:20260424T024752
CREATED:20170224T132836Z
LAST-MODIFIED:20190914T190337Z
UID:10001073-1568448000-1568455200@www.racetime.info
SUMMARY:Run The Shores at Lake Barrington 5K & 1 Mile
DESCRIPTION:Lake Barrington Run The Shores 1 Mile Walk Overall Results\n\nLake Barrington Run The Shores 5K Age Group Results\n\nLake Barrington Run The Shores 5K Overall Results
URL:https://www.racetime.info/event/run-the-shores-at-lake-barrington-5k-1-mile-3/
LOCATION:Lake Barrington Shores\, 5035 Shoreline Road\, Lake Barrington\, IL\, 60010\, United States
CATEGORIES:2019-09 Results (September)
ORGANIZER;CN="Jamie Scheppman":MAILTO:jscheppman@fsresidential.com
GEO:42.2275301;-88.1459508
X-APPLE-STRUCTURED-LOCATION;VALUE=URI;X-ADDRESS=Lake Barrington Shores 5035 Shoreline Road Lake Barrington IL 60010 United States;X-APPLE-RADIUS=500;X-TITLE=5035 Shoreline Road:geo:-88.1459508,42.2275301
END:VEVENT
BEGIN:VEVENT
DTSTART;TZID=America/Chicago:20180915T080000
DTEND;TZID=America/Chicago:20180915T100000
DTSTAMP:20260424T024752
CREATED:20170224T132836Z
LAST-MODIFIED:20180915T183114Z
UID:10001071-1536998400-1537005600@www.racetime.info
SUMMARY:Run The Shores at Lake Barrington 5K & 1 Mile
DESCRIPTION:Run The Shores 1 Mile Overall Results\n\nRun The Shores 5K Age Group Results\n\nRun The Shores 5K Overall Results
URL:https://www.racetime.info/event/run-the-shores-at-lake-barrington-5k-1-mile-2/
LOCATION:Lake Barrington Shores\, 5035 Shoreline Road\, Lake Barrington\, IL\, 60010\, United States
CATEGORIES:2018-09 Results (September)
ORGANIZER;CN="Jamie Scheppman":MAILTO:jscheppman@fsresidential.com
GEO:42.2275301;-88.1459508
X-APPLE-STRUCTURED-LOCATION;VALUE=URI;X-ADDRESS=Lake Barrington Shores 5035 Shoreline Road Lake Barrington IL 60010 United States;X-APPLE-RADIUS=500;X-TITLE=5035 Shoreline Road:geo:-88.1459508,42.2275301
END:VEVENT
BEGIN:VEVENT
DTSTART;TZID=America/Chicago:20170916T080000
DTEND;TZID=America/Chicago:20170916T100000
DTSTAMP:20260424T024752
CREATED:20170224T132836Z
LAST-MODIFIED:20170916T203515Z
UID:10001069-1505548800-1505556000@www.racetime.info
SUMMARY:Run The Shores at Lake Barrington 5K & 1 Mile
DESCRIPTION:Run The Shores 1 Mile Overall Results\n\nRun The Shores 5K Age Group Results\n\nRun The Shores 5K Overall Results
URL:https://www.racetime.info/event/run-the-shores-at-lake-barrinton-5k-1-mile/
LOCATION:Lake Barrington Shores\, 5035 Shoreline Road\, Lake Barrington\, IL\, 60010\, United States
CATEGORIES:2017-09 Results (September)
ORGANIZER;CN="Jamie Scheppman":MAILTO:jscheppman@fsresidential.com
GEO:42.2275301;-88.1459508
X-APPLE-STRUCTURED-LOCATION;VALUE=URI;X-ADDRESS=Lake Barrington Shores 5035 Shoreline Road Lake Barrington IL 60010 United States;X-APPLE-RADIUS=500;X-TITLE=5035 Shoreline Road:geo:-88.1459508,42.2275301
END:VEVENT
BEGIN:VEVENT
DTSTART;TZID=America/Chicago:20160917T080000
DTEND;TZID=America/Chicago:20160917T100000
DTSTAMP:20260424T024752
CREATED:20160502T162414Z
LAST-MODIFIED:20160917T160204Z
UID:10000630-1474099200-1474106400@www.racetime.info
SUMMARY:Run The Shores at Lake Barrington 5K & 1 Mile
DESCRIPTION:Run The Shores 1 Mile Overall Results\n\nRun The Shores 5K Age Group Results\n\nRun The Shores 5K Overall Results
URL:https://www.racetime.info/event/run-the-shores-at-lake-barrington-5k-1-mile/
LOCATION:Lake Barrington Shores\, 5035 Shoreline Road\, Lake Barrington\, IL\, 60010\, United States
CATEGORIES:2016-09 Results (September)
ORGANIZER;CN="Jamie Scheppman":MAILTO:jscheppman@fsresidential.com
GEO:42.2275301;-88.1459508
X-APPLE-STRUCTURED-LOCATION;VALUE=URI;X-ADDRESS=Lake Barrington Shores 5035 Shoreline Road Lake Barrington IL 60010 United States;X-APPLE-RADIUS=500;X-TITLE=5035 Shoreline Road:geo:-88.1459508,42.2275301
END:VEVENT
END:VCALENDAR