BEGIN:VCALENDAR
VERSION:2.0
PRODID:-//Race Time - ECPv6.15.13//NONSGML v1.0//EN
CALSCALE:GREGORIAN
METHOD:PUBLISH
X-ORIGINAL-URL:https://www.racetime.info
X-WR-CALDESC:Events for Race Time
REFRESH-INTERVAL;VALUE=DURATION:PT1H
X-Robots-Tag:noindex
X-PUBLISHED-TTL:PT1H
BEGIN:VTIMEZONE
TZID:America/Chicago
BEGIN:DAYLIGHT
TZOFFSETFROM:-0600
TZOFFSETTO:-0500
TZNAME:CDT
DTSTART:20220313T080000
END:DAYLIGHT
BEGIN:STANDARD
TZOFFSETFROM:-0500
TZOFFSETTO:-0600
TZNAME:CST
DTSTART:20221106T070000
END:STANDARD
BEGIN:DAYLIGHT
TZOFFSETFROM:-0600
TZOFFSETTO:-0500
TZNAME:CDT
DTSTART:20230312T080000
END:DAYLIGHT
BEGIN:STANDARD
TZOFFSETFROM:-0500
TZOFFSETTO:-0600
TZNAME:CST
DTSTART:20231105T070000
END:STANDARD
BEGIN:DAYLIGHT
TZOFFSETFROM:-0600
TZOFFSETTO:-0500
TZNAME:CDT
DTSTART:20240310T080000
END:DAYLIGHT
BEGIN:STANDARD
TZOFFSETFROM:-0500
TZOFFSETTO:-0600
TZNAME:CST
DTSTART:20241103T070000
END:STANDARD
BEGIN:DAYLIGHT
TZOFFSETFROM:-0600
TZOFFSETTO:-0500
TZNAME:CDT
DTSTART:20250309T080000
END:DAYLIGHT
BEGIN:STANDARD
TZOFFSETFROM:-0500
TZOFFSETTO:-0600
TZNAME:CST
DTSTART:20251102T070000
END:STANDARD
END:VTIMEZONE
BEGIN:VEVENT
DTSTART;TZID=America/Chicago:20240525T090000
DTEND;TZID=America/Chicago:20240525T110000
DTSTAMP:20260424T012538
CREATED:20230526T101445Z
LAST-MODIFIED:20240425T113153Z
UID:10002180-1716627600-1716634800@www.racetime.info
SUMMARY:Plainfield Memorial Day Ruck
DESCRIPTION:
URL:https://www.racetime.info/event/copy-of-plainfield-memorial-day-ruck/
LOCATION:Lake Renwick Park\, 22525 Lockport Street\, Plainfield\, IL\, United States
ORGANIZER;CN="Brandon Ohms":MAILTO:brandon_ohms@yahoo.com
END:VEVENT
BEGIN:VEVENT
DTSTART;TZID=America/Chicago:20230527T090000
DTEND;TZID=America/Chicago:20230527T110000
DTSTAMP:20260424T012538
CREATED:20230526T101445Z
LAST-MODIFIED:20230526T101445Z
UID:10002179-1685178000-1685185200@www.racetime.info
SUMMARY:Plainfield Memorial Day Ruck
DESCRIPTION:
URL:https://www.racetime.info/event/plainfield-memorial-day-ruck/
LOCATION:Lake Renwick Park\, 22525 Lockport Street\, Plainfield\, IL\, United States
ORGANIZER;CN="Brandon Ohms":MAILTO:brandon_ohms@yahoo.com
END:VEVENT
END:VCALENDAR