BEGIN:VCALENDAR
VERSION:2.0
PRODID:-//Race Time - ECPv6.15.13//NONSGML v1.0//EN
CALSCALE:GREGORIAN
METHOD:PUBLISH
X-ORIGINAL-URL:https://www.racetime.info
X-WR-CALDESC:Events for Race Time
REFRESH-INTERVAL;VALUE=DURATION:PT1H
X-Robots-Tag:noindex
X-PUBLISHED-TTL:PT1H
BEGIN:VTIMEZONE
TZID:America/Chicago
BEGIN:DAYLIGHT
TZOFFSETFROM:-0600
TZOFFSETTO:-0500
TZNAME:CDT
DTSTART:20150308T080000
END:DAYLIGHT
BEGIN:STANDARD
TZOFFSETFROM:-0500
TZOFFSETTO:-0600
TZNAME:CST
DTSTART:20151101T070000
END:STANDARD
BEGIN:DAYLIGHT
TZOFFSETFROM:-0600
TZOFFSETTO:-0500
TZNAME:CDT
DTSTART:20160313T080000
END:DAYLIGHT
BEGIN:STANDARD
TZOFFSETFROM:-0500
TZOFFSETTO:-0600
TZNAME:CST
DTSTART:20161106T070000
END:STANDARD
BEGIN:DAYLIGHT
TZOFFSETFROM:-0600
TZOFFSETTO:-0500
TZNAME:CDT
DTSTART:20170312T080000
END:DAYLIGHT
BEGIN:STANDARD
TZOFFSETFROM:-0500
TZOFFSETTO:-0600
TZNAME:CST
DTSTART:20171105T070000
END:STANDARD
BEGIN:DAYLIGHT
TZOFFSETFROM:-0600
TZOFFSETTO:-0500
TZNAME:CDT
DTSTART:20180311T080000
END:DAYLIGHT
BEGIN:STANDARD
TZOFFSETFROM:-0500
TZOFFSETTO:-0600
TZNAME:CST
DTSTART:20181104T070000
END:STANDARD
BEGIN:DAYLIGHT
TZOFFSETFROM:-0600
TZOFFSETTO:-0500
TZNAME:CDT
DTSTART:20190310T080000
END:DAYLIGHT
BEGIN:STANDARD
TZOFFSETFROM:-0500
TZOFFSETTO:-0600
TZNAME:CST
DTSTART:20191103T070000
END:STANDARD
BEGIN:DAYLIGHT
TZOFFSETFROM:-0600
TZOFFSETTO:-0500
TZNAME:CDT
DTSTART:20200308T080000
END:DAYLIGHT
BEGIN:STANDARD
TZOFFSETFROM:-0500
TZOFFSETTO:-0600
TZNAME:CST
DTSTART:20201101T070000
END:STANDARD
BEGIN:DAYLIGHT
TZOFFSETFROM:-0600
TZOFFSETTO:-0500
TZNAME:CDT
DTSTART:20210314T080000
END:DAYLIGHT
BEGIN:STANDARD
TZOFFSETFROM:-0500
TZOFFSETTO:-0600
TZNAME:CST
DTSTART:20211107T070000
END:STANDARD
BEGIN:DAYLIGHT
TZOFFSETFROM:-0600
TZOFFSETTO:-0500
TZNAME:CDT
DTSTART:20220313T080000
END:DAYLIGHT
BEGIN:STANDARD
TZOFFSETFROM:-0500
TZOFFSETTO:-0600
TZNAME:CST
DTSTART:20221106T070000
END:STANDARD
BEGIN:DAYLIGHT
TZOFFSETFROM:-0600
TZOFFSETTO:-0500
TZNAME:CDT
DTSTART:20230312T080000
END:DAYLIGHT
BEGIN:STANDARD
TZOFFSETFROM:-0500
TZOFFSETTO:-0600
TZNAME:CST
DTSTART:20231105T070000
END:STANDARD
BEGIN:DAYLIGHT
TZOFFSETFROM:-0600
TZOFFSETTO:-0500
TZNAME:CDT
DTSTART:20240310T080000
END:DAYLIGHT
BEGIN:STANDARD
TZOFFSETFROM:-0500
TZOFFSETTO:-0600
TZNAME:CST
DTSTART:20241103T070000
END:STANDARD
BEGIN:DAYLIGHT
TZOFFSETFROM:-0600
TZOFFSETTO:-0500
TZNAME:CDT
DTSTART:20250309T080000
END:DAYLIGHT
BEGIN:STANDARD
TZOFFSETFROM:-0500
TZOFFSETTO:-0600
TZNAME:CST
DTSTART:20251102T070000
END:STANDARD
BEGIN:DAYLIGHT
TZOFFSETFROM:-0600
TZOFFSETTO:-0500
TZNAME:CDT
DTSTART:20260308T080000
END:DAYLIGHT
BEGIN:STANDARD
TZOFFSETFROM:-0500
TZOFFSETTO:-0600
TZNAME:CST
DTSTART:20261101T070000
END:STANDARD
END:VTIMEZONE
BEGIN:VEVENT
DTSTART;TZID=America/Chicago:20250906T080000
DTEND;TZID=America/Chicago:20250906T093000
DTSTAMP:20260423T224900
CREATED:20250802T173826Z
LAST-MODIFIED:20250906T150254Z
UID:10002396-1757145600-1757151000@www.racetime.info
SUMMARY:St. Catherine's Charge On! 5K Run/Walk
DESCRIPTION:Charge On 5K Age Group Results\n\nCharge On 5K Overall Results
URL:https://www.racetime.info/event/st-catherines-charge-on-5k-run-walk/
LOCATION:Lawn Manor Park\, 108th Street & Kostner Avenue\, Oak Lawn\, IL\, 60453\, United States
CATEGORIES:2025-09 Results (September)
ORGANIZER;CN="Race Director":MAILTO:chargeon5k@gmail.com
GEO:41.6952028;-87.7301904
X-APPLE-STRUCTURED-LOCATION;VALUE=URI;X-ADDRESS=Lawn Manor Park 108th Street & Kostner Avenue Oak Lawn IL 60453 United States;X-APPLE-RADIUS=500;X-TITLE=108th Street & Kostner Avenue:geo:-87.7301904,41.6952028
END:VEVENT
BEGIN:VEVENT
DTSTART;TZID=America/Chicago:20240817T080000
DTEND;TZID=America/Chicago:20240817T093000
DTSTAMP:20260423T224900
CREATED:20170609T175801Z
LAST-MODIFIED:20240817T165612Z
UID:10001448-1723881600-1723887000@www.racetime.info
SUMMARY:St. Catherine's Charge On! 5K Run/Walk
DESCRIPTION:Charge On! 5K Age Group Results\n\nCharge On! 5K Overall Results
URL:https://www.racetime.info/event/copy-of-st-catherines-charge-on-5k-run-walk-3/
LOCATION:Lawn Manor Park\, 108th Street & Kostner Avenue\, Oak Lawn\, IL\, 60453\, United States
CATEGORIES:2024-08 Results (August)
ORGANIZER;CN="Race Director":MAILTO:chargeon5k@gmail.com
GEO:41.6952028;-87.7301904
X-APPLE-STRUCTURED-LOCATION;VALUE=URI;X-ADDRESS=Lawn Manor Park 108th Street & Kostner Avenue Oak Lawn IL 60453 United States;X-APPLE-RADIUS=500;X-TITLE=108th Street & Kostner Avenue:geo:-87.7301904,41.6952028
END:VEVENT
BEGIN:VEVENT
DTSTART;TZID=America/Chicago:20230819T080000
DTEND;TZID=America/Chicago:20230819T100000
DTSTAMP:20260423T224900
CREATED:20170609T175801Z
LAST-MODIFIED:20230820T181608Z
UID:10001447-1692432000-1692439200@www.racetime.info
SUMMARY:St. Catherine's Charge On! 5K Run/Walk
DESCRIPTION:Charge On! 5K Age Group Results\n\nCharge On! 5K Overall Results
URL:https://www.racetime.info/event/copy-of-st-catherines-charge-on-5k-run-walk-2/
LOCATION:Lawn Manor Park\, 108th Street & Kostner Avenue\, Oak Lawn\, IL\, 60453\, United States
CATEGORIES:2023-08 Results (August)
ORGANIZER;CN="Kelly Evans":MAILTO:chargeon5k@gmail.com
GEO:41.6952028;-87.7301904
X-APPLE-STRUCTURED-LOCATION;VALUE=URI;X-ADDRESS=Lawn Manor Park 108th Street & Kostner Avenue Oak Lawn IL 60453 United States;X-APPLE-RADIUS=500;X-TITLE=108th Street & Kostner Avenue:geo:-87.7301904,41.6952028
END:VEVENT
BEGIN:VEVENT
DTSTART;TZID=America/Chicago:20220813T080000
DTEND;TZID=America/Chicago:20220813T100000
DTSTAMP:20260423T224900
CREATED:20170609T175801Z
LAST-MODIFIED:20220813T170100Z
UID:10001446-1660377600-1660384800@www.racetime.info
SUMMARY:St. Catherine's Charge On! 5K Run/Walk
DESCRIPTION:Charge On 5K Age Group Results\n\nCharge On 5K Overall Results
URL:https://www.racetime.info/event/copy-of-st-catherines-charge-on-5k-run-walk/
LOCATION:Lawn Manor Park\, 108th Street & Kostner Avenue\, Oak Lawn\, IL\, 60453\, United States
CATEGORIES:2022-08 Results (August)
ORGANIZER;CN="Kelly Evans":MAILTO:chargeon5k@gmail.com
GEO:41.6952028;-87.7301904
X-APPLE-STRUCTURED-LOCATION;VALUE=URI;X-ADDRESS=Lawn Manor Park 108th Street & Kostner Avenue Oak Lawn IL 60453 United States;X-APPLE-RADIUS=500;X-TITLE=108th Street & Kostner Avenue:geo:-87.7301904,41.6952028
END:VEVENT
BEGIN:VEVENT
DTSTART;TZID=America/Chicago:20210814T080000
DTEND;TZID=America/Chicago:20210814T100000
DTSTAMP:20260423T224900
CREATED:20170609T175801Z
LAST-MODIFIED:20210814T154347Z
UID:10001445-1628928000-1628935200@www.racetime.info
SUMMARY:St. Catherine's Charge On! 5K Run/Walk
DESCRIPTION:Charge On! 5K Age Group Results\n\nCharge On! 5K Overall Results\n\nCharge On! Youth Run Overall Results
URL:https://www.racetime.info/event/charge-on-5k-run-walk-4/
LOCATION:Lawn Manor Park\, 108th Street & Kostner Avenue\, Oak Lawn\, IL\, 60453\, United States
CATEGORIES:2021-08 Results (August)
ORGANIZER;CN="Kelly Evans":MAILTO:chargeon5k@gmail.com
GEO:41.6952028;-87.7301904
X-APPLE-STRUCTURED-LOCATION;VALUE=URI;X-ADDRESS=Lawn Manor Park 108th Street & Kostner Avenue Oak Lawn IL 60453 United States;X-APPLE-RADIUS=500;X-TITLE=108th Street & Kostner Avenue:geo:-87.7301904,41.6952028
END:VEVENT
BEGIN:VEVENT
DTSTART;TZID=America/Chicago:20200815T080000
DTEND;TZID=America/Chicago:20200815T100000
DTSTAMP:20260423T224900
CREATED:20170609T175801Z
LAST-MODIFIED:20200717T182321Z
UID:10001444-1597478400-1597485600@www.racetime.info
SUMMARY:Charge On! 5K Run/Walk: VIRTUAL
DESCRIPTION:
URL:https://www.racetime.info/event/charge-on-5k-run-walk-3/
LOCATION:Lawn Manor Park\, 108th Street & Kostner Avenue\, Oak Lawn\, IL\, 60453\, United States
ORGANIZER;CN="Kelly Evans":MAILTO:chargeon5k@gmail.com
GEO:41.6952028;-87.7301904
X-APPLE-STRUCTURED-LOCATION;VALUE=URI;X-ADDRESS=Lawn Manor Park 108th Street & Kostner Avenue Oak Lawn IL 60453 United States;X-APPLE-RADIUS=500;X-TITLE=108th Street & Kostner Avenue:geo:-87.7301904,41.6952028
END:VEVENT
BEGIN:VEVENT
DTSTART;TZID=America/Chicago:20190817T080000
DTEND;TZID=America/Chicago:20190817T100000
DTSTAMP:20260423T224900
CREATED:20170609T175801Z
LAST-MODIFIED:20190817T190508Z
UID:10001443-1566028800-1566036000@www.racetime.info
SUMMARY:Charge On! 5K Run/Walk
DESCRIPTION:Charge On! 5K Age Group Results\n\nCharge On! 5K Overall Results
URL:https://www.racetime.info/event/charge-on-5k-run-walk-2/
LOCATION:Lawn Manor Park\, 108th Street & Kostner Avenue\, Oak Lawn\, IL\, 60453\, United States
CATEGORIES:2019-08 Results (August)
ORGANIZER;CN="Kelly Evans":MAILTO:chargeon5k@gmail.com
GEO:41.6952028;-87.7301904
X-APPLE-STRUCTURED-LOCATION;VALUE=URI;X-ADDRESS=Lawn Manor Park 108th Street & Kostner Avenue Oak Lawn IL 60453 United States;X-APPLE-RADIUS=500;X-TITLE=108th Street & Kostner Avenue:geo:-87.7301904,41.6952028
END:VEVENT
BEGIN:VEVENT
DTSTART;TZID=America/Chicago:20180818T080000
DTEND;TZID=America/Chicago:20180818T100000
DTSTAMP:20260423T224900
CREATED:20170609T175801Z
LAST-MODIFIED:20180818T180829Z
UID:10001442-1534579200-1534586400@www.racetime.info
SUMMARY:Charge On! 5K Run/Walk
DESCRIPTION:Charge On! 5K Age Group Results\n\nCharge On! 5K Overall Results
URL:https://www.racetime.info/event/charge-on-5k-run-walk/
LOCATION:Lawn Manor Park\, 108th Street & Kostner Avenue\, Oak Lawn\, IL\, 60453\, United States
CATEGORIES:2018-08 Results (August)
ORGANIZER;CN="Donna Marie Ivers":MAILTO:dmivers@sbcglobal.net
GEO:41.6952028;-87.7301904
X-APPLE-STRUCTURED-LOCATION;VALUE=URI;X-ADDRESS=Lawn Manor Park 108th Street & Kostner Avenue Oak Lawn IL 60453 United States;X-APPLE-RADIUS=500;X-TITLE=108th Street & Kostner Avenue:geo:-87.7301904,41.6952028
END:VEVENT
BEGIN:VEVENT
DTSTART;TZID=America/Chicago:20170819T080000
DTEND;TZID=America/Chicago:20170819T100000
DTSTAMP:20260423T224900
CREATED:20170609T175801Z
LAST-MODIFIED:20170819T170700Z
UID:10001441-1503129600-1503136800@www.racetime.info
SUMMARY:Charge On! 5K Run/Walk
DESCRIPTION:Charge On! 5K Age Group Results\n\nCharge On! 5K Overall Results
URL:https://www.racetime.info/event/charge-on-5k-runwalk-3/
LOCATION:Lawn Manor Park\, 108th Street & Kostner Avenue\, Oak Lawn\, IL\, 60453\, United States
CATEGORIES:2017-08 Results (August)
ORGANIZER;CN="Donna Marie Ivers":MAILTO:dmivers@sbcglobal.net
GEO:41.6952028;-87.7301904
X-APPLE-STRUCTURED-LOCATION;VALUE=URI;X-ADDRESS=Lawn Manor Park 108th Street & Kostner Avenue Oak Lawn IL 60453 United States;X-APPLE-RADIUS=500;X-TITLE=108th Street & Kostner Avenue:geo:-87.7301904,41.6952028
END:VEVENT
BEGIN:VEVENT
DTSTART;TZID=America/Chicago:20160820T080000
DTEND;TZID=America/Chicago:20160820T110000
DTSTAMP:20260423T224900
CREATED:20160620T113838Z
LAST-MODIFIED:20160822T233429Z
UID:10000693-1471680000-1471690800@www.racetime.info
SUMMARY:Charge On! 5K Run/Walk
DESCRIPTION:Charge On! 5K Age Group Results\n\nCharge On! 5K Overall Results
URL:https://www.racetime.info/event/charge-on-5k-runwalk-2/
LOCATION:Lawn Manor Park\, 108th Street & Kostner Avenue\, Oak Lawn\, IL\, 60453\, United States
CATEGORIES:2016-08 Results (August)
ORGANIZER;CN="Donna Marie Ivers":MAILTO:dmivers@sbcglobal.net
GEO:41.6952028;-87.7301904
X-APPLE-STRUCTURED-LOCATION;VALUE=URI;X-ADDRESS=Lawn Manor Park 108th Street & Kostner Avenue Oak Lawn IL 60453 United States;X-APPLE-RADIUS=500;X-TITLE=108th Street & Kostner Avenue:geo:-87.7301904,41.6952028
END:VEVENT
END:VCALENDAR