BEGIN:VCALENDAR
VERSION:2.0
PRODID:-//Race Time - ECPv6.15.13//NONSGML v1.0//EN
CALSCALE:GREGORIAN
METHOD:PUBLISH
X-ORIGINAL-URL:https://www.racetime.info
X-WR-CALDESC:Events for Race Time
REFRESH-INTERVAL;VALUE=DURATION:PT1H
X-Robots-Tag:noindex
X-PUBLISHED-TTL:PT1H
BEGIN:VTIMEZONE
TZID:America/Chicago
BEGIN:DAYLIGHT
TZOFFSETFROM:-0600
TZOFFSETTO:-0500
TZNAME:CDT
DTSTART:20150308T080000
END:DAYLIGHT
BEGIN:STANDARD
TZOFFSETFROM:-0500
TZOFFSETTO:-0600
TZNAME:CST
DTSTART:20151101T070000
END:STANDARD
BEGIN:DAYLIGHT
TZOFFSETFROM:-0600
TZOFFSETTO:-0500
TZNAME:CDT
DTSTART:20160313T080000
END:DAYLIGHT
BEGIN:STANDARD
TZOFFSETFROM:-0500
TZOFFSETTO:-0600
TZNAME:CST
DTSTART:20161106T070000
END:STANDARD
BEGIN:DAYLIGHT
TZOFFSETFROM:-0600
TZOFFSETTO:-0500
TZNAME:CDT
DTSTART:20170312T080000
END:DAYLIGHT
BEGIN:STANDARD
TZOFFSETFROM:-0500
TZOFFSETTO:-0600
TZNAME:CST
DTSTART:20171105T070000
END:STANDARD
BEGIN:DAYLIGHT
TZOFFSETFROM:-0600
TZOFFSETTO:-0500
TZNAME:CDT
DTSTART:20180311T080000
END:DAYLIGHT
BEGIN:STANDARD
TZOFFSETFROM:-0500
TZOFFSETTO:-0600
TZNAME:CST
DTSTART:20181104T070000
END:STANDARD
END:VTIMEZONE
BEGIN:VEVENT
DTSTART;TZID=America/Chicago:20171021T090000
DTEND;TZID=America/Chicago:20171021T120000
DTSTAMP:20260424T024915
CREATED:20170901T121649Z
LAST-MODIFIED:20171021T195029Z
UID:10000825-1508576400-1508587200@www.racetime.info
SUMMARY:WIAA Sectional Cross Country Meet
DESCRIPTION:WIAA Sectional Girls Overall Results\n\nWIAA Sectional Girls Team Results\n\nWIAA Sectional Boys Overall Results\n\nWIAA Sectional Boys Team Results
URL:https://www.racetime.info/event/wiaa-sectional-cross-country-meet/
LOCATION:Leeson Park\, 1200 Leeson Park Road\, Beloit\, WI\, 53511\, United States
CATEGORIES:2017 Cross Country Results
ORGANIZER;CN="Bob Shaver":MAILTO:rshaver@sdb.k12.wi.us
GEO:42.5139253;-89.0071423
X-APPLE-STRUCTURED-LOCATION;VALUE=URI;X-ADDRESS=Leeson Park 1200 Leeson Park Road Beloit WI 53511 United States;X-APPLE-RADIUS=500;X-TITLE=1200 Leeson Park Road:geo:-89.0071423,42.5139253
END:VEVENT
BEGIN:VEVENT
DTSTART;TZID=America/Chicago:20161022T110000
DTEND;TZID=America/Chicago:20161022T130000
DTSTAMP:20260424T024915
CREATED:20160903T103823Z
LAST-MODIFIED:20161022T194755Z
UID:10000831-1477134000-1477141200@www.racetime.info
SUMMARY:WIAA Sectional Cross Country Meet
DESCRIPTION:WIAA Sectional Girls Overall Results\n\nWIAA Sectional Girls Team Results\n\nWIAA Sectional Girls Qualifier Results\n\nWIAA Sectional Boys Overall Results\n\nWIAA Sectional Boys Team Results\n\nWIAA Sectional Boys Qualifier Results
URL:https://www.racetime.info/event/beloit-sectional-cross-country-meet/
LOCATION:Leeson Park\, 1200 Leeson Park Road\, Beloit\, WI\, 53511\, United States
CATEGORIES:2016 Cross Country Results
ORGANIZER;CN="Bob Shaver":MAILTO:rshaver@sdb.k12.wi.us
GEO:42.5139253;-89.0071423
X-APPLE-STRUCTURED-LOCATION;VALUE=URI;X-ADDRESS=Leeson Park 1200 Leeson Park Road Beloit WI 53511 United States;X-APPLE-RADIUS=500;X-TITLE=1200 Leeson Park Road:geo:-89.0071423,42.5139253
END:VEVENT
END:VCALENDAR