BEGIN:VCALENDAR
VERSION:2.0
PRODID:-//Race Time - ECPv6.15.13//NONSGML v1.0//EN
CALSCALE:GREGORIAN
METHOD:PUBLISH
X-ORIGINAL-URL:https://www.racetime.info
X-WR-CALDESC:Events for Race Time
REFRESH-INTERVAL;VALUE=DURATION:PT1H
X-Robots-Tag:noindex
X-PUBLISHED-TTL:PT1H
BEGIN:VTIMEZONE
TZID:America/Chicago
BEGIN:DAYLIGHT
TZOFFSETFROM:-0600
TZOFFSETTO:-0500
TZNAME:CDT
DTSTART:20150308T080000
END:DAYLIGHT
BEGIN:STANDARD
TZOFFSETFROM:-0500
TZOFFSETTO:-0600
TZNAME:CST
DTSTART:20151101T070000
END:STANDARD
BEGIN:DAYLIGHT
TZOFFSETFROM:-0600
TZOFFSETTO:-0500
TZNAME:CDT
DTSTART:20160313T080000
END:DAYLIGHT
BEGIN:STANDARD
TZOFFSETFROM:-0500
TZOFFSETTO:-0600
TZNAME:CST
DTSTART:20161106T070000
END:STANDARD
BEGIN:DAYLIGHT
TZOFFSETFROM:-0600
TZOFFSETTO:-0500
TZNAME:CDT
DTSTART:20170312T080000
END:DAYLIGHT
BEGIN:STANDARD
TZOFFSETFROM:-0500
TZOFFSETTO:-0600
TZNAME:CST
DTSTART:20171105T070000
END:STANDARD
BEGIN:DAYLIGHT
TZOFFSETFROM:-0600
TZOFFSETTO:-0500
TZNAME:CDT
DTSTART:20180311T080000
END:DAYLIGHT
BEGIN:STANDARD
TZOFFSETFROM:-0500
TZOFFSETTO:-0600
TZNAME:CST
DTSTART:20181104T070000
END:STANDARD
BEGIN:DAYLIGHT
TZOFFSETFROM:-0600
TZOFFSETTO:-0500
TZNAME:CDT
DTSTART:20190310T080000
END:DAYLIGHT
BEGIN:STANDARD
TZOFFSETFROM:-0500
TZOFFSETTO:-0600
TZNAME:CST
DTSTART:20191103T070000
END:STANDARD
BEGIN:DAYLIGHT
TZOFFSETFROM:-0600
TZOFFSETTO:-0500
TZNAME:CDT
DTSTART:20200308T080000
END:DAYLIGHT
BEGIN:STANDARD
TZOFFSETFROM:-0500
TZOFFSETTO:-0600
TZNAME:CST
DTSTART:20201101T070000
END:STANDARD
BEGIN:DAYLIGHT
TZOFFSETFROM:-0600
TZOFFSETTO:-0500
TZNAME:CDT
DTSTART:20210314T080000
END:DAYLIGHT
BEGIN:STANDARD
TZOFFSETFROM:-0500
TZOFFSETTO:-0600
TZNAME:CST
DTSTART:20211107T070000
END:STANDARD
BEGIN:DAYLIGHT
TZOFFSETFROM:-0600
TZOFFSETTO:-0500
TZNAME:CDT
DTSTART:20220313T080000
END:DAYLIGHT
BEGIN:STANDARD
TZOFFSETFROM:-0500
TZOFFSETTO:-0600
TZNAME:CST
DTSTART:20221106T070000
END:STANDARD
END:VTIMEZONE
BEGIN:VEVENT
DTSTART;TZID=America/Chicago:20211125T080000
DTEND;TZID=America/Chicago:20211125T100000
DTSTAMP:20260424T001437
CREATED:20170323T132007Z
LAST-MODIFIED:20211125T174742Z
UID:10001277-1637827200-1637834400@www.racetime.info
SUMMARY:Running With The Lions 5K Run/Walk
DESCRIPTION:Running With The Lions 5K Overall Results
URL:https://www.racetime.info/event/running-with-the-lions-5k-youth-dash-4/
LOCATION:Life Time Fitness\, 451 Rolls Road\, Algonquin\, IL\, 60102\, United States
CATEGORIES:2021-11 Results (November)
ORGANIZER;CN="Dave Rapacz":MAILTO:davidrapacz@sbcglobal.net
GEO:42.1709963;-88.3313754
X-APPLE-STRUCTURED-LOCATION;VALUE=URI;X-ADDRESS=Life Time Fitness 451 Rolls Road Algonquin IL 60102 United States;X-APPLE-RADIUS=500;X-TITLE=451 Rolls Road:geo:-88.3313754,42.1709963
END:VEVENT
BEGIN:VEVENT
DTSTART;TZID=America/Chicago:20191128T080000
DTEND;TZID=America/Chicago:20191128T100000
DTSTAMP:20260424T001437
CREATED:20170323T132007Z
LAST-MODIFIED:20191128T190849Z
UID:10001275-1574928000-1574935200@www.racetime.info
SUMMARY:Running With The Lions 5K & Youth Dash
DESCRIPTION:Running With The Lions 5K Overall Results
URL:https://www.racetime.info/event/running-with-the-lions-5k-youth-dash-3/
LOCATION:Life Time Fitness\, 451 Rolls Road\, Algonquin\, IL\, 60102\, United States
CATEGORIES:2019-11 Results (November)
ORGANIZER;CN="Vince Daniello":MAILTO:vince3670@yahoo.com
GEO:42.1709963;-88.3313754
X-APPLE-STRUCTURED-LOCATION;VALUE=URI;X-ADDRESS=Life Time Fitness 451 Rolls Road Algonquin IL 60102 United States;X-APPLE-RADIUS=500;X-TITLE=451 Rolls Road:geo:-88.3313754,42.1709963
END:VEVENT
BEGIN:VEVENT
DTSTART;TZID=America/Chicago:20181122T080000
DTEND;TZID=America/Chicago:20181122T100000
DTSTAMP:20260424T001437
CREATED:20170323T132007Z
LAST-MODIFIED:20181122T191051Z
UID:10001271-1542873600-1542880800@www.racetime.info
SUMMARY:Running With The Lions 5K & Youth Dash
DESCRIPTION:Running with the Lions 5K Age Group Results\n\nRunning with the Lions 5K Overall Results
URL:https://www.racetime.info/event/running-with-the-lions-5k-youth-dash-2/
LOCATION:Life Time Fitness\, 451 Rolls Road\, Algonquin\, IL\, 60102\, United States
CATEGORIES:2018-11 Results (November)
ORGANIZER;CN="Vince Daniello":MAILTO:vince3670@yahoo.com
GEO:42.1709963;-88.3313754
X-APPLE-STRUCTURED-LOCATION;VALUE=URI;X-ADDRESS=Life Time Fitness 451 Rolls Road Algonquin IL 60102 United States;X-APPLE-RADIUS=500;X-TITLE=451 Rolls Road:geo:-88.3313754,42.1709963
END:VEVENT
BEGIN:VEVENT
DTSTART;TZID=America/Chicago:20171123T080000
DTEND;TZID=America/Chicago:20171123T100000
DTSTAMP:20260424T001437
CREATED:20170323T132007Z
LAST-MODIFIED:20171123T194738Z
UID:10001268-1511424000-1511431200@www.racetime.info
SUMMARY:Running With The Lions 5K & Youth Dash
DESCRIPTION:Running With The Lions 5K Age Group Results\n\nRunning With The Lions 5K Overall Results
URL:https://www.racetime.info/event/running-with-the-lions-5k-youth-dash/
LOCATION:Life Time Fitness\, 451 Rolls Road\, Algonquin\, IL\, 60102\, United States
CATEGORIES:2017-11 Results (November)
ORGANIZER;CN="Vince Daniello":MAILTO:vince3670@yahoo.com
GEO:42.1709963;-88.3313754
X-APPLE-STRUCTURED-LOCATION;VALUE=URI;X-ADDRESS=Life Time Fitness 451 Rolls Road Algonquin IL 60102 United States;X-APPLE-RADIUS=500;X-TITLE=451 Rolls Road:geo:-88.3313754,42.1709963
END:VEVENT
BEGIN:VEVENT
DTSTART;TZID=America/Chicago:20161124T080000
DTEND;TZID=America/Chicago:20161124T100000
DTSTAMP:20260424T001437
CREATED:20160728T013021Z
LAST-MODIFIED:20161126T033652Z
UID:10000744-1479974400-1479981600@www.racetime.info
SUMMARY:Running With The Lions 5K Run/Walk
DESCRIPTION:Running with the Lions 5K Age Group Results\n\nRunning with the Lions 5K Overall Results
URL:https://www.racetime.info/event/running-with-the-lions-5k-runwalk/
LOCATION:Life Time Fitness\, 451 Rolls Road\, Algonquin\, IL\, 60102\, United States
CATEGORIES:2016-11 Results (November)
ORGANIZER;CN="Kevin Gardeck":MAILTO:gardex5@gmail.com
GEO:42.1709963;-88.3313754
X-APPLE-STRUCTURED-LOCATION;VALUE=URI;X-ADDRESS=Life Time Fitness 451 Rolls Road Algonquin IL 60102 United States;X-APPLE-RADIUS=500;X-TITLE=451 Rolls Road:geo:-88.3313754,42.1709963
END:VEVENT
END:VCALENDAR