BEGIN:VCALENDAR
VERSION:2.0
PRODID:-//Race Time - ECPv6.15.13//NONSGML v1.0//EN
CALSCALE:GREGORIAN
METHOD:PUBLISH
X-WR-CALNAME:Race Time
X-ORIGINAL-URL:https://www.racetime.info
X-WR-CALDESC:Events for Race Time
REFRESH-INTERVAL;VALUE=DURATION:PT1H
X-Robots-Tag:noindex
X-PUBLISHED-TTL:PT1H
BEGIN:VTIMEZONE
TZID:America/Chicago
BEGIN:DAYLIGHT
TZOFFSETFROM:-0600
TZOFFSETTO:-0500
TZNAME:CDT
DTSTART:20140309T080000
END:DAYLIGHT
BEGIN:STANDARD
TZOFFSETFROM:-0500
TZOFFSETTO:-0600
TZNAME:CST
DTSTART:20141102T070000
END:STANDARD
BEGIN:DAYLIGHT
TZOFFSETFROM:-0600
TZOFFSETTO:-0500
TZNAME:CDT
DTSTART:20150308T080000
END:DAYLIGHT
BEGIN:STANDARD
TZOFFSETFROM:-0500
TZOFFSETTO:-0600
TZNAME:CST
DTSTART:20151101T070000
END:STANDARD
BEGIN:DAYLIGHT
TZOFFSETFROM:-0600
TZOFFSETTO:-0500
TZNAME:CDT
DTSTART:20160313T080000
END:DAYLIGHT
BEGIN:STANDARD
TZOFFSETFROM:-0500
TZOFFSETTO:-0600
TZNAME:CST
DTSTART:20161106T070000
END:STANDARD
BEGIN:DAYLIGHT
TZOFFSETFROM:-0600
TZOFFSETTO:-0500
TZNAME:CDT
DTSTART:20170312T080000
END:DAYLIGHT
BEGIN:STANDARD
TZOFFSETFROM:-0500
TZOFFSETTO:-0600
TZNAME:CST
DTSTART:20171105T070000
END:STANDARD
BEGIN:DAYLIGHT
TZOFFSETFROM:-0600
TZOFFSETTO:-0500
TZNAME:CDT
DTSTART:20180311T080000
END:DAYLIGHT
BEGIN:STANDARD
TZOFFSETFROM:-0500
TZOFFSETTO:-0600
TZNAME:CST
DTSTART:20181104T070000
END:STANDARD
BEGIN:DAYLIGHT
TZOFFSETFROM:-0600
TZOFFSETTO:-0500
TZNAME:CDT
DTSTART:20190310T080000
END:DAYLIGHT
BEGIN:STANDARD
TZOFFSETFROM:-0500
TZOFFSETTO:-0600
TZNAME:CST
DTSTART:20191103T070000
END:STANDARD
BEGIN:DAYLIGHT
TZOFFSETFROM:-0600
TZOFFSETTO:-0500
TZNAME:CDT
DTSTART:20200308T080000
END:DAYLIGHT
BEGIN:STANDARD
TZOFFSETFROM:-0500
TZOFFSETTO:-0600
TZNAME:CST
DTSTART:20201101T070000
END:STANDARD
BEGIN:DAYLIGHT
TZOFFSETFROM:-0600
TZOFFSETTO:-0500
TZNAME:CDT
DTSTART:20210314T080000
END:DAYLIGHT
BEGIN:STANDARD
TZOFFSETFROM:-0500
TZOFFSETTO:-0600
TZNAME:CST
DTSTART:20211107T070000
END:STANDARD
BEGIN:DAYLIGHT
TZOFFSETFROM:-0600
TZOFFSETTO:-0500
TZNAME:CDT
DTSTART:20220313T080000
END:DAYLIGHT
BEGIN:STANDARD
TZOFFSETFROM:-0500
TZOFFSETTO:-0600
TZNAME:CST
DTSTART:20221106T070000
END:STANDARD
BEGIN:DAYLIGHT
TZOFFSETFROM:-0600
TZOFFSETTO:-0500
TZNAME:CDT
DTSTART:20230312T080000
END:DAYLIGHT
BEGIN:STANDARD
TZOFFSETFROM:-0500
TZOFFSETTO:-0600
TZNAME:CST
DTSTART:20231105T070000
END:STANDARD
BEGIN:DAYLIGHT
TZOFFSETFROM:-0600
TZOFFSETTO:-0500
TZNAME:CDT
DTSTART:20240310T080000
END:DAYLIGHT
BEGIN:STANDARD
TZOFFSETFROM:-0500
TZOFFSETTO:-0600
TZNAME:CST
DTSTART:20241103T070000
END:STANDARD
BEGIN:DAYLIGHT
TZOFFSETFROM:-0600
TZOFFSETTO:-0500
TZNAME:CDT
DTSTART:20250309T080000
END:DAYLIGHT
BEGIN:STANDARD
TZOFFSETFROM:-0500
TZOFFSETTO:-0600
TZNAME:CST
DTSTART:20251102T070000
END:STANDARD
BEGIN:DAYLIGHT
TZOFFSETFROM:-0600
TZOFFSETTO:-0500
TZNAME:CDT
DTSTART:20260308T080000
END:DAYLIGHT
BEGIN:STANDARD
TZOFFSETFROM:-0500
TZOFFSETTO:-0600
TZNAME:CST
DTSTART:20261101T070000
END:STANDARD
END:VTIMEZONE
BEGIN:VEVENT
DTSTART;TZID=America/Chicago:20251004T083000
DTEND;TZID=America/Chicago:20251004T103000
DTSTAMP:20260423T210834
CREATED:20250404T193422Z
LAST-MODIFIED:20251004T191832Z
UID:10002326-1759566600-1759573800@www.racetime.info
SUMMARY:Panting Four Paws 5K Walk/Run & 10K Run
DESCRIPTION:Panting for Paws 5K Age Group Results\n\nPanting for Paws 5K Overall Results\n\nPanting for Paws 10K Age Group Results\n\nPanting for Paws 10K Overall
URL:https://www.racetime.info/event/panting-four-paws-5k-walk-run-10k-run/
LOCATION:Lippold Park\, 8597 Il. Hwy. 176\, Crystal Lake\, IL\, 60014\, United States
CATEGORIES:2025-10 Results (October)
ORGANIZER;CN="Kathy Taylor":MAILTO:kathy@helpingpaws.net
GEO:42.2480551;-88.3760423
X-APPLE-STRUCTURED-LOCATION;VALUE=URI;X-ADDRESS=Lippold Park 8597 Il. Hwy. 176 Crystal Lake IL 60014 United States;X-APPLE-RADIUS=500;X-TITLE=8597 Il. Hwy. 176:geo:-88.3760423,42.2480551
END:VEVENT
BEGIN:VEVENT
DTSTART;TZID=America/Chicago:20241013T090000
DTEND;TZID=America/Chicago:20241013T103000
DTSTAMP:20260423T210834
CREATED:20220628T122515Z
LAST-MODIFIED:20241013T182340Z
UID:10002125-1728810000-1728815400@www.racetime.info
SUMMARY:Jim M'Lady Nissan 5K Run/Walk for Lymphoma
DESCRIPTION:M’Lady No One Fights Cancer Alone 5K Overall Results
URL:https://www.racetime.info/event/copy-of-jim-mlady-nissan-5k-run-walk-for-lymphoma-2/
LOCATION:Lippold Park\, 8597 Il. Hwy. 176\, Crystal Lake\, IL\, 60014\, United States
CATEGORIES:2024-10 Results (October)
ORGANIZER;CN="Julie Pearson":MAILTO:racetime21@hotmail.com
GEO:42.2480551;-88.3760423
X-APPLE-STRUCTURED-LOCATION;VALUE=URI;X-ADDRESS=Lippold Park 8597 Il. Hwy. 176 Crystal Lake IL 60014 United States;X-APPLE-RADIUS=500;X-TITLE=8597 Il. Hwy. 176:geo:-88.3760423,42.2480551
END:VEVENT
BEGIN:VEVENT
DTSTART;TZID=America/Chicago:20241005T083000
DTEND;TZID=America/Chicago:20241005T103000
DTSTAMP:20260423T210834
CREATED:20220326T140443Z
LAST-MODIFIED:20241005T190605Z
UID:10002101-1728117000-1728124200@www.racetime.info
SUMMARY:Panting Four Paws 5K & 10K Run
DESCRIPTION:Panting 4 Paws 5K Age Group Results\n\nPanting 4 Paws 5K Overall Results\n\nPanting 4 Paws 10K Age Group Results\n\nPanting 4 Paws 10K Overall Results
URL:https://www.racetime.info/event/copy-of-panting-four-paws-5k-10k-run-1-mile-walk/
LOCATION:Lippold Park\, 8597 Il. Hwy. 176\, Crystal Lake\, IL\, 60014\, United States
CATEGORIES:2024-10 Results (October)
ORGANIZER;CN="Kathy Taylor":MAILTO:kathy@helpingpaws.net
GEO:42.2480551;-88.3760423
X-APPLE-STRUCTURED-LOCATION;VALUE=URI;X-ADDRESS=Lippold Park 8597 Il. Hwy. 176 Crystal Lake IL 60014 United States;X-APPLE-RADIUS=500;X-TITLE=8597 Il. Hwy. 176:geo:-88.3760423,42.2480551
END:VEVENT
BEGIN:VEVENT
DTSTART;TZID=America/Chicago:20240519T080000
DTEND;TZID=America/Chicago:20240519T093000
DTSTAMP:20260423T210834
CREATED:20210413T140631Z
LAST-MODIFIED:20240519T162926Z
UID:10001977-1716105600-1716111000@www.racetime.info
SUMMARY:Spring Forward 5K Run/Walk
DESCRIPTION:Spring Forward 5K Age Group Results\n\nSpring Forward 5K Overall Results
URL:https://www.racetime.info/event/copy-of-spring-forward-5k-run-walk/
LOCATION:Lippold Park\, 8597 Il. Hwy. 176\, Crystal Lake\, IL\, 60014\, United States
CATEGORIES:2024-05 Results (May)
ORGANIZER;CN="Jennifer Lueder":MAILTO:luederfamily1@gmail.com
GEO:42.2480551;-88.3760423
X-APPLE-STRUCTURED-LOCATION;VALUE=URI;X-ADDRESS=Lippold Park 8597 Il. Hwy. 176 Crystal Lake IL 60014 United States;X-APPLE-RADIUS=500;X-TITLE=8597 Il. Hwy. 176:geo:-88.3760423,42.2480551
END:VEVENT
BEGIN:VEVENT
DTSTART;TZID=America/Chicago:20240218T090000
DTEND;TZID=America/Chicago:20240218T103000
DTSTAMP:20260423T210834
CREATED:20230307T203242Z
LAST-MODIFIED:20240222T125427Z
UID:10002154-1708246800-1708252200@www.racetime.info
SUMMARY:Mardi Gras Run for the Beads 5k
DESCRIPTION:Mardi Gras 5K Age Group Results\n\nMardi Gras 5K Overall Results
URL:https://www.racetime.info/event/copy-of-mardi-gras-run-for-the-beads-5k/
LOCATION:Lippold Park\, 8597 Il. Hwy. 176\, Crystal Lake\, IL\, 60014\, United States
CATEGORIES:2024-02 Results (February)
ORGANIZER;CN="Mike Splitt":MAILTO:mikesplitt@sbcglobal.net
GEO:42.2480551;-88.3760423
X-APPLE-STRUCTURED-LOCATION;VALUE=URI;X-ADDRESS=Lippold Park 8597 Il. Hwy. 176 Crystal Lake IL 60014 United States;X-APPLE-RADIUS=500;X-TITLE=8597 Il. Hwy. 176:geo:-88.3760423,42.2480551
END:VEVENT
BEGIN:VEVENT
DTSTART;TZID=America/Chicago:20231112T090000
DTEND;TZID=America/Chicago:20231112T103000
DTSTAMP:20260423T210834
CREATED:20220628T122515Z
LAST-MODIFIED:20231112T225802Z
UID:10002124-1699779600-1699785000@www.racetime.info
SUMMARY:Jim M'Lady Nissan 5K Run/Walk for Lymphoma
DESCRIPTION:Mlady No One Fights Cancer Alone 5K Overall Results
URL:https://www.racetime.info/event/copy-of-jim-mlady-nissan-5k-run-walk-for-lymphoma/
LOCATION:Lippold Park\, 8597 Il. Hwy. 176\, Crystal Lake\, IL\, 60014\, United States
CATEGORIES:2023-11 Results (November)
ORGANIZER;CN="Julie Pearson":MAILTO:racetime21@hotmail.com
GEO:42.2480551;-88.3760423
X-APPLE-STRUCTURED-LOCATION;VALUE=URI;X-ADDRESS=Lippold Park 8597 Il. Hwy. 176 Crystal Lake IL 60014 United States;X-APPLE-RADIUS=500;X-TITLE=8597 Il. Hwy. 176:geo:-88.3760423,42.2480551
END:VEVENT
BEGIN:VEVENT
DTSTART;TZID=America/Chicago:20231007T083000
DTEND;TZID=America/Chicago:20231007T103000
DTSTAMP:20260423T210834
CREATED:20220326T140443Z
LAST-MODIFIED:20231007T203032Z
UID:10002100-1696667400-1696674600@www.racetime.info
SUMMARY:Panting Four Paws 5K & 10K Run/1 Mile Walk
DESCRIPTION:Panting Four Paws 5K Age Group Results\n\nPanting Four Paws 5K Overall Results\n\nPanting Four Paws 10K Age Group Results\n\nPanting Four Paws 10K Overall Results
URL:https://www.racetime.info/event/copy-of-panting-four-paws-5k-10k/
LOCATION:Lippold Park\, 8597 Il. Hwy. 176\, Crystal Lake\, IL\, 60014\, United States
CATEGORIES:2023-10 Results (October)
ORGANIZER;CN="Kathy Taylor":MAILTO:kathy@helpingpaws.net
GEO:42.2480551;-88.3760423
X-APPLE-STRUCTURED-LOCATION;VALUE=URI;X-ADDRESS=Lippold Park 8597 Il. Hwy. 176 Crystal Lake IL 60014 United States;X-APPLE-RADIUS=500;X-TITLE=8597 Il. Hwy. 176:geo:-88.3760423,42.2480551
END:VEVENT
BEGIN:VEVENT
DTSTART;TZID=America/Chicago:20230402T090000
DTEND;TZID=America/Chicago:20230402T110000
DTSTAMP:20260423T210834
CREATED:20230307T203242Z
LAST-MODIFIED:20230402T173411Z
UID:10002153-1680426000-1680433200@www.racetime.info
SUMMARY:Mardi Gras Run for the Beads 5k
DESCRIPTION:Mardi Gras 5K Age Group Results\n\nMardi Gras 5K Overall Results
URL:https://www.racetime.info/event/mardi-gras-run-for-the-beads-5k/
LOCATION:Lippold Park\, 8597 Il. Hwy. 176\, Crystal Lake\, IL\, 60014\, United States
CATEGORIES:2023-04 Results (April)
ORGANIZER;CN="Carol Heisler":MAILTO:carolheisler@gmail.com
GEO:42.2480551;-88.3760423
X-APPLE-STRUCTURED-LOCATION;VALUE=URI;X-ADDRESS=Lippold Park 8597 Il. Hwy. 176 Crystal Lake IL 60014 United States;X-APPLE-RADIUS=500;X-TITLE=8597 Il. Hwy. 176:geo:-88.3760423,42.2480551
END:VEVENT
BEGIN:VEVENT
DTSTART;TZID=America/Chicago:20221009T090000
DTEND;TZID=America/Chicago:20221009T103000
DTSTAMP:20260423T210834
CREATED:20220628T122515Z
LAST-MODIFIED:20221009T173821Z
UID:10002123-1665306000-1665311400@www.racetime.info
SUMMARY:Jim M'Lady Nissan 5K Run/Walk for Lymphoma
DESCRIPTION:Mlady 5K Overall Results
URL:https://www.racetime.info/event/jim-mlady-nissan-5k-run-walk-for-lymphoma/
LOCATION:Lippold Park\, 8597 Il. Hwy. 176\, Crystal Lake\, IL\, 60014\, United States
CATEGORIES:2022-10 Results (October)
ORGANIZER;CN="Julie Pearson":MAILTO:racetime21@hotmail.com
GEO:42.2480551;-88.3760423
X-APPLE-STRUCTURED-LOCATION;VALUE=URI;X-ADDRESS=Lippold Park 8597 Il. Hwy. 176 Crystal Lake IL 60014 United States;X-APPLE-RADIUS=500;X-TITLE=8597 Il. Hwy. 176:geo:-88.3760423,42.2480551
END:VEVENT
BEGIN:VEVENT
DTSTART;TZID=America/Chicago:20221008T083000
DTEND;TZID=America/Chicago:20221008T113000
DTSTAMP:20260423T210834
CREATED:20220326T140443Z
LAST-MODIFIED:20221008T164811Z
UID:10002099-1665217800-1665228600@www.racetime.info
SUMMARY:Panting Four Paws 5K & 10K
DESCRIPTION:Panting Four Paws 5K Age Group Results\n\nPanting Four Paws 5K Overall Results\n\nPanting Four Paws 10K Age Group Results\n\nPanting Four Paws 10K Overall Results
URL:https://www.racetime.info/event/panting-for-paws-1m-5k-10k/
LOCATION:Lippold Park\, 8597 Il. Hwy. 176\, Crystal Lake\, IL\, 60014\, United States
CATEGORIES:2022-10 Results (October)
ORGANIZER;CN="Kathy Taylor":MAILTO:kathy@helpingpaws.net
GEO:42.2480551;-88.3760423
X-APPLE-STRUCTURED-LOCATION;VALUE=URI;X-ADDRESS=Lippold Park 8597 Il. Hwy. 176 Crystal Lake IL 60014 United States;X-APPLE-RADIUS=500;X-TITLE=8597 Il. Hwy. 176:geo:-88.3760423,42.2480551
END:VEVENT
BEGIN:VEVENT
DTSTART;TZID=America/Chicago:20220522T080000
DTEND;TZID=America/Chicago:20220522T093000
DTSTAMP:20260423T210834
CREATED:20210413T140631Z
LAST-MODIFIED:20220522T171029Z
UID:10001976-1653206400-1653211800@www.racetime.info
SUMMARY:Spring Forward 5K Run/Walk
DESCRIPTION:Spring Forward 5K Age Group Results\n\nSpring Forward 5K Overall Results
URL:https://www.racetime.info/event/spring-forward-5k-run-walk-2/
LOCATION:Lippold Park\, 8597 Il. Hwy. 176\, Crystal Lake\, IL\, 60014\, United States
CATEGORIES:2022-05 Results (May)
ORGANIZER;CN="Jennifer Lueder":MAILTO:luederfamily1@gmail.com
GEO:42.2480551;-88.3760423
X-APPLE-STRUCTURED-LOCATION;VALUE=URI;X-ADDRESS=Lippold Park 8597 Il. Hwy. 176 Crystal Lake IL 60014 United States;X-APPLE-RADIUS=500;X-TITLE=8597 Il. Hwy. 176:geo:-88.3760423,42.2480551
END:VEVENT
BEGIN:VEVENT
DTSTART;TZID=America/Chicago:20210523T080000
DTEND;TZID=America/Chicago:20210523T100000
DTSTAMP:20260423T210834
CREATED:20210413T140631Z
LAST-MODIFIED:20210523T162951Z
UID:10001975-1621756800-1621764000@www.racetime.info
SUMMARY:Spring Forward 5K Run/Walk
DESCRIPTION:Spring Forward 5K Age Group Results\n\nSpring Forward 5K Overall Results
URL:https://www.racetime.info/event/spring-forward-5k-run-walk/
LOCATION:Lippold Park\, 8597 Il. Hwy. 176\, Crystal Lake\, IL\, 60014\, United States
CATEGORIES:2021-05 Results (May)
ORGANIZER;CN="Jennifer Lueder":MAILTO:luederfamily1@gmail.com
GEO:42.2480551;-88.3760423
X-APPLE-STRUCTURED-LOCATION;VALUE=URI;X-ADDRESS=Lippold Park 8597 Il. Hwy. 176 Crystal Lake IL 60014 United States;X-APPLE-RADIUS=500;X-TITLE=8597 Il. Hwy. 176:geo:-88.3760423,42.2480551
END:VEVENT
BEGIN:VEVENT
DTSTART;TZID=America/Chicago:20170910T080000
DTEND;TZID=America/Chicago:20170910T110000
DTSTAMP:20260423T210834
CREATED:20170628T114550Z
LAST-MODIFIED:20170910T194830Z
UID:10001514-1505030400-1505041200@www.racetime.info
SUMMARY:Crystal Lake Memorial Half Marathon
DESCRIPTION:Crystal Lake Half Marathon Age Group Results\n\nCrystal Lake Half Marathon Overall Elite and Intermediate Results\n\nCrystal Lake Half Marathon Clydesdale Division\n\nCrystal Lake Half Marathon Walkers\n\nCrystal Lake Half Marathon Overall Results – All
URL:https://www.racetime.info/event/crystal-lake-half-marathon-2/
LOCATION:Lippold Park\, 8597 Il. Hwy. 176\, Crystal Lake\, IL\, 60014\, United States
CATEGORIES:2017-09 Results (September)
ORGANIZER;CN="Joe Davison":MAILTO:jdavison@crystallakeparks.org
GEO:42.2480551;-88.3760423
X-APPLE-STRUCTURED-LOCATION;VALUE=URI;X-ADDRESS=Lippold Park 8597 Il. Hwy. 176 Crystal Lake IL 60014 United States;X-APPLE-RADIUS=500;X-TITLE=8597 Il. Hwy. 176:geo:-88.3760423,42.2480551
END:VEVENT
BEGIN:VEVENT
DTSTART;TZID=America/Chicago:20161106T083000
DTEND;TZID=America/Chicago:20161106T103000
DTSTAMP:20260423T210834
CREATED:20161019T111207Z
LAST-MODIFIED:20161106T181320Z
UID:10000863-1478421000-1478428200@www.racetime.info
SUMMARY:Panting for Paws 5K Run/Walk  & 1 Mile Youth Fun Run
DESCRIPTION:Panting For Paws 5K Age Group Results\n\nPanting For Paws 5K Overall Results
URL:https://www.racetime.info/event/panting-for-paws-5k-runwalk-1-mile-youth-fun-run/
LOCATION:Lippold Park\, 8597 Il. Hwy. 176\, Crystal Lake\, IL\, 60014\, United States
CATEGORIES:2016-11 Results (November)
ORGANIZER;CN="Ravelle Scherer-Schwab":MAILTO:ravelle@helpingpaws.net
GEO:42.2480551;-88.3760423
X-APPLE-STRUCTURED-LOCATION;VALUE=URI;X-ADDRESS=Lippold Park 8597 Il. Hwy. 176 Crystal Lake IL 60014 United States;X-APPLE-RADIUS=500;X-TITLE=8597 Il. Hwy. 176:geo:-88.3760423,42.2480551
END:VEVENT
BEGIN:VEVENT
DTSTART;TZID=America/Chicago:20160911T070000
DTEND;TZID=America/Chicago:20160911T110000
DTSTAMP:20260423T210834
CREATED:20160611T103046Z
LAST-MODIFIED:20160917T050924Z
UID:10000679-1473577200-1473591600@www.racetime.info
SUMMARY:Crystal Lake Half Marathon
DESCRIPTION:Crystal Lake Half Marathon Clydesdale Athena Class\n\nCrystal Lake Half Marathon Walkers Results\n\nCrystal Lake Half Marathon Age Group Results\n\nCrystal Lake Half Marathon Overall Results
URL:https://www.racetime.info/event/crystal-lake-half-marathon/
LOCATION:Lippold Park\, 8597 Il. Hwy. 176\, Crystal Lake\, IL\, 60014\, United States
CATEGORIES:2016-09 Results (September)
ORGANIZER;CN="Joe Davison":MAILTO:jdavison@crystallakeparks.org
GEO:42.2480551;-88.3760423
X-APPLE-STRUCTURED-LOCATION;VALUE=URI;X-ADDRESS=Lippold Park 8597 Il. Hwy. 176 Crystal Lake IL 60014 United States;X-APPLE-RADIUS=500;X-TITLE=8597 Il. Hwy. 176:geo:-88.3760423,42.2480551
END:VEVENT
BEGIN:VEVENT
DTSTART;TZID=America/Chicago:20151101T090000
DTEND;TZID=America/Chicago:20151101T110000
DTSTAMP:20260423T210834
CREATED:20151030T004243Z
LAST-MODIFIED:20151101T234738Z
UID:10000470-1446368400-1446375600@www.racetime.info
SUMMARY:Panting for Paws 5K Run/Walk
DESCRIPTION:Panting For Paws 5K Age Group Results\n\nPanting For Paws 5K Overall Results
URL:https://www.racetime.info/event/panting-for-paws-5k-runwalk/
LOCATION:Lippold Park\, 8597 Il. Hwy. 176\, Crystal Lake\, IL\, 60014\, United States
CATEGORIES:2015-11 Results (November)
ORGANIZER;CN="Ravelle Scherer-Schwab":MAILTO:ravelle@helpingpaws.net
GEO:42.2480551;-88.3760423
X-APPLE-STRUCTURED-LOCATION;VALUE=URI;X-ADDRESS=Lippold Park 8597 Il. Hwy. 176 Crystal Lake IL 60014 United States;X-APPLE-RADIUS=500;X-TITLE=8597 Il. Hwy. 176:geo:-88.3760423,42.2480551
END:VEVENT
BEGIN:VEVENT
DTSTART;TZID=America/Chicago:20150913T080000
DTEND;TZID=America/Chicago:20150913T110000
DTSTAMP:20260423T210834
CREATED:20150608T115250Z
LAST-MODIFIED:20150915T012630Z
UID:10000066-1442131200-1442142000@www.racetime.info
SUMMARY:Crystal Lake Memorial Half Marathon
DESCRIPTION:Memorial Half Marathon Age Group Results\n\nMemorial Half Marathon Overall Results\n\nMemorial Half Marathon Clydesdale and Athena Results\n\nMemorial Half Marathon Walkers Overall Results
URL:https://www.racetime.info/event/crystal-lake-memorial-half-marathon/
LOCATION:Lippold Park\, 8597 Il. Hwy. 176\, Crystal Lake\, IL\, 60014\, United States
CATEGORIES:2015-09 Results (September)
ORGANIZER;CN="Joe Davison":MAILTO:jdavison@crystallakeparks.org
GEO:42.2480551;-88.3760423
X-APPLE-STRUCTURED-LOCATION;VALUE=URI;X-ADDRESS=Lippold Park 8597 Il. Hwy. 176 Crystal Lake IL 60014 United States;X-APPLE-RADIUS=500;X-TITLE=8597 Il. Hwy. 176:geo:-88.3760423,42.2480551
END:VEVENT
END:VCALENDAR