BEGIN:VCALENDAR
VERSION:2.0
PRODID:-//Race Time - ECPv6.15.13//NONSGML v1.0//EN
CALSCALE:GREGORIAN
METHOD:PUBLISH
X-WR-CALNAME:Race Time
X-ORIGINAL-URL:https://www.racetime.info
X-WR-CALDESC:Events for Race Time
REFRESH-INTERVAL;VALUE=DURATION:PT1H
X-Robots-Tag:noindex
X-PUBLISHED-TTL:PT1H
BEGIN:VTIMEZONE
TZID:America/Chicago
BEGIN:DAYLIGHT
TZOFFSETFROM:-0600
TZOFFSETTO:-0500
TZNAME:CDT
DTSTART:20250309T080000
END:DAYLIGHT
BEGIN:STANDARD
TZOFFSETFROM:-0500
TZOFFSETTO:-0600
TZNAME:CST
DTSTART:20251102T070000
END:STANDARD
BEGIN:DAYLIGHT
TZOFFSETFROM:-0600
TZOFFSETTO:-0500
TZNAME:CDT
DTSTART:20260308T080000
END:DAYLIGHT
BEGIN:STANDARD
TZOFFSETFROM:-0500
TZOFFSETTO:-0600
TZNAME:CST
DTSTART:20261101T070000
END:STANDARD
BEGIN:DAYLIGHT
TZOFFSETFROM:-0600
TZOFFSETTO:-0500
TZNAME:CDT
DTSTART:20270314T080000
END:DAYLIGHT
BEGIN:STANDARD
TZOFFSETFROM:-0500
TZOFFSETTO:-0600
TZNAME:CST
DTSTART:20271107T070000
END:STANDARD
END:VTIMEZONE
BEGIN:VEVENT
DTSTART;TZID=America/Chicago:20260516T080000
DTEND;TZID=America/Chicago:20260516T093000
DTSTAMP:20260423T235338
CREATED:20260308T185019Z
LAST-MODIFIED:20260308T185019Z
UID:10002528-1778918400-1778923800@www.racetime.info
SUMMARY:Lilac Mutt Strutt 5K Run & 1 Mile Walk
DESCRIPTION:Lilac Mutt Strut 5k Age Group Results
URL:https://www.racetime.info/event/lilac-mutt-strutt-5k-run-1-mile-walk-4/
LOCATION:Lombard Park District Administration Building\, 227 W. Parkside Avenue\, Lombard\, IL\, 60148\, United States
ORGANIZER;CN="Jake Pawlak":MAILTO:jpawlak@lombardparks.com
GEO:41.8848577;-88.022429
X-APPLE-STRUCTURED-LOCATION;VALUE=URI;X-ADDRESS=Lombard Park District Administration Building 227 W. Parkside Avenue Lombard IL 60148 United States;X-APPLE-RADIUS=500;X-TITLE=227 W. Parkside Avenue:geo:-88.022429,41.8848577
END:VEVENT
END:VCALENDAR