BEGIN:VCALENDAR
VERSION:2.0
PRODID:-//Race Time - ECPv6.15.13//NONSGML v1.0//EN
CALSCALE:GREGORIAN
METHOD:PUBLISH
X-WR-CALNAME:Race Time
X-ORIGINAL-URL:https://www.racetime.info
X-WR-CALDESC:Events for Race Time
REFRESH-INTERVAL;VALUE=DURATION:PT1H
X-Robots-Tag:noindex
X-PUBLISHED-TTL:PT1H
BEGIN:VTIMEZONE
TZID:America/Chicago
BEGIN:DAYLIGHT
TZOFFSETFROM:-0600
TZOFFSETTO:-0500
TZNAME:CDT
DTSTART:20150308T080000
END:DAYLIGHT
BEGIN:STANDARD
TZOFFSETFROM:-0500
TZOFFSETTO:-0600
TZNAME:CST
DTSTART:20151101T070000
END:STANDARD
BEGIN:DAYLIGHT
TZOFFSETFROM:-0600
TZOFFSETTO:-0500
TZNAME:CDT
DTSTART:20160313T080000
END:DAYLIGHT
BEGIN:STANDARD
TZOFFSETFROM:-0500
TZOFFSETTO:-0600
TZNAME:CST
DTSTART:20161106T070000
END:STANDARD
BEGIN:DAYLIGHT
TZOFFSETFROM:-0600
TZOFFSETTO:-0500
TZNAME:CDT
DTSTART:20170312T080000
END:DAYLIGHT
BEGIN:STANDARD
TZOFFSETFROM:-0500
TZOFFSETTO:-0600
TZNAME:CST
DTSTART:20171105T070000
END:STANDARD
BEGIN:DAYLIGHT
TZOFFSETFROM:-0600
TZOFFSETTO:-0500
TZNAME:CDT
DTSTART:20180311T080000
END:DAYLIGHT
BEGIN:STANDARD
TZOFFSETFROM:-0500
TZOFFSETTO:-0600
TZNAME:CST
DTSTART:20181104T070000
END:STANDARD
BEGIN:DAYLIGHT
TZOFFSETFROM:-0600
TZOFFSETTO:-0500
TZNAME:CDT
DTSTART:20190310T080000
END:DAYLIGHT
BEGIN:STANDARD
TZOFFSETFROM:-0500
TZOFFSETTO:-0600
TZNAME:CST
DTSTART:20191103T070000
END:STANDARD
BEGIN:DAYLIGHT
TZOFFSETFROM:-0600
TZOFFSETTO:-0500
TZNAME:CDT
DTSTART:20200308T080000
END:DAYLIGHT
BEGIN:STANDARD
TZOFFSETFROM:-0500
TZOFFSETTO:-0600
TZNAME:CST
DTSTART:20201101T070000
END:STANDARD
BEGIN:DAYLIGHT
TZOFFSETFROM:-0600
TZOFFSETTO:-0500
TZNAME:CDT
DTSTART:20210314T080000
END:DAYLIGHT
BEGIN:STANDARD
TZOFFSETFROM:-0500
TZOFFSETTO:-0600
TZNAME:CST
DTSTART:20211107T070000
END:STANDARD
BEGIN:DAYLIGHT
TZOFFSETFROM:-0600
TZOFFSETTO:-0500
TZNAME:CDT
DTSTART:20220313T080000
END:DAYLIGHT
BEGIN:STANDARD
TZOFFSETFROM:-0500
TZOFFSETTO:-0600
TZNAME:CST
DTSTART:20221106T070000
END:STANDARD
BEGIN:DAYLIGHT
TZOFFSETFROM:-0600
TZOFFSETTO:-0500
TZNAME:CDT
DTSTART:20230312T080000
END:DAYLIGHT
BEGIN:STANDARD
TZOFFSETFROM:-0500
TZOFFSETTO:-0600
TZNAME:CST
DTSTART:20231105T070000
END:STANDARD
BEGIN:DAYLIGHT
TZOFFSETFROM:-0600
TZOFFSETTO:-0500
TZNAME:CDT
DTSTART:20240310T080000
END:DAYLIGHT
BEGIN:STANDARD
TZOFFSETFROM:-0500
TZOFFSETTO:-0600
TZNAME:CST
DTSTART:20241103T070000
END:STANDARD
BEGIN:DAYLIGHT
TZOFFSETFROM:-0600
TZOFFSETTO:-0500
TZNAME:CDT
DTSTART:20250309T080000
END:DAYLIGHT
BEGIN:STANDARD
TZOFFSETFROM:-0500
TZOFFSETTO:-0600
TZNAME:CST
DTSTART:20251102T070000
END:STANDARD
BEGIN:DAYLIGHT
TZOFFSETFROM:-0600
TZOFFSETTO:-0500
TZNAME:CDT
DTSTART:20260308T080000
END:DAYLIGHT
BEGIN:STANDARD
TZOFFSETFROM:-0500
TZOFFSETTO:-0600
TZNAME:CST
DTSTART:20261101T070000
END:STANDARD
END:VTIMEZONE
BEGIN:VEVENT
DTSTART;TZID=America/Chicago:20250503T093000
DTEND;TZID=America/Chicago:20250503T110000
DTSTAMP:20260424T012502
CREATED:20250401T122300Z
LAST-MODIFIED:20250503T173325Z
UID:10002308-1746264600-1746270000@www.racetime.info
SUMMARY:Midwestern University Groovin' In The Grove 5K Run/Walk
DESCRIPTION:Groovin In The Grove 5K Age Group Results\n\nGroovin In The Grove 5K Overall Results
URL:https://www.racetime.info/event/midwestern-university-groovin-in-the-grove-5k-run-walk-2/
LOCATION:Midwestern University Campus\, 555 31st Street\, Downers Grove\, IL\, 60515\, United States
CATEGORIES:2025-05 Results (May)
ORGANIZER;CN="Nick Maentanis":MAILTO:nmaent@midwestern.edu
GEO:41.8280448;-87.9991089
X-APPLE-STRUCTURED-LOCATION;VALUE=URI;X-ADDRESS=Midwestern University Campus 555 31st Street Downers Grove IL 60515 United States;X-APPLE-RADIUS=500;X-TITLE=555 31st Street:geo:-87.9991089,41.8280448
END:VEVENT
BEGIN:VEVENT
DTSTART;TZID=America/Chicago:20240504T093000
DTEND;TZID=America/Chicago:20240504T110000
DTSTAMP:20260424T012502
CREATED:20230506T163111Z
LAST-MODIFIED:20240504T201958Z
UID:10002172-1714815000-1714820400@www.racetime.info
SUMMARY:Midwestern University Groovin' In The Grove 5K Run/Walk
DESCRIPTION:Groovin in the Grove 5K Age Group Results\n\nGroovin in the Grove 5K Overall Results
URL:https://www.racetime.info/event/copy-of-midwestern-university-groovin-in-the-grove-5k-run-walk/
LOCATION:Midwestern University Campus\, 555 31st Street\, Downers Grove\, IL\, 60515\, United States
CATEGORIES:2024-05 Results (May)
ORGANIZER;CN="Nick Maentanis":MAILTO:nmaent@midwestern.edu
GEO:41.8280448;-87.9991089
X-APPLE-STRUCTURED-LOCATION;VALUE=URI;X-ADDRESS=Midwestern University Campus 555 31st Street Downers Grove IL 60515 United States;X-APPLE-RADIUS=500;X-TITLE=555 31st Street:geo:-87.9991089,41.8280448
END:VEVENT
BEGIN:VEVENT
DTSTART;TZID=America/Chicago:20230506T080000
DTEND;TZID=America/Chicago:20230506T093000
DTSTAMP:20260424T012502
CREATED:20230506T163111Z
LAST-MODIFIED:20230506T163111Z
UID:10002170-1683360000-1683365400@www.racetime.info
SUMMARY:Midwestern University Groovin' In The Grove 5K Run/Walk
DESCRIPTION:Midwestern Groovin’ In The Grove 5K Overall Results
URL:https://www.racetime.info/event/midwestern-university-groovin-in-the-grove-5k-run-walk/
LOCATION:Midwestern University Campus\, 555 31st Street\, Downers Grove\, IL\, 60515\, United States
CATEGORIES:2023-05 Results (May)
GEO:41.8280448;-87.9991089
X-APPLE-STRUCTURED-LOCATION;VALUE=URI;X-ADDRESS=Midwestern University Campus 555 31st Street Downers Grove IL 60515 United States;X-APPLE-RADIUS=500;X-TITLE=555 31st Street:geo:-87.9991089,41.8280448
END:VEVENT
BEGIN:VEVENT
DTSTART;TZID=America/Chicago:20200509T090000
DTEND;TZID=America/Chicago:20200509T110000
DTSTAMP:20260424T012502
CREATED:20180512T192229Z
LAST-MODIFIED:20200417T140750Z
UID:10001788-1589014800-1589022000@www.racetime.info
SUMMARY:Groovin' In The Grove 5K/10K & Youth Runs: CANCELLED
DESCRIPTION:
URL:https://www.racetime.info/event/groovin-in-the-grove-5k-10k-youth-runs/
LOCATION:Midwestern University Campus\, 555 31st Street\, Downers Grove\, IL\, 60515\, United States
ORGANIZER;CN="Don Evans":MAILTO:devans@midwestern.edu
GEO:41.8280448;-87.9991089
X-APPLE-STRUCTURED-LOCATION;VALUE=URI;X-ADDRESS=Midwestern University Campus 555 31st Street Downers Grove IL 60515 United States;X-APPLE-RADIUS=500;X-TITLE=555 31st Street:geo:-87.9991089,41.8280448
END:VEVENT
BEGIN:VEVENT
DTSTART;TZID=America/Chicago:20190601T083000
DTEND;TZID=America/Chicago:20190601T103000
DTSTAMP:20260424T012502
CREATED:20190313T121212Z
LAST-MODIFIED:20190601T160911Z
UID:10001874-1559377800-1559385000@www.racetime.info
SUMMARY:Highland's Husky Hustle 5K & 1 Mile Run/Walk
DESCRIPTION:Highland Husky Hustle 1 Mile Overall Results\n\nHighland Husky Hustle 5K Age Group Results\n\nHighland Husky Hustle 5K Overall Results
URL:https://www.racetime.info/event/highlands-husky-hustle-5k-1-mile-run-walk/
LOCATION:Midwestern University Campus\, 555 31st Street\, Downers Grove\, IL\, 60515\, United States
CATEGORIES:2019-06 Results (June)
ORGANIZER;CN="Cara McCall":MAILTO:mccall06@icloud.com
GEO:41.8280448;-87.9991089
X-APPLE-STRUCTURED-LOCATION;VALUE=URI;X-ADDRESS=Midwestern University Campus 555 31st Street Downers Grove IL 60515 United States;X-APPLE-RADIUS=500;X-TITLE=555 31st Street:geo:-87.9991089,41.8280448
END:VEVENT
BEGIN:VEVENT
DTSTART;TZID=America/Chicago:20190511T090000
DTEND;TZID=America/Chicago:20190511T110000
DTSTAMP:20260424T012502
CREATED:20180512T192229Z
LAST-MODIFIED:20190511T193523Z
UID:10001786-1557565200-1557572400@www.racetime.info
SUMMARY:Groovin' In The Grove 5K/10K & Youth Runs
DESCRIPTION:Groovin In The Grove .5K Youth Run\n\nGroovin In The Grove 1K Youth Run\n\nGroovin In The Grove 5K Age Group Report\n\nGroovin In The Grove 5K Overall Report\n\nGroovin In The Grove 5K Moms\n\nGroovin In The Grove 10K Age Group Report\n\nGroovin In The Grove 10K Overall Report
URL:https://www.racetime.info/event/groovin-in-the-grove-5k-youth-runs-2/
LOCATION:Midwestern University Campus\, 555 31st Street\, Downers Grove\, IL\, 60515\, United States
CATEGORIES:2019-05 Results (May)
ORGANIZER;CN="Don Evans":MAILTO:devans@midwestern.edu
GEO:41.8280448;-87.9991089
X-APPLE-STRUCTURED-LOCATION;VALUE=URI;X-ADDRESS=Midwestern University Campus 555 31st Street Downers Grove IL 60515 United States;X-APPLE-RADIUS=500;X-TITLE=555 31st Street:geo:-87.9991089,41.8280448
END:VEVENT
BEGIN:VEVENT
DTSTART;TZID=America/Chicago:20180512T090000
DTEND;TZID=America/Chicago:20180512T110000
DTSTAMP:20260424T012502
CREATED:20180512T192229Z
LAST-MODIFIED:20180512T192327Z
UID:10001785-1526115600-1526122800@www.racetime.info
SUMMARY:Groovin' In The Grove 5K & Youth Runs
DESCRIPTION:Groovin In The Grove Youth Runs\n\nGroovin’ In The Grove 5K Age Group Results\n\nGroovin’ In The Grove 5K Overall Results\n\nGroovin’ In The Grove 5K Moms
URL:https://www.racetime.info/event/groovin-in-the-grove-5k-youth-runs/
LOCATION:Midwestern University Campus\, 555 31st Street\, Downers Grove\, IL\, 60515\, United States
CATEGORIES:2018-05 Results (May)
ORGANIZER;CN="Don Evans":MAILTO:devans@midwestern.edu
GEO:41.8280448;-87.9991089
X-APPLE-STRUCTURED-LOCATION;VALUE=URI;X-ADDRESS=Midwestern University Campus 555 31st Street Downers Grove IL 60515 United States;X-APPLE-RADIUS=500;X-TITLE=555 31st Street:geo:-87.9991089,41.8280448
END:VEVENT
BEGIN:VEVENT
DTSTART;TZID=America/Chicago:20171029T090000
DTEND;TZID=America/Chicago:20171029T112500
DTSTAMP:20260424T012502
CREATED:20170902T183553Z
LAST-MODIFIED:20171029T215933Z
UID:10001661-1509267600-1509276300@www.racetime.info
SUMMARY:Free to Fly 5K Run/Walk & 10K Run
DESCRIPTION:Free To Fly 5K Age Group Results\n\nFree To Fly 5K Overall Results\n\nFree to Fly 10K Age Group Results\n\nFree To Fly 10K Overall Results
URL:https://www.racetime.info/event/free-to-fly-5k-runwalk-10k-run/
LOCATION:Midwestern University Campus\, 555 31st Street\, Downers Grove\, IL\, 60515\, United States
CATEGORIES:2017-10 Results (October)
ORGANIZER;CN="Katie Peterson":MAILTO:kpeterson@familyshelterservice.org
GEO:41.8280448;-87.9991089
X-APPLE-STRUCTURED-LOCATION;VALUE=URI;X-ADDRESS=Midwestern University Campus 555 31st Street Downers Grove IL 60515 United States;X-APPLE-RADIUS=500;X-TITLE=555 31st Street:geo:-87.9991089,41.8280448
END:VEVENT
BEGIN:VEVENT
DTSTART;TZID=America/Chicago:20170513T090000
DTEND;TZID=America/Chicago:20170513T110000
DTSTAMP:20260424T012502
CREATED:20170315T194549Z
LAST-MODIFIED:20170513T184357Z
UID:10000497-1494666000-1494673200@www.racetime.info
SUMMARY:Groovin' In The Grove 5K & Little Groovers Races
DESCRIPTION:Groovin’ In The Grove 5K Age Group Results\n\nGroovin’ In The Grove 5K Overall Results\n\nGroovin’ In The Grove Moms’ Overall Results\n\nGroovin’ In The Grove Youth Run Results
URL:https://www.racetime.info/event/groovin-in-the-grove-5k-little-groovers-races/
LOCATION:Midwestern University Campus\, 555 31st Street\, Downers Grove\, IL\, 60515\, United States
CATEGORIES:2017-05 Results (May)
ORGANIZER;CN="Don Evans":MAILTO:devans@midwestern.edu
GEO:41.8280448;-87.9991089
X-APPLE-STRUCTURED-LOCATION;VALUE=URI;X-ADDRESS=Midwestern University Campus 555 31st Street Downers Grove IL 60515 United States;X-APPLE-RADIUS=500;X-TITLE=555 31st Street:geo:-87.9991089,41.8280448
END:VEVENT
BEGIN:VEVENT
DTSTART;TZID=America/Chicago:20161030T083000
DTEND;TZID=America/Chicago:20161030T103000
DTSTAMP:20260424T012502
CREATED:20161019T010842Z
LAST-MODIFIED:20161030T172546Z
UID:10000859-1477816200-1477823400@www.racetime.info
SUMMARY:Be A Hero For Hope 5K\, 10K & 1K Youth Run
DESCRIPTION:Be A Hero For Hope 5K Age Group Results\n\nBe A Hero For Hope 5K Overall Results\n\nBe A Hero For Hope 10K Age Group Results\n\nBe A Hero For Hope 10K Overall Results
URL:https://www.racetime.info/event/be-a-hero-for-hope-5k-10k-1k-youth-run/
LOCATION:Midwestern University Campus\, 555 31st Street\, Downers Grove\, IL\, 60515\, United States
CATEGORIES:2016-10 Results (October)
ORGANIZER;CN="Karen Walsh":MAILTO:karenw@familyshelterservice.net
GEO:41.8280448;-87.9991089
X-APPLE-STRUCTURED-LOCATION;VALUE=URI;X-ADDRESS=Midwestern University Campus 555 31st Street Downers Grove IL 60515 United States;X-APPLE-RADIUS=500;X-TITLE=555 31st Street:geo:-87.9991089,41.8280448
END:VEVENT
BEGIN:VEVENT
DTSTART;TZID=America/Chicago:20160507T090000
DTEND;TZID=America/Chicago:20160507T110000
DTSTAMP:20260424T012502
CREATED:20160111T181904Z
LAST-MODIFIED:20160507T185325Z
UID:10000475-1462611600-1462618800@www.racetime.info
SUMMARY:Groovin' In The Grove 5K Run/Walk
DESCRIPTION:Groovin in the Grove Little Groovers Results\n\nGroovin in the Grove 5K Age Group Results\n\nGroovin in the Grove 5K Overall Results\n\nGroovin in the Grove 5K Overall Moms
URL:https://www.racetime.info/event/groovin-in-the-grove-5k-runwalk/
LOCATION:Midwestern University Campus\, 555 31st Street\, Downers Grove\, IL\, 60515\, United States
CATEGORIES:2016-05 Results (May)
ORGANIZER;CN="Don Evans":MAILTO:devans@midwestern.edu
GEO:41.8280448;-87.9991089
X-APPLE-STRUCTURED-LOCATION;VALUE=URI;X-ADDRESS=Midwestern University Campus 555 31st Street Downers Grove IL 60515 United States;X-APPLE-RADIUS=500;X-TITLE=555 31st Street:geo:-87.9991089,41.8280448
END:VEVENT
END:VCALENDAR