BEGIN:VCALENDAR
VERSION:2.0
PRODID:-//Race Time - ECPv6.15.13//NONSGML v1.0//EN
CALSCALE:GREGORIAN
METHOD:PUBLISH
X-WR-CALNAME:Race Time
X-ORIGINAL-URL:https://www.racetime.info
X-WR-CALDESC:Events for Race Time
REFRESH-INTERVAL;VALUE=DURATION:PT1H
X-Robots-Tag:noindex
X-PUBLISHED-TTL:PT1H
BEGIN:VTIMEZONE
TZID:America/Chicago
BEGIN:DAYLIGHT
TZOFFSETFROM:-0600
TZOFFSETTO:-0500
TZNAME:CDT
DTSTART:20140309T080000
END:DAYLIGHT
BEGIN:STANDARD
TZOFFSETFROM:-0500
TZOFFSETTO:-0600
TZNAME:CST
DTSTART:20141102T070000
END:STANDARD
BEGIN:DAYLIGHT
TZOFFSETFROM:-0600
TZOFFSETTO:-0500
TZNAME:CDT
DTSTART:20150308T080000
END:DAYLIGHT
BEGIN:STANDARD
TZOFFSETFROM:-0500
TZOFFSETTO:-0600
TZNAME:CST
DTSTART:20151101T070000
END:STANDARD
BEGIN:DAYLIGHT
TZOFFSETFROM:-0600
TZOFFSETTO:-0500
TZNAME:CDT
DTSTART:20160313T080000
END:DAYLIGHT
BEGIN:STANDARD
TZOFFSETFROM:-0500
TZOFFSETTO:-0600
TZNAME:CST
DTSTART:20161106T070000
END:STANDARD
BEGIN:DAYLIGHT
TZOFFSETFROM:-0600
TZOFFSETTO:-0500
TZNAME:CDT
DTSTART:20170312T080000
END:DAYLIGHT
BEGIN:STANDARD
TZOFFSETFROM:-0500
TZOFFSETTO:-0600
TZNAME:CST
DTSTART:20171105T070000
END:STANDARD
BEGIN:DAYLIGHT
TZOFFSETFROM:-0600
TZOFFSETTO:-0500
TZNAME:CDT
DTSTART:20180311T080000
END:DAYLIGHT
BEGIN:STANDARD
TZOFFSETFROM:-0500
TZOFFSETTO:-0600
TZNAME:CST
DTSTART:20181104T070000
END:STANDARD
BEGIN:DAYLIGHT
TZOFFSETFROM:-0600
TZOFFSETTO:-0500
TZNAME:CDT
DTSTART:20190310T080000
END:DAYLIGHT
BEGIN:STANDARD
TZOFFSETFROM:-0500
TZOFFSETTO:-0600
TZNAME:CST
DTSTART:20191103T070000
END:STANDARD
BEGIN:DAYLIGHT
TZOFFSETFROM:-0600
TZOFFSETTO:-0500
TZNAME:CDT
DTSTART:20200308T080000
END:DAYLIGHT
BEGIN:STANDARD
TZOFFSETFROM:-0500
TZOFFSETTO:-0600
TZNAME:CST
DTSTART:20201101T070000
END:STANDARD
BEGIN:DAYLIGHT
TZOFFSETFROM:-0600
TZOFFSETTO:-0500
TZNAME:CDT
DTSTART:20210314T080000
END:DAYLIGHT
BEGIN:STANDARD
TZOFFSETFROM:-0500
TZOFFSETTO:-0600
TZNAME:CST
DTSTART:20211107T070000
END:STANDARD
BEGIN:DAYLIGHT
TZOFFSETFROM:-0600
TZOFFSETTO:-0500
TZNAME:CDT
DTSTART:20220313T080000
END:DAYLIGHT
BEGIN:STANDARD
TZOFFSETFROM:-0500
TZOFFSETTO:-0600
TZNAME:CST
DTSTART:20221106T070000
END:STANDARD
BEGIN:DAYLIGHT
TZOFFSETFROM:-0600
TZOFFSETTO:-0500
TZNAME:CDT
DTSTART:20230312T080000
END:DAYLIGHT
BEGIN:STANDARD
TZOFFSETFROM:-0500
TZOFFSETTO:-0600
TZNAME:CST
DTSTART:20231105T070000
END:STANDARD
BEGIN:DAYLIGHT
TZOFFSETFROM:-0600
TZOFFSETTO:-0500
TZNAME:CDT
DTSTART:20240310T080000
END:DAYLIGHT
BEGIN:STANDARD
TZOFFSETFROM:-0500
TZOFFSETTO:-0600
TZNAME:CST
DTSTART:20241103T070000
END:STANDARD
BEGIN:DAYLIGHT
TZOFFSETFROM:-0600
TZOFFSETTO:-0500
TZNAME:CDT
DTSTART:20250309T080000
END:DAYLIGHT
BEGIN:STANDARD
TZOFFSETFROM:-0500
TZOFFSETTO:-0600
TZNAME:CST
DTSTART:20251102T070000
END:STANDARD
BEGIN:DAYLIGHT
TZOFFSETFROM:-0600
TZOFFSETTO:-0500
TZNAME:CDT
DTSTART:20260308T080000
END:DAYLIGHT
BEGIN:STANDARD
TZOFFSETFROM:-0500
TZOFFSETTO:-0600
TZNAME:CST
DTSTART:20261101T070000
END:STANDARD
END:VTIMEZONE
BEGIN:VEVENT
DTSTART;TZID=America/Chicago:20251025T090000
DTEND;TZID=America/Chicago:20251025T103000
DTSTAMP:20260423T194231
CREATED:20250808T114842Z
LAST-MODIFIED:20251025T174456Z
UID:10002398-1761382800-1761388200@www.racetime.info
SUMMARY:Minds Matter Homecoming 5K Run/Walk
DESCRIPTION:Minds Matter Homecoming 5K Age Group Results\n\nMinds Matter Homecoming 5K Overall Results
URL:https://www.racetime.info/event/minds-matter-homecoming-5k-run-walk-2/
LOCATION:Montrose Harbor\, 601 W. Montrose Avenue\, Chicago\, IL\, United States
CATEGORIES:2025-10 Results (October)
ORGANIZER;CN="Mary Agnes Zellmer":MAILTO:maz@chicagoracemanagement.com
GEO:41.9630332;-87.6381737
X-APPLE-STRUCTURED-LOCATION;VALUE=URI;X-ADDRESS=Montrose Harbor 601 W. Montrose Avenue Chicago IL United States;X-APPLE-RADIUS=500;X-TITLE=601 W. Montrose Avenue:geo:-87.6381737,41.9630332
END:VEVENT
BEGIN:VEVENT
DTSTART;TZID=America/Chicago:20241026T090000
DTEND;TZID=America/Chicago:20241026T103000
DTSTAMP:20260423T194231
CREATED:20241024T115809Z
LAST-MODIFIED:20241026T165907Z
UID:10002231-1729933200-1729938600@www.racetime.info
SUMMARY:Minds Matter Homecoming 5K Run/Walk
DESCRIPTION:Minds Matter Homecoming Overall Results
URL:https://www.racetime.info/event/minds-matter-homecoming-5k-run-walk/
LOCATION:Montrose Harbor\, 601 W. Montrose Avenue\, Chicago\, IL\, United States
CATEGORIES:2024-10 Results (October)
ORGANIZER;CN="Mary Agnes Zellmer":MAILTO:maz@chicagoracemanagement.com
GEO:41.9630332;-87.6381737
X-APPLE-STRUCTURED-LOCATION;VALUE=URI;X-ADDRESS=Montrose Harbor 601 W. Montrose Avenue Chicago IL United States;X-APPLE-RADIUS=500;X-TITLE=601 W. Montrose Avenue:geo:-87.6381737,41.9630332
END:VEVENT
BEGIN:VEVENT
DTSTART;TZID=America/Chicago:20240803T084500
DTEND;TZID=America/Chicago:20240803T110000
DTSTAMP:20260423T194231
CREATED:20170609T172131Z
LAST-MODIFIED:20240803T194247Z
UID:10001434-1722674700-1722682800@www.racetime.info
SUMMARY:Get Your Rear In Gear 5K Run/Walk
DESCRIPTION:Get Your Rear In Gear Survivors\n\nGet Your Rear In Gear 5K Age Group Results\n\nGet Your Rear In Gear 5K Overall Results
URL:https://www.racetime.info/event/copy-of-get-your-rear-in-gear-5k-run-walk/
LOCATION:Montrose Harbor\, 601 W. Montrose Avenue\, Chicago\, IL\, United States
CATEGORIES:2024-08 Results (August)
ORGANIZER;CN="Amanda Schulman":MAILTO:amanda@coloncancercoalition.org
GEO:41.9630332;-87.6381737
X-APPLE-STRUCTURED-LOCATION;VALUE=URI;X-ADDRESS=Montrose Harbor 601 W. Montrose Avenue Chicago IL United States;X-APPLE-RADIUS=500;X-TITLE=601 W. Montrose Avenue:geo:-87.6381737,41.9630332
END:VEVENT
BEGIN:VEVENT
DTSTART;TZID=America/Chicago:20150712T083000
DTEND;TZID=America/Chicago:20150712T110000
DTSTAMP:20260423T194231
CREATED:20150608T021405Z
LAST-MODIFIED:20150831T202631Z
UID:10000064-1436689800-1436698800@www.racetime.info
SUMMARY:Miles For Melanoma 5K Run/Walk
DESCRIPTION:Miles for Melanoma 5K Age Group Results\n\nMiles for Melanoma 5K Overall Results
URL:https://www.racetime.info/event/miles-for-melanoma-5k-runwalk/
LOCATION:Montrose Harbor\, 601 W. Montrose Avenue\, Chicago\, IL\, United States
CATEGORIES:2015-07 Results (July)
ORGANIZER;CN="John Corrigan":MAILTO:jmcpartners@sbcglobal.net
GEO:41.9630332;-87.6381737
X-APPLE-STRUCTURED-LOCATION;VALUE=URI;X-ADDRESS=Montrose Harbor 601 W. Montrose Avenue Chicago IL United States;X-APPLE-RADIUS=500;X-TITLE=601 W. Montrose Avenue:geo:-87.6381737,41.9630332
END:VEVENT
END:VCALENDAR