BEGIN:VCALENDAR
VERSION:2.0
PRODID:-//Race Time - ECPv6.15.13//NONSGML v1.0//EN
CALSCALE:GREGORIAN
METHOD:PUBLISH
X-WR-CALNAME:Race Time
X-ORIGINAL-URL:https://www.racetime.info
X-WR-CALDESC:Events for Race Time
REFRESH-INTERVAL;VALUE=DURATION:PT1H
X-Robots-Tag:noindex
X-PUBLISHED-TTL:PT1H
BEGIN:VTIMEZONE
TZID:America/Chicago
BEGIN:DAYLIGHT
TZOFFSETFROM:-0600
TZOFFSETTO:-0500
TZNAME:CDT
DTSTART:20140309T080000
END:DAYLIGHT
BEGIN:STANDARD
TZOFFSETFROM:-0500
TZOFFSETTO:-0600
TZNAME:CST
DTSTART:20141102T070000
END:STANDARD
BEGIN:DAYLIGHT
TZOFFSETFROM:-0600
TZOFFSETTO:-0500
TZNAME:CDT
DTSTART:20150308T080000
END:DAYLIGHT
BEGIN:STANDARD
TZOFFSETFROM:-0500
TZOFFSETTO:-0600
TZNAME:CST
DTSTART:20151101T070000
END:STANDARD
BEGIN:DAYLIGHT
TZOFFSETFROM:-0600
TZOFFSETTO:-0500
TZNAME:CDT
DTSTART:20160313T080000
END:DAYLIGHT
BEGIN:STANDARD
TZOFFSETFROM:-0500
TZOFFSETTO:-0600
TZNAME:CST
DTSTART:20161106T070000
END:STANDARD
END:VTIMEZONE
BEGIN:VEVENT
DTSTART;TZID=America/Chicago:20150830T073000
DTEND;TZID=America/Chicago:20150830T100000
DTSTAMP:20260424T041254
CREATED:20150616T234923Z
LAST-MODIFIED:20150902T011807Z
UID:10000283-1440919800-1440928800@www.racetime.info
SUMMARY:Calahan Foundation 5K RUN4LIFE
DESCRIPTION:Run4Life 5K Overall Results\n\nRun4Life Team Results
URL:https://www.racetime.info/event/calahan-foundation-5k-run4life/
LOCATION:Mount Hope Cemetary\, 11500 S. Fairfield\, Chicago\, IL\, United States
CATEGORIES:2015-08 Results (August)
ORGANIZER;CN="Erica Bell":MAILTO:hands4u@calahanfoundation.org
GEO:41.6839596;-87.6891645
X-APPLE-STRUCTURED-LOCATION;VALUE=URI;X-ADDRESS=Mount Hope Cemetary 11500 S. Fairfield Chicago IL United States;X-APPLE-RADIUS=500;X-TITLE=11500 S. Fairfield:geo:-87.6891645,41.6839596
END:VEVENT
END:VCALENDAR