BEGIN:VCALENDAR
VERSION:2.0
PRODID:-//Race Time - ECPv6.15.13//NONSGML v1.0//EN
CALSCALE:GREGORIAN
METHOD:PUBLISH
X-WR-CALNAME:Race Time
X-ORIGINAL-URL:https://www.racetime.info
X-WR-CALDESC:Events for Race Time
REFRESH-INTERVAL;VALUE=DURATION:PT1H
X-Robots-Tag:noindex
X-PUBLISHED-TTL:PT1H
BEGIN:VTIMEZONE
TZID:America/Chicago
BEGIN:DAYLIGHT
TZOFFSETFROM:-0600
TZOFFSETTO:-0500
TZNAME:CDT
DTSTART:20220313T080000
END:DAYLIGHT
BEGIN:STANDARD
TZOFFSETFROM:-0500
TZOFFSETTO:-0600
TZNAME:CST
DTSTART:20221106T070000
END:STANDARD
BEGIN:DAYLIGHT
TZOFFSETFROM:-0600
TZOFFSETTO:-0500
TZNAME:CDT
DTSTART:20230312T080000
END:DAYLIGHT
BEGIN:STANDARD
TZOFFSETFROM:-0500
TZOFFSETTO:-0600
TZNAME:CST
DTSTART:20231105T070000
END:STANDARD
BEGIN:DAYLIGHT
TZOFFSETFROM:-0600
TZOFFSETTO:-0500
TZNAME:CDT
DTSTART:20240310T080000
END:DAYLIGHT
BEGIN:STANDARD
TZOFFSETFROM:-0500
TZOFFSETTO:-0600
TZNAME:CST
DTSTART:20241103T070000
END:STANDARD
BEGIN:DAYLIGHT
TZOFFSETFROM:-0600
TZOFFSETTO:-0500
TZNAME:CDT
DTSTART:20250309T080000
END:DAYLIGHT
BEGIN:STANDARD
TZOFFSETFROM:-0500
TZOFFSETTO:-0600
TZNAME:CST
DTSTART:20251102T070000
END:STANDARD
END:VTIMEZONE
BEGIN:VEVENT
DTSTART;TZID=America/Chicago:20240928T090000
DTEND;TZID=America/Chicago:20240928T103000
DTSTAMP:20260424T012512
CREATED:20230509T114915Z
LAST-MODIFIED:20240928T180414Z
UID:10002173-1727514000-1727519400@www.racetime.info
SUMMARY:St. Christina 5K Run/Walk
DESCRIPTION:St. Christina 5K Overall Results
URL:https://www.racetime.info/event/copy-of-st-christina-5k-run-walk/
LOCATION:Mt. Greenwood Park\, 3721 West 111th Street\, Chicago\, IL\, 60655\, United States
CATEGORIES:2024-09 Results (September)
ORGANIZER;CN="Meg Meyer":MAILTO:mmeyrer11@yahoo.com
END:VEVENT
BEGIN:VEVENT
DTSTART;TZID=America/Chicago:20230930T090000
DTEND;TZID=America/Chicago:20230930T103000
DTSTAMP:20260424T012512
CREATED:20230509T114915Z
LAST-MODIFIED:20230930T232158Z
UID:10002171-1696064400-1696069800@www.racetime.info
SUMMARY:St. Christina 5K Run/Walk
DESCRIPTION:St. Christina 5K Overall Results
URL:https://www.racetime.info/event/st-christina-5k-run-walk/
LOCATION:Mt. Greenwood Park\, 3721 West 111th Street\, Chicago\, IL\, 60655\, United States
CATEGORIES:2023-09 Results (September)
ORGANIZER;CN="Meg Meyer":MAILTO:mmeyrer11@yahoo.com
END:VEVENT
END:VCALENDAR