BEGIN:VCALENDAR
VERSION:2.0
PRODID:-//Race Time - ECPv6.15.13//NONSGML v1.0//EN
CALSCALE:GREGORIAN
METHOD:PUBLISH
X-ORIGINAL-URL:https://www.racetime.info
X-WR-CALDESC:Events for Race Time
REFRESH-INTERVAL;VALUE=DURATION:PT1H
X-Robots-Tag:noindex
X-PUBLISHED-TTL:PT1H
BEGIN:VTIMEZONE
TZID:America/Chicago
BEGIN:DAYLIGHT
TZOFFSETFROM:-0600
TZOFFSETTO:-0500
TZNAME:CDT
DTSTART:20240310T080000
END:DAYLIGHT
BEGIN:STANDARD
TZOFFSETFROM:-0500
TZOFFSETTO:-0600
TZNAME:CST
DTSTART:20241103T070000
END:STANDARD
BEGIN:DAYLIGHT
TZOFFSETFROM:-0600
TZOFFSETTO:-0500
TZNAME:CDT
DTSTART:20250309T080000
END:DAYLIGHT
BEGIN:STANDARD
TZOFFSETFROM:-0500
TZOFFSETTO:-0600
TZNAME:CST
DTSTART:20251102T070000
END:STANDARD
BEGIN:DAYLIGHT
TZOFFSETFROM:-0600
TZOFFSETTO:-0500
TZNAME:CDT
DTSTART:20260308T080000
END:DAYLIGHT
BEGIN:STANDARD
TZOFFSETFROM:-0500
TZOFFSETTO:-0600
TZNAME:CST
DTSTART:20261101T070000
END:STANDARD
END:VTIMEZONE
BEGIN:VEVENT
DTSTART;TZID=America/Chicago:20250504T080000
DTEND;TZID=America/Chicago:20250504T100000
DTSTAMP:20260424T012355
CREATED:20250317T194105Z
LAST-MODIFIED:20250504T164757Z
UID:10002276-1746345600-1746352800@www.racetime.info
SUMMARY:Lakefront Loop 5K * 1.5 Mile * Kids Dash
DESCRIPTION:Lakefront Loop 1.5 Mile Overall Results\n\nLakefront Loop 5K Age Group Results\n\nLakefront Loop 5K Overall Results
URL:https://www.racetime.info/event/lakefront-loop-5k-1-5-mile-kids-dash/
LOCATION:Navy Pier\, 600 E. Grand Avenue\, Chicago\, IL\, 60011\, United States
CATEGORIES:2025-05 Results (May)
ORGANIZER;CN="Colleen Ward":MAILTO:cward@navypier.org
END:VEVENT
END:VCALENDAR