BEGIN:VCALENDAR
VERSION:2.0
PRODID:-//Race Time - ECPv6.15.13//NONSGML v1.0//EN
CALSCALE:GREGORIAN
METHOD:PUBLISH
X-ORIGINAL-URL:https://www.racetime.info
X-WR-CALDESC:Events for Race Time
REFRESH-INTERVAL;VALUE=DURATION:PT1H
X-Robots-Tag:noindex
X-PUBLISHED-TTL:PT1H
BEGIN:VTIMEZONE
TZID:America/Chicago
BEGIN:DAYLIGHT
TZOFFSETFROM:-0600
TZOFFSETTO:-0500
TZNAME:CDT
DTSTART:20190310T080000
END:DAYLIGHT
BEGIN:STANDARD
TZOFFSETFROM:-0500
TZOFFSETTO:-0600
TZNAME:CST
DTSTART:20191103T070000
END:STANDARD
BEGIN:DAYLIGHT
TZOFFSETFROM:-0600
TZOFFSETTO:-0500
TZNAME:CDT
DTSTART:20200308T080000
END:DAYLIGHT
BEGIN:STANDARD
TZOFFSETFROM:-0500
TZOFFSETTO:-0600
TZNAME:CST
DTSTART:20201101T070000
END:STANDARD
BEGIN:DAYLIGHT
TZOFFSETFROM:-0600
TZOFFSETTO:-0500
TZNAME:CDT
DTSTART:20210314T080000
END:DAYLIGHT
BEGIN:STANDARD
TZOFFSETFROM:-0500
TZOFFSETTO:-0600
TZNAME:CST
DTSTART:20211107T070000
END:STANDARD
BEGIN:DAYLIGHT
TZOFFSETFROM:-0600
TZOFFSETTO:-0500
TZNAME:CDT
DTSTART:20220313T080000
END:DAYLIGHT
BEGIN:STANDARD
TZOFFSETFROM:-0500
TZOFFSETTO:-0600
TZNAME:CST
DTSTART:20221106T070000
END:STANDARD
END:VTIMEZONE
BEGIN:VEVENT
DTSTART;TZID=America/Chicago:20211030T080000
DTEND;TZID=America/Chicago:20211030T103000
DTSTAMP:20260424T001335
CREATED:20170901T123020Z
LAST-MODIFIED:20211103T194715Z
UID:10000823-1635580800-1635589800@www.racetime.info
SUMMARY:Batavia's United Way Batfest Run: 5K Walk/Run and 10K Run
DESCRIPTION:Batavia Bat Run 5K Age Group Results\n\nBatavia Bat Run 5K Overall Results\n\nBatavia Bat Run 10K Age Group Results\n\nBatavia Bat Run 10K Overall Results
URL:https://www.racetime.info/event/batavias-united-way-batfest-run-5k-walk-run-and-10k-run-4/
LOCATION:North River Street\, Downtown Batavia\, Batavia\, IL\, 60510\, United States
CATEGORIES:2021-10 Results (October)
END:VEVENT
BEGIN:VEVENT
DTSTART;TZID=America/Chicago:20201031T080000
DTEND;TZID=America/Chicago:20201031T103000
DTSTAMP:20260424T001335
CREATED:20170901T123020Z
LAST-MODIFIED:20201018T190459Z
UID:10000822-1604131200-1604140200@www.racetime.info
SUMMARY:Batavia's United Way Batfest Run: 5K Walk/Run and 10K Run: VIRTUAL
DESCRIPTION:
URL:https://www.racetime.info/event/batavias-united-way-batfest-run-5k-walk-run-and-10k-run-3/
LOCATION:North River Street\, Downtown Batavia\, Batavia\, IL\, 60510\, United States
ORGANIZER;CN="Melinda Kintz":MAILTO:info@bataviaunitedway.org
END:VEVENT
END:VCALENDAR