BEGIN:VCALENDAR
VERSION:2.0
PRODID:-//Race Time - ECPv6.15.13//NONSGML v1.0//EN
CALSCALE:GREGORIAN
METHOD:PUBLISH
X-ORIGINAL-URL:https://www.racetime.info
X-WR-CALDESC:Events for Race Time
REFRESH-INTERVAL;VALUE=DURATION:PT1H
X-Robots-Tag:noindex
X-PUBLISHED-TTL:PT1H
BEGIN:VTIMEZONE
TZID:America/Chicago
BEGIN:DAYLIGHT
TZOFFSETFROM:-0600
TZOFFSETTO:-0500
TZNAME:CDT
DTSTART:20140309T080000
END:DAYLIGHT
BEGIN:STANDARD
TZOFFSETFROM:-0500
TZOFFSETTO:-0600
TZNAME:CST
DTSTART:20141102T070000
END:STANDARD
BEGIN:DAYLIGHT
TZOFFSETFROM:-0600
TZOFFSETTO:-0500
TZNAME:CDT
DTSTART:20150308T080000
END:DAYLIGHT
BEGIN:STANDARD
TZOFFSETFROM:-0500
TZOFFSETTO:-0600
TZNAME:CST
DTSTART:20151101T070000
END:STANDARD
BEGIN:DAYLIGHT
TZOFFSETFROM:-0600
TZOFFSETTO:-0500
TZNAME:CDT
DTSTART:20160313T080000
END:DAYLIGHT
BEGIN:STANDARD
TZOFFSETFROM:-0500
TZOFFSETTO:-0600
TZNAME:CST
DTSTART:20161106T070000
END:STANDARD
END:VTIMEZONE
BEGIN:VEVENT
DTSTART;TZID=America/Chicago:20150503T080000
DTEND;TZID=America/Chicago:20150503T170000
DTSTAMP:20260424T054609
CREATED:20150502T095159Z
LAST-MODIFIED:20150829T201004Z
UID:10000028-1430640000-1430672400@www.racetime.info
SUMMARY:NIU Rise N Run
DESCRIPTION:Rise N’ Run 5K Age Group Results\n\nRise N’ Run 5K Overall Results
URL:https://www.racetime.info/event/niu-rise-n-run/
LOCATION:Northern Illinois University: Huskie Stadium\, DeKalb\, IL\, United States
CATEGORIES:2015-05 Results (May)
ORGANIZER;CN="Steve Howell":MAILTO:showell2@niu.edu
GEO:41.9294736;-88.7503647
END:VEVENT
END:VCALENDAR