BEGIN:VCALENDAR
VERSION:2.0
PRODID:-//Race Time - ECPv6.15.13//NONSGML v1.0//EN
CALSCALE:GREGORIAN
METHOD:PUBLISH
X-WR-CALNAME:Race Time
X-ORIGINAL-URL:https://www.racetime.info
X-WR-CALDESC:Events for Race Time
REFRESH-INTERVAL;VALUE=DURATION:PT1H
X-Robots-Tag:noindex
X-PUBLISHED-TTL:PT1H
BEGIN:VTIMEZONE
TZID:America/Chicago
BEGIN:DAYLIGHT
TZOFFSETFROM:-0600
TZOFFSETTO:-0500
TZNAME:CDT
DTSTART:20140309T080000
END:DAYLIGHT
BEGIN:STANDARD
TZOFFSETFROM:-0500
TZOFFSETTO:-0600
TZNAME:CST
DTSTART:20141102T070000
END:STANDARD
BEGIN:DAYLIGHT
TZOFFSETFROM:-0600
TZOFFSETTO:-0500
TZNAME:CDT
DTSTART:20150308T080000
END:DAYLIGHT
BEGIN:STANDARD
TZOFFSETFROM:-0500
TZOFFSETTO:-0600
TZNAME:CST
DTSTART:20151101T070000
END:STANDARD
BEGIN:DAYLIGHT
TZOFFSETFROM:-0600
TZOFFSETTO:-0500
TZNAME:CDT
DTSTART:20160313T080000
END:DAYLIGHT
BEGIN:STANDARD
TZOFFSETFROM:-0500
TZOFFSETTO:-0600
TZNAME:CST
DTSTART:20161106T070000
END:STANDARD
END:VTIMEZONE
BEGIN:VEVENT
DTSTART;TZID=America/Chicago:20150411T090000
DTEND;TZID=America/Chicago:20150411T090000
DTSTAMP:20260424T054136
CREATED:20150324T202518Z
LAST-MODIFIED:20150802T042729Z
UID:10000071-1428742800-1428742800@www.racetime.info
SUMMARY:Aruna Run For Their Freedom
DESCRIPTION:Aruna Run For Their Freedom 5K Overall Results
URL:https://www.racetime.info/event/aruna-run-for-their-freedom-2/
LOCATION:Northern View Community Center\, 1 Northern View Lane #115\, DeKalb\, IL\, 60115\, United States
CATEGORIES:2015-04 Results (April)
ORGANIZER;CN="Sarah Johnson":MAILTO:sarah.johnson@cru.org
GEO:41.9421124;-88.7890051
X-APPLE-STRUCTURED-LOCATION;VALUE=URI;X-ADDRESS=Northern View Community Center 1 Northern View Lane #115 DeKalb IL 60115 United States;X-APPLE-RADIUS=500;X-TITLE=1 Northern View Lane #115:geo:-88.7890051,41.9421124
END:VEVENT
END:VCALENDAR