BEGIN:VCALENDAR
VERSION:2.0
PRODID:-//Race Time - ECPv6.15.13//NONSGML v1.0//EN
CALSCALE:GREGORIAN
METHOD:PUBLISH
X-WR-CALNAME:Race Time
X-ORIGINAL-URL:https://www.racetime.info
X-WR-CALDESC:Events for Race Time
REFRESH-INTERVAL;VALUE=DURATION:PT1H
X-Robots-Tag:noindex
X-PUBLISHED-TTL:PT1H
BEGIN:VTIMEZONE
TZID:America/Chicago
BEGIN:DAYLIGHT
TZOFFSETFROM:-0600
TZOFFSETTO:-0500
TZNAME:CDT
DTSTART:20140309T080000
END:DAYLIGHT
BEGIN:STANDARD
TZOFFSETFROM:-0500
TZOFFSETTO:-0600
TZNAME:CST
DTSTART:20141102T070000
END:STANDARD
BEGIN:DAYLIGHT
TZOFFSETFROM:-0600
TZOFFSETTO:-0500
TZNAME:CDT
DTSTART:20150308T080000
END:DAYLIGHT
BEGIN:STANDARD
TZOFFSETFROM:-0500
TZOFFSETTO:-0600
TZNAME:CST
DTSTART:20151101T070000
END:STANDARD
BEGIN:DAYLIGHT
TZOFFSETFROM:-0600
TZOFFSETTO:-0500
TZNAME:CDT
DTSTART:20160313T080000
END:DAYLIGHT
BEGIN:STANDARD
TZOFFSETFROM:-0500
TZOFFSETTO:-0600
TZNAME:CST
DTSTART:20161106T070000
END:STANDARD
END:VTIMEZONE
BEGIN:VEVENT
DTSTART;TZID=America/Chicago:20150808T090000
DTEND;TZID=America/Chicago:20150808T110000
DTSTAMP:20260424T065532
CREATED:20150616T035349Z
LAST-MODIFIED:20150809T163711Z
UID:10000273-1439024400-1439031600@www.racetime.info
SUMMARY:Sharkfest 1 Mile Swim Race
DESCRIPTION:Shark Fest Age Group Results\n\nShark Fest Overall Results
URL:https://www.racetime.info/event/sharkfest-1-mile-swim-race/
LOCATION:Ohio Street Beach\, 400 N. Lake Shore Drive\, Chicago\, IL\, United States
CATEGORIES:2015-08 Results (August)
GEO:41.890009;-87.6141913
X-APPLE-STRUCTURED-LOCATION;VALUE=URI;X-ADDRESS=Ohio Street Beach 400 N. Lake Shore Drive Chicago IL United States;X-APPLE-RADIUS=500;X-TITLE=400 N. Lake Shore Drive:geo:-87.6141913,41.890009
END:VEVENT
END:VCALENDAR