BEGIN:VCALENDAR
VERSION:2.0
PRODID:-//Race Time - ECPv6.15.13//NONSGML v1.0//EN
CALSCALE:GREGORIAN
METHOD:PUBLISH
X-WR-CALNAME:Race Time
X-ORIGINAL-URL:https://www.racetime.info
X-WR-CALDESC:Events for Race Time
REFRESH-INTERVAL;VALUE=DURATION:PT1H
X-Robots-Tag:noindex
X-PUBLISHED-TTL:PT1H
BEGIN:VTIMEZONE
TZID:America/Chicago
BEGIN:DAYLIGHT
TZOFFSETFROM:-0600
TZOFFSETTO:-0500
TZNAME:CDT
DTSTART:20160313T080000
END:DAYLIGHT
BEGIN:STANDARD
TZOFFSETFROM:-0500
TZOFFSETTO:-0600
TZNAME:CST
DTSTART:20161106T070000
END:STANDARD
BEGIN:DAYLIGHT
TZOFFSETFROM:-0600
TZOFFSETTO:-0500
TZNAME:CDT
DTSTART:20170312T080000
END:DAYLIGHT
BEGIN:STANDARD
TZOFFSETFROM:-0500
TZOFFSETTO:-0600
TZNAME:CST
DTSTART:20171105T070000
END:STANDARD
BEGIN:DAYLIGHT
TZOFFSETFROM:-0600
TZOFFSETTO:-0500
TZNAME:CDT
DTSTART:20180311T080000
END:DAYLIGHT
BEGIN:STANDARD
TZOFFSETFROM:-0500
TZOFFSETTO:-0600
TZNAME:CST
DTSTART:20181104T070000
END:STANDARD
END:VTIMEZONE
BEGIN:VEVENT
DTSTART;TZID=America/Chicago:20170518T120000
DTEND;TZID=America/Chicago:20170518T150000
DTSTAMP:20260424T053200
CREATED:20170315T201321Z
LAST-MODIFIED:20170518T194150Z
UID:10000487-1495108800-1495119600@www.racetime.info
SUMMARY:Schaumburg Fitness 5K Run/Walk (Private)
DESCRIPTION:Schaumburg Fun Run 5K Age Group Results\n\nSchaumburg Fun Run 5K Overall Results
URL:https://www.racetime.info/event/schamburg-fitness-5k-runwalk-private/
LOCATION:Olympic Park\, 1675 Old Schaumburg Road\, Schaumburg\, IL\, 60194\, United States
CATEGORIES:2017-05 Results (May)
ORGANIZER;CN="Julie McArthur":MAILTO:jumcarthur@parkfun.con
GEO:42.0229033;-88.0362224
X-APPLE-STRUCTURED-LOCATION;VALUE=URI;X-ADDRESS=Olympic Park 1675 Old Schaumburg Road Schaumburg IL 60194 United States;X-APPLE-RADIUS=500;X-TITLE=1675 Old Schaumburg Road:geo:-88.0362224,42.0229033
END:VEVENT
END:VCALENDAR