BEGIN:VCALENDAR
VERSION:2.0
PRODID:-//Race Time - ECPv6.15.13//NONSGML v1.0//EN
CALSCALE:GREGORIAN
METHOD:PUBLISH
X-WR-CALNAME:Race Time
X-ORIGINAL-URL:https://www.racetime.info
X-WR-CALDESC:Events for Race Time
REFRESH-INTERVAL;VALUE=DURATION:PT1H
X-Robots-Tag:noindex
X-PUBLISHED-TTL:PT1H
BEGIN:VTIMEZONE
TZID:America/Chicago
BEGIN:DAYLIGHT
TZOFFSETFROM:-0600
TZOFFSETTO:-0500
TZNAME:CDT
DTSTART:20220313T080000
END:DAYLIGHT
BEGIN:STANDARD
TZOFFSETFROM:-0500
TZOFFSETTO:-0600
TZNAME:CST
DTSTART:20221106T070000
END:STANDARD
BEGIN:DAYLIGHT
TZOFFSETFROM:-0600
TZOFFSETTO:-0500
TZNAME:CDT
DTSTART:20230312T080000
END:DAYLIGHT
BEGIN:STANDARD
TZOFFSETFROM:-0500
TZOFFSETTO:-0600
TZNAME:CST
DTSTART:20231105T070000
END:STANDARD
BEGIN:DAYLIGHT
TZOFFSETFROM:-0600
TZOFFSETTO:-0500
TZNAME:CDT
DTSTART:20240310T080000
END:DAYLIGHT
BEGIN:STANDARD
TZOFFSETFROM:-0500
TZOFFSETTO:-0600
TZNAME:CST
DTSTART:20241103T070000
END:STANDARD
BEGIN:DAYLIGHT
TZOFFSETFROM:-0600
TZOFFSETTO:-0500
TZNAME:CDT
DTSTART:20250309T080000
END:DAYLIGHT
BEGIN:STANDARD
TZOFFSETFROM:-0500
TZOFFSETTO:-0600
TZNAME:CST
DTSTART:20251102T070000
END:STANDARD
BEGIN:DAYLIGHT
TZOFFSETFROM:-0600
TZOFFSETTO:-0500
TZNAME:CDT
DTSTART:20260308T080000
END:DAYLIGHT
BEGIN:STANDARD
TZOFFSETFROM:-0500
TZOFFSETTO:-0600
TZNAME:CST
DTSTART:20261101T070000
END:STANDARD
END:VTIMEZONE
BEGIN:VEVENT
DTSTART;TZID=America/Chicago:20250517T090000
DTEND;TZID=America/Chicago:20250517T103000
DTSTAMP:20260424T000040
CREATED:20250401T125645Z
LAST-MODIFIED:20250517T183609Z
UID:10002316-1747472400-1747477800@www.racetime.info
SUMMARY:Palos Park Doggie Dash
DESCRIPTION:Palos Doggie Dash 5K Overall Results\n\nPalos Doggie Dash 5K with Dogs Overall Results\n\nPalos Doggie Dash 1 Mile Overall Results
URL:https://www.racetime.info/event/palos-park-doggie-dash-2/
LOCATION:Palos Park Recreation Center\, 8901 W. 123rd Street\, Palos Park\, IL
CATEGORIES:2025-05 Results (May)
ORGANIZER;CN="Stephen DeFalco":MAILTO:recreation@palospark.org
END:VEVENT
BEGIN:VEVENT
DTSTART;TZID=America/Chicago:20240518T090000
DTEND;TZID=America/Chicago:20240518T103000
DTSTAMP:20260424T000040
CREATED:20230309T073453Z
LAST-MODIFIED:20240520T183639Z
UID:10002164-1716022800-1716028200@www.racetime.info
SUMMARY:Palos Park Doggie Dash
DESCRIPTION:Palos Park Doggie Dash 1 Mile Overall Results\n\nPalos Park Doggie Dash 5K Overall Results
URL:https://www.racetime.info/event/copy-of-palos-park-doggie-dash/
LOCATION:Palos Park Recreation Center\, 8901 W. 123rd Street\, Palos Park\, IL
CATEGORIES:2024-05 Results (May)
ORGANIZER;CN="Stephen DeFalco":MAILTO:recreation@palospark.org
END:VEVENT
BEGIN:VEVENT
DTSTART;TZID=America/Chicago:20230520T090000
DTEND;TZID=America/Chicago:20230520T110000
DTSTAMP:20260424T000040
CREATED:20230309T073453Z
LAST-MODIFIED:20230520T183003Z
UID:10002163-1684573200-1684580400@www.racetime.info
SUMMARY:Palos Park Doggie Dash
DESCRIPTION:Palos Doggie Dash 5K Overall Results\n\nPalos Doggie Dash 5K with Dogs Overall Results\n\nPalos Doggie Dash 1 Mile Overall Results
URL:https://www.racetime.info/event/palos-park-doggie-dash/
LOCATION:Palos Park Recreation Center\, 8901 W. 123rd Street\, Palos Park\, IL
CATEGORIES:2023-05 Results (May)
ORGANIZER;CN="Stephen DeFalco":MAILTO:recreation@palospark.org
END:VEVENT
END:VCALENDAR