BEGIN:VCALENDAR
VERSION:2.0
PRODID:-//Race Time - ECPv6.15.13//NONSGML v1.0//EN
CALSCALE:GREGORIAN
METHOD:PUBLISH
X-WR-CALNAME:Race Time
X-ORIGINAL-URL:https://www.racetime.info
X-WR-CALDESC:Events for Race Time
REFRESH-INTERVAL;VALUE=DURATION:PT1H
X-Robots-Tag:noindex
X-PUBLISHED-TTL:PT1H
BEGIN:VTIMEZONE
TZID:America/Chicago
BEGIN:DAYLIGHT
TZOFFSETFROM:-0600
TZOFFSETTO:-0500
TZNAME:CDT
DTSTART:20140309T080000
END:DAYLIGHT
BEGIN:STANDARD
TZOFFSETFROM:-0500
TZOFFSETTO:-0600
TZNAME:CST
DTSTART:20141102T070000
END:STANDARD
BEGIN:DAYLIGHT
TZOFFSETFROM:-0600
TZOFFSETTO:-0500
TZNAME:CDT
DTSTART:20150308T080000
END:DAYLIGHT
BEGIN:STANDARD
TZOFFSETFROM:-0500
TZOFFSETTO:-0600
TZNAME:CST
DTSTART:20151101T070000
END:STANDARD
BEGIN:DAYLIGHT
TZOFFSETFROM:-0600
TZOFFSETTO:-0500
TZNAME:CDT
DTSTART:20160313T080000
END:DAYLIGHT
BEGIN:STANDARD
TZOFFSETFROM:-0500
TZOFFSETTO:-0600
TZNAME:CST
DTSTART:20161106T070000
END:STANDARD
BEGIN:DAYLIGHT
TZOFFSETFROM:-0600
TZOFFSETTO:-0500
TZNAME:CDT
DTSTART:20170312T080000
END:DAYLIGHT
BEGIN:STANDARD
TZOFFSETFROM:-0500
TZOFFSETTO:-0600
TZNAME:CST
DTSTART:20171105T070000
END:STANDARD
END:VTIMEZONE
BEGIN:VEVENT
DTSTART;TZID=America/Chicago:20160806T090000
DTEND;TZID=America/Chicago:20160806T110000
DTSTAMP:20260424T012324
CREATED:20160414T005843Z
LAST-MODIFIED:20160806T161447Z
UID:10000230-1470474000-1470481200@www.racetime.info
SUMMARY:2K16 for Kids Fun Run
DESCRIPTION:Glen Ellyn 2K16 Youth Obstacle Run
URL:https://www.racetime.info/event/2k16-for-kids-fun-run/
LOCATION:Panfish Park\, 620 WIlson Avenue\, Glen Ellyn\, IL\, 60137\, United States
CATEGORIES:2016-08 Results (August)
ORGANIZER;CN="Stacey Lim":MAILTO:slim@geparks.org
GEO:41.856661;-88.061742
X-APPLE-STRUCTURED-LOCATION;VALUE=URI;X-ADDRESS=Panfish Park 620 WIlson Avenue Glen Ellyn IL 60137 United States;X-APPLE-RADIUS=500;X-TITLE=620 WIlson Avenue:geo:-88.061742,41.856661
END:VEVENT
BEGIN:VEVENT
DTSTART;TZID=America/Chicago:20150801T080000
DTEND;TZID=America/Chicago:20150801T100000
DTSTAMP:20260424T012324
CREATED:20150711T003821Z
LAST-MODIFIED:20150801T174855Z
UID:10000077-1438416000-1438423200@www.racetime.info
SUMMARY:2K15 for Kids Fun Run
DESCRIPTION:2K15 Age Group Results\n\n2K15 Overall Results
URL:https://www.racetime.info/event/2k15-for-kids-fun-run/
LOCATION:Panfish Park\, 620 WIlson Avenue\, Glen Ellyn\, IL\, 60137\, United States
CATEGORIES:2015-08 Results (August)
ORGANIZER;CN="Stacey Lim":MAILTO:slim@geparks.org
GEO:41.856661;-88.061742
X-APPLE-STRUCTURED-LOCATION;VALUE=URI;X-ADDRESS=Panfish Park 620 WIlson Avenue Glen Ellyn IL 60137 United States;X-APPLE-RADIUS=500;X-TITLE=620 WIlson Avenue:geo:-88.061742,41.856661
END:VEVENT
END:VCALENDAR