BEGIN:VCALENDAR
VERSION:2.0
PRODID:-//Race Time - ECPv6.15.13//NONSGML v1.0//EN
CALSCALE:GREGORIAN
METHOD:PUBLISH
X-ORIGINAL-URL:https://www.racetime.info
X-WR-CALDESC:Events for Race Time
REFRESH-INTERVAL;VALUE=DURATION:PT1H
X-Robots-Tag:noindex
X-PUBLISHED-TTL:PT1H
BEGIN:VTIMEZONE
TZID:America/Chicago
BEGIN:DAYLIGHT
TZOFFSETFROM:-0600
TZOFFSETTO:-0500
TZNAME:CDT
DTSTART:20220313T080000
END:DAYLIGHT
BEGIN:STANDARD
TZOFFSETFROM:-0500
TZOFFSETTO:-0600
TZNAME:CST
DTSTART:20221106T070000
END:STANDARD
BEGIN:DAYLIGHT
TZOFFSETFROM:-0600
TZOFFSETTO:-0500
TZNAME:CDT
DTSTART:20230312T080000
END:DAYLIGHT
BEGIN:STANDARD
TZOFFSETFROM:-0500
TZOFFSETTO:-0600
TZNAME:CST
DTSTART:20231105T070000
END:STANDARD
BEGIN:DAYLIGHT
TZOFFSETFROM:-0600
TZOFFSETTO:-0500
TZNAME:CDT
DTSTART:20240310T080000
END:DAYLIGHT
BEGIN:STANDARD
TZOFFSETFROM:-0500
TZOFFSETTO:-0600
TZNAME:CST
DTSTART:20241103T070000
END:STANDARD
BEGIN:DAYLIGHT
TZOFFSETFROM:-0600
TZOFFSETTO:-0500
TZNAME:CDT
DTSTART:20250309T080000
END:DAYLIGHT
BEGIN:STANDARD
TZOFFSETFROM:-0500
TZOFFSETTO:-0600
TZNAME:CST
DTSTART:20251102T070000
END:STANDARD
BEGIN:DAYLIGHT
TZOFFSETFROM:-0600
TZOFFSETTO:-0500
TZNAME:CDT
DTSTART:20260308T080000
END:DAYLIGHT
BEGIN:STANDARD
TZOFFSETFROM:-0500
TZOFFSETTO:-0600
TZNAME:CST
DTSTART:20261101T070000
END:STANDARD
END:VTIMEZONE
BEGIN:VEVENT
DTSTART;TZID=America/Chicago:20250824T073000
DTEND;TZID=America/Chicago:20250824T093000
DTSTAMP:20260423T210922
CREATED:20250727T100420Z
LAST-MODIFIED:20250824T173839Z
UID:10002389-1756020600-1756027800@www.racetime.info
SUMMARY:Summer Trail Classic 4M*9.5M*13M
DESCRIPTION:Summer Classic 4 Mile Age Group Results\n\nSummer Classic 4 Mile Overall Results\n\nSummer Classic 9.5 Mile Age Group Results\n\nSummer Classic 9.5 Mile Overall Results\n\nSummer Classic 13 Mile Age Group Results\n\nSummer Classic 13 Mile Overall Results
URL:https://www.racetime.info/event/summer-trail-classic-4m9-5m13m/
LOCATION:Paul Douglas Forest Preserve\, Central Road\, Hoffman Estates\, IL\, 60193\, United States
CATEGORIES:2025-08 Results (August)
ORGANIZER;CN="Wayne Haworth":MAILTO:wayne@dickpondathletics.com
END:VEVENT
BEGIN:VEVENT
DTSTART;TZID=America/Chicago:20240818T073000
DTEND;TZID=America/Chicago:20240818T093000
DTSTAMP:20260423T210922
CREATED:20220608T184132Z
LAST-MODIFIED:20240818T173945Z
UID:10002118-1723966200-1723973400@www.racetime.info
SUMMARY:Summer Trail Classic 4M*9.5M*13M
DESCRIPTION:Summer Trail Classic Age Group Results All Distances\n\nSummer Trail Classic Overall Results All Distances
URL:https://www.racetime.info/event/copy-of-summer-trail-classic-5-5m10-5m15-5m/
LOCATION:Paul Douglas Forest Preserve\, Central Road\, Hoffman Estates\, IL\, 60193\, United States
CATEGORIES:2024-08 Results (August)
ORGANIZER;CN="Wayne Haworth":MAILTO:wayne@dickpondathletics.com
END:VEVENT
BEGIN:VEVENT
DTSTART;TZID=America/Chicago:20230813T073000
DTEND;TZID=America/Chicago:20230813T093000
DTSTAMP:20260423T210922
CREATED:20220608T184132Z
LAST-MODIFIED:20230814T003055Z
UID:10002117-1691911800-1691919000@www.racetime.info
SUMMARY:Summer Trail Classic 5.5M*10.5M*15.5M
DESCRIPTION:Summer Classic 5.5+ (5.85 approximately) Age Group Results\n\nSummer Classic 5.5+ (5.85 approximately) Overall Results\n\nSummer Classic 10.5+ (11.5 approximately) Age Group Results\n\nSummer Classic 10.5+ (11.5 approximately) Overall Results\n\nSummer Classic 15.5+ (17.15 approximately) Age Group Results\n\nSummer Classic 15.5+ (17.15 approximately) Overall Results
URL:https://www.racetime.info/event/copy-of-summer-trail-classic/
LOCATION:Paul Douglas Forest Preserve\, Central Road\, Hoffman Estates\, IL\, 60193\, United States
CATEGORIES:2023-08 Results (August)
ORGANIZER;CN="Wayne Haworth":MAILTO:wayne@dickpondathletics.com
END:VEVENT
END:VCALENDAR