BEGIN:VCALENDAR
VERSION:2.0
PRODID:-//Race Time - ECPv6.15.13//NONSGML v1.0//EN
CALSCALE:GREGORIAN
METHOD:PUBLISH
X-ORIGINAL-URL:https://www.racetime.info
X-WR-CALDESC:Events for Race Time
REFRESH-INTERVAL;VALUE=DURATION:PT1H
X-Robots-Tag:noindex
X-PUBLISHED-TTL:PT1H
BEGIN:VTIMEZONE
TZID:America/Chicago
BEGIN:DAYLIGHT
TZOFFSETFROM:-0600
TZOFFSETTO:-0500
TZNAME:CDT
DTSTART:20150308T080000
END:DAYLIGHT
BEGIN:STANDARD
TZOFFSETFROM:-0500
TZOFFSETTO:-0600
TZNAME:CST
DTSTART:20151101T070000
END:STANDARD
BEGIN:DAYLIGHT
TZOFFSETFROM:-0600
TZOFFSETTO:-0500
TZNAME:CDT
DTSTART:20160313T080000
END:DAYLIGHT
BEGIN:STANDARD
TZOFFSETFROM:-0500
TZOFFSETTO:-0600
TZNAME:CST
DTSTART:20161106T070000
END:STANDARD
BEGIN:DAYLIGHT
TZOFFSETFROM:-0600
TZOFFSETTO:-0500
TZNAME:CDT
DTSTART:20170312T080000
END:DAYLIGHT
BEGIN:STANDARD
TZOFFSETFROM:-0500
TZOFFSETTO:-0600
TZNAME:CST
DTSTART:20171105T070000
END:STANDARD
BEGIN:DAYLIGHT
TZOFFSETFROM:-0600
TZOFFSETTO:-0500
TZNAME:CDT
DTSTART:20180311T080000
END:DAYLIGHT
BEGIN:STANDARD
TZOFFSETFROM:-0500
TZOFFSETTO:-0600
TZNAME:CST
DTSTART:20181104T070000
END:STANDARD
BEGIN:DAYLIGHT
TZOFFSETFROM:-0600
TZOFFSETTO:-0500
TZNAME:CDT
DTSTART:20190310T080000
END:DAYLIGHT
BEGIN:STANDARD
TZOFFSETFROM:-0500
TZOFFSETTO:-0600
TZNAME:CST
DTSTART:20191103T070000
END:STANDARD
END:VTIMEZONE
BEGIN:VEVENT
DTSTART;TZID=America/Chicago:20180616T080000
DTEND;TZID=America/Chicago:20180616T100000
DTSTAMP:20260424T024720
CREATED:20170610T164302Z
LAST-MODIFIED:20180616T174716Z
UID:10000623-1529136000-1529143200@www.racetime.info
SUMMARY:Hike for Life 5K Run/Walk
DESCRIPTION:Hike4Life 5K Overall Results
URL:https://www.racetime.info/event/hike-for-life-5k-run-walk/
LOCATION:Peace Community Church\, 21300 S. LaGrange Road\, Frankfort\, IL\, 60423\, United States
CATEGORIES:2018-06 Results (June)
ORGANIZER;CN="Tim Dilbeck":MAILTO:tim@passhelps.org
GEO:41.4930226;-87.8672145
X-APPLE-STRUCTURED-LOCATION;VALUE=URI;X-ADDRESS=Peace Community Church 21300 S. LaGrange Road Frankfort IL 60423 United States;X-APPLE-RADIUS=500;X-TITLE=21300 S. LaGrange Road:geo:-87.8672145,41.4930226
END:VEVENT
BEGIN:VEVENT
DTSTART;TZID=America/Chicago:20170610T080000
DTEND;TZID=America/Chicago:20170610T100000
DTSTAMP:20260424T024720
CREATED:20170610T164302Z
LAST-MODIFIED:20170610T164302Z
UID:10000631-1497081600-1497088800@www.racetime.info
SUMMARY:Hike for Life 5K Run/Walk
DESCRIPTION:Hike For Life 5K Overall Results
URL:https://www.racetime.info/event/hike-for-life-5k-runwalk/
LOCATION:Peace Community Church\, 21300 S. LaGrange Road\, Frankfort\, IL\, 60423\, United States
CATEGORIES:2017-06 Results (June)
ORGANIZER;CN="Tim Dilbeck":MAILTO:tim@passhelps.org
GEO:41.4930226;-87.8672145
X-APPLE-STRUCTURED-LOCATION;VALUE=URI;X-ADDRESS=Peace Community Church 21300 S. LaGrange Road Frankfort IL 60423 United States;X-APPLE-RADIUS=500;X-TITLE=21300 S. LaGrange Road:geo:-87.8672145,41.4930226
END:VEVENT
BEGIN:VEVENT
DTSTART;TZID=America/Chicago:20160604T080000
DTEND;TZID=America/Chicago:20160604T100000
DTSTAMP:20260424T024720
CREATED:20160426T175222Z
LAST-MODIFIED:20160604T201903Z
UID:10000622-1465027200-1465034400@www.racetime.info
SUMMARY:Hike for Life & 5K Run (Standard and Xtreme!)
DESCRIPTION:Hike For Life 5K Overall Results
URL:https://www.racetime.info/event/hike-for-life-5k-run-standard-and-xtreme/
LOCATION:Peace Community Church\, 21300 S. LaGrange Road\, Frankfort\, IL\, 60423\, United States
CATEGORIES:2016-06 Results (June)
GEO:41.4930226;-87.8672145
X-APPLE-STRUCTURED-LOCATION;VALUE=URI;X-ADDRESS=Peace Community Church 21300 S. LaGrange Road Frankfort IL 60423 United States;X-APPLE-RADIUS=500;X-TITLE=21300 S. LaGrange Road:geo:-87.8672145,41.4930226
END:VEVENT
END:VCALENDAR