BEGIN:VCALENDAR
VERSION:2.0
PRODID:-//Race Time - ECPv6.15.13//NONSGML v1.0//EN
CALSCALE:GREGORIAN
METHOD:PUBLISH
X-ORIGINAL-URL:https://www.racetime.info
X-WR-CALDESC:Events for Race Time
REFRESH-INTERVAL;VALUE=DURATION:PT1H
X-Robots-Tag:noindex
X-PUBLISHED-TTL:PT1H
BEGIN:VTIMEZONE
TZID:America/Chicago
BEGIN:DAYLIGHT
TZOFFSETFROM:-0600
TZOFFSETTO:-0500
TZNAME:CDT
DTSTART:20150308T080000
END:DAYLIGHT
BEGIN:STANDARD
TZOFFSETFROM:-0500
TZOFFSETTO:-0600
TZNAME:CST
DTSTART:20151101T070000
END:STANDARD
BEGIN:DAYLIGHT
TZOFFSETFROM:-0600
TZOFFSETTO:-0500
TZNAME:CDT
DTSTART:20160313T080000
END:DAYLIGHT
BEGIN:STANDARD
TZOFFSETFROM:-0500
TZOFFSETTO:-0600
TZNAME:CST
DTSTART:20161106T070000
END:STANDARD
BEGIN:DAYLIGHT
TZOFFSETFROM:-0600
TZOFFSETTO:-0500
TZNAME:CDT
DTSTART:20170312T080000
END:DAYLIGHT
BEGIN:STANDARD
TZOFFSETFROM:-0500
TZOFFSETTO:-0600
TZNAME:CST
DTSTART:20171105T070000
END:STANDARD
END:VTIMEZONE
BEGIN:VEVENT
DTSTART;TZID=America/Chicago:20161029T100000
DTEND;TZID=America/Chicago:20161029T120000
DTSTAMP:20260424T041534
CREATED:20160903T163943Z
LAST-MODIFIED:20161029T200747Z
UID:10000334-1477735200-1477742400@www.racetime.info
SUMMARY:NJCAA Region IV Cross Country Championship
DESCRIPTION:NJCAA Region IV Women Overall Results\n\nNJCAA Region IV Women Overall by Division\n\nNJCAA Region IV Women Team Results\n\nNJCAA Region IV Men Overall Results\n\nNJCAA Region IV Men Overall by Division\n\nNJCAA Region IV Men Team Results
URL:https://www.racetime.info/event/njcaa-region-iv-cross-country-championship/
LOCATION:Pioneer Woods\, 107th Street and 104th Avenue\, Willow Springs\, IL\, 60480\, United States
CATEGORIES:2016 Cross Country Results
ORGANIZER;CN="Dimitri Dimizas":MAILTO:dimizas.dimitri@gmail.com
GEO:41.6957745;-87.8751331
X-APPLE-STRUCTURED-LOCATION;VALUE=URI;X-ADDRESS=Pioneer Woods 107th Street and 104th Avenue Willow Springs IL 60480 United States;X-APPLE-RADIUS=500;X-TITLE=107th Street and 104th Avenue:geo:-87.8751331,41.6957745
END:VEVENT
END:VCALENDAR