BEGIN:VCALENDAR
VERSION:2.0
PRODID:-//Race Time - ECPv6.15.13//NONSGML v1.0//EN
CALSCALE:GREGORIAN
METHOD:PUBLISH
X-ORIGINAL-URL:https://www.racetime.info
X-WR-CALDESC:Events for Race Time
REFRESH-INTERVAL;VALUE=DURATION:PT1H
X-Robots-Tag:noindex
X-PUBLISHED-TTL:PT1H
BEGIN:VTIMEZONE
TZID:America/Chicago
BEGIN:DAYLIGHT
TZOFFSETFROM:-0600
TZOFFSETTO:-0500
TZNAME:CDT
DTSTART:20140309T080000
END:DAYLIGHT
BEGIN:STANDARD
TZOFFSETFROM:-0500
TZOFFSETTO:-0600
TZNAME:CST
DTSTART:20141102T070000
END:STANDARD
BEGIN:DAYLIGHT
TZOFFSETFROM:-0600
TZOFFSETTO:-0500
TZNAME:CDT
DTSTART:20150308T080000
END:DAYLIGHT
BEGIN:STANDARD
TZOFFSETFROM:-0500
TZOFFSETTO:-0600
TZNAME:CST
DTSTART:20151101T070000
END:STANDARD
BEGIN:DAYLIGHT
TZOFFSETFROM:-0600
TZOFFSETTO:-0500
TZNAME:CDT
DTSTART:20160313T080000
END:DAYLIGHT
BEGIN:STANDARD
TZOFFSETFROM:-0500
TZOFFSETTO:-0600
TZNAME:CST
DTSTART:20161106T070000
END:STANDARD
BEGIN:DAYLIGHT
TZOFFSETFROM:-0600
TZOFFSETTO:-0500
TZNAME:CDT
DTSTART:20170312T080000
END:DAYLIGHT
BEGIN:STANDARD
TZOFFSETFROM:-0500
TZOFFSETTO:-0600
TZNAME:CST
DTSTART:20171105T070000
END:STANDARD
END:VTIMEZONE
BEGIN:VEVENT
DTSTART;TZID=America/Chicago:20161015T090000
DTEND;TZID=America/Chicago:20161015T110000
DTSTAMP:20260424T012235
CREATED:20160903T102701Z
LAST-MODIFIED:20161015T210447Z
UID:10000811-1476522000-1476529200@www.racetime.info
SUMMARY:IC Catholic Prep Metro Suburban Conference Cross Country Meet
DESCRIPTION:Fresh Soph Boys Overall Results\n\nFresh-Soph Boys Team Results\n\nJV Girls Overall Results\n\nJV Girls Team Results\n\nVarsity Boys & Girls Overall Results\n\nVarsity Girls Team Results\n\nVarsity Boys Team Results\n\nOpen Girls & Boys Overall Results\n\nOpen Girls Team Results\n\nOpen Boys Team Results
URL:https://www.racetime.info/event/ic-catholic-prep-metro-suburban-conference-cross-country-meet/
LOCATION:Plunket Athletic Complex\, 150 West Avenue\, Elmhurst\, IL\, 60126\, United States
CATEGORIES:2016 Cross Country Results
ORGANIZER;CN="Frank DeAngelis":MAILTO:fdeangelis@iccatholicprep.org
GEO:41.8954935;-87.9593372
X-APPLE-STRUCTURED-LOCATION;VALUE=URI;X-ADDRESS=Plunket Athletic Complex 150 West Avenue Elmhurst IL 60126 United States;X-APPLE-RADIUS=500;X-TITLE=150 West Avenue:geo:-87.9593372,41.8954935
END:VEVENT
BEGIN:VEVENT
DTSTART;TZID=America/Chicago:20160913T163000
DTEND;TZID=America/Chicago:20160913T180000
DTSTAMP:20260424T012235
CREATED:20160829T202325Z
LAST-MODIFIED:20160914T024001Z
UID:10000781-1473784200-1473789600@www.racetime.info
SUMMARY:IC Catholic Prep Knight Metro Suburban Conference Cross Country Mid Week Time Trial Meet
DESCRIPTION:iccp-time-trail-open-girls-overall-results\n\niccp-time-trail-open-boys-overall-results
URL:https://www.racetime.info/event/copy-of-ic-catholic-prep-knight-metro-suburban-conference-cross-country-mid-week-time-trial-meet/
LOCATION:Plunket Athletic Complex\, 150 West Avenue\, Elmhurst\, IL\, 60126\, United States
CATEGORIES:2016 Cross Country Results
ORGANIZER;CN="Frank DeAngelis":MAILTO:fdeangelis@iccatholicprep.org
GEO:41.8954935;-87.9593372
X-APPLE-STRUCTURED-LOCATION;VALUE=URI;X-ADDRESS=Plunket Athletic Complex 150 West Avenue Elmhurst IL 60126 United States;X-APPLE-RADIUS=500;X-TITLE=150 West Avenue:geo:-87.9593372,41.8954935
END:VEVENT
BEGIN:VEVENT
DTSTART;TZID=America/Chicago:20160910T090000
DTEND;TZID=America/Chicago:20160910T110000
DTSTAMP:20260424T012235
CREATED:20160829T202325Z
LAST-MODIFIED:20160910T195357Z
UID:10000780-1473498000-1473505200@www.racetime.info
SUMMARY:IC Catholic Prep Knight Cross Country Invite
DESCRIPTION:ic-knight-invite-varsity-girls-overall-results\n\nic-knight-invite-varsity-girls-teaml-results\n\nic-knight-invite-varsity-boys-overall-results\n\nic-knight-invite-varsity-boys-team-results\n\nic-knight-invite-open-girls-overall-results\n\nic-knight-invite-open-girls-team-results\n\nic-knight-invite-open-boys-overall-results\n\nic-knight-invite-open-boys-team-results
URL:https://www.racetime.info/event/ic-catholic-prep-knight-cross-country-invite/
LOCATION:Plunket Athletic Complex\, 150 West Avenue\, Elmhurst\, IL\, 60126\, United States
CATEGORIES:2016 Cross Country Results
ORGANIZER;CN="Frank DeAngelis":MAILTO:fdeangelis@iccatholicprep.org
GEO:41.8954935;-87.9593372
X-APPLE-STRUCTURED-LOCATION;VALUE=URI;X-ADDRESS=Plunket Athletic Complex 150 West Avenue Elmhurst IL 60126 United States;X-APPLE-RADIUS=500;X-TITLE=150 West Avenue:geo:-87.9593372,41.8954935
END:VEVENT
BEGIN:VEVENT
DTSTART;TZID=America/Chicago:20150912T090000
DTEND;TZID=America/Chicago:20150912T230000
DTSTAMP:20260424T012235
CREATED:20150901T022904Z
LAST-MODIFIED:20150912T204607Z
UID:10000380-1442048400-1442098800@www.racetime.info
SUMMARY:IC Catholic Prep Knight Invite XC Meet
DESCRIPTION:ICCP Knight Invite Varsity Girls Overall Report\n\nICCP Knight Invite Varsity Girls Detail Team Report\n\nICCP Knight Invite Varsity Boys Overall Report\n\nICCP Knight Invite Varsity Boys Detail Team Report\n\nICCP Knight Invite Open Girls Overall Report\n\nICCP Knight Invite Open Boys Overall Report
URL:https://www.racetime.info/event/ic-catholic-prep-knight-invite-xc-meet/
LOCATION:Plunket Athletic Complex\, 150 West Avenue\, Elmhurst\, IL\, 60126\, United States
CATEGORIES:2015 Cross Country Results
ORGANIZER;CN="Frank DeAngelis":MAILTO:fdeangelis@iccatholicprep.org
GEO:41.8954935;-87.9593372
X-APPLE-STRUCTURED-LOCATION;VALUE=URI;X-ADDRESS=Plunket Athletic Complex 150 West Avenue Elmhurst IL 60126 United States;X-APPLE-RADIUS=500;X-TITLE=150 West Avenue:geo:-87.9593372,41.8954935
END:VEVENT
END:VCALENDAR