BEGIN:VCALENDAR
VERSION:2.0
PRODID:-//Race Time - ECPv6.15.13//NONSGML v1.0//EN
CALSCALE:GREGORIAN
METHOD:PUBLISH
X-WR-CALNAME:Race Time
X-ORIGINAL-URL:https://www.racetime.info
X-WR-CALDESC:Events for Race Time
REFRESH-INTERVAL;VALUE=DURATION:PT1H
X-Robots-Tag:noindex
X-PUBLISHED-TTL:PT1H
BEGIN:VTIMEZONE
TZID:America/Chicago
BEGIN:DAYLIGHT
TZOFFSETFROM:-0600
TZOFFSETTO:-0500
TZNAME:CDT
DTSTART:20160313T080000
END:DAYLIGHT
BEGIN:STANDARD
TZOFFSETFROM:-0500
TZOFFSETTO:-0600
TZNAME:CST
DTSTART:20161106T070000
END:STANDARD
BEGIN:DAYLIGHT
TZOFFSETFROM:-0600
TZOFFSETTO:-0500
TZNAME:CDT
DTSTART:20170312T080000
END:DAYLIGHT
BEGIN:STANDARD
TZOFFSETFROM:-0500
TZOFFSETTO:-0600
TZNAME:CST
DTSTART:20171105T070000
END:STANDARD
BEGIN:DAYLIGHT
TZOFFSETFROM:-0600
TZOFFSETTO:-0500
TZNAME:CDT
DTSTART:20180311T080000
END:DAYLIGHT
BEGIN:STANDARD
TZOFFSETFROM:-0500
TZOFFSETTO:-0600
TZNAME:CST
DTSTART:20181104T070000
END:STANDARD
BEGIN:DAYLIGHT
TZOFFSETFROM:-0600
TZOFFSETTO:-0500
TZNAME:CDT
DTSTART:20190310T080000
END:DAYLIGHT
BEGIN:STANDARD
TZOFFSETFROM:-0500
TZOFFSETTO:-0600
TZNAME:CST
DTSTART:20191103T070000
END:STANDARD
BEGIN:DAYLIGHT
TZOFFSETFROM:-0600
TZOFFSETTO:-0500
TZNAME:CDT
DTSTART:20200308T080000
END:DAYLIGHT
BEGIN:STANDARD
TZOFFSETFROM:-0500
TZOFFSETTO:-0600
TZNAME:CST
DTSTART:20201101T070000
END:STANDARD
BEGIN:DAYLIGHT
TZOFFSETFROM:-0600
TZOFFSETTO:-0500
TZNAME:CDT
DTSTART:20210314T080000
END:DAYLIGHT
BEGIN:STANDARD
TZOFFSETFROM:-0500
TZOFFSETTO:-0600
TZNAME:CST
DTSTART:20211107T070000
END:STANDARD
BEGIN:DAYLIGHT
TZOFFSETFROM:-0600
TZOFFSETTO:-0500
TZNAME:CDT
DTSTART:20220313T080000
END:DAYLIGHT
BEGIN:STANDARD
TZOFFSETFROM:-0500
TZOFFSETTO:-0600
TZNAME:CST
DTSTART:20221106T070000
END:STANDARD
BEGIN:DAYLIGHT
TZOFFSETFROM:-0600
TZOFFSETTO:-0500
TZNAME:CDT
DTSTART:20230312T080000
END:DAYLIGHT
BEGIN:STANDARD
TZOFFSETFROM:-0500
TZOFFSETTO:-0600
TZNAME:CST
DTSTART:20231105T070000
END:STANDARD
END:VTIMEZONE
BEGIN:VEVENT
DTSTART;TZID=America/Chicago:20221015T090000
DTEND;TZID=America/Chicago:20221015T110000
DTSTAMP:20260424T024615
CREATED:20210920T005815Z
LAST-MODIFIED:20220506T154135Z
UID:10002064-1665824400-1665831600@www.racetime.info
SUMMARY:Beat Yesterday 5K & 8K Run
DESCRIPTION:
URL:https://www.racetime.info/event/copy-of-beat-yesterday-5k-8k-run/
LOCATION:Prairie Point Park\, 4120 Plainfield Road\, Oswego\, IL\, 60543\, United States
ORGANIZER;CN="Jose del Risco":MAILTO:j.delrisco@worthyourmile.com
GEO:41.673332;-88.3435388
X-APPLE-STRUCTURED-LOCATION;VALUE=URI;X-ADDRESS=Prairie Point Park 4120 Plainfield Road Oswego IL 60543 United States;X-APPLE-RADIUS=500;X-TITLE=4120 Plainfield Road:geo:-88.3435388,41.673332
END:VEVENT
BEGIN:VEVENT
DTSTART;TZID=America/Chicago:20211017T090000
DTEND;TZID=America/Chicago:20211017T110000
DTSTAMP:20260424T024615
CREATED:20210920T005815Z
LAST-MODIFIED:20211017T170139Z
UID:10002063-1634461200-1634468400@www.racetime.info
SUMMARY:Beat Yesterday 5K & 8K Run
DESCRIPTION:Beat Yesterday 5K Overall Results\n\nBeat Yesterday 8K Overall Results
URL:https://www.racetime.info/event/beat-yesterday-5k-8k-run/
LOCATION:Prairie Point Park\, 4120 Plainfield Road\, Oswego\, IL\, 60543\, United States
CATEGORIES:2021-10 Results (October)
ORGANIZER;CN="Jose del Risco":MAILTO:j.delrisco@worthyourmile.com
GEO:41.673332;-88.3435388
X-APPLE-STRUCTURED-LOCATION;VALUE=URI;X-ADDRESS=Prairie Point Park 4120 Plainfield Road Oswego IL 60543 United States;X-APPLE-RADIUS=500;X-TITLE=4120 Plainfield Road:geo:-88.3435388,41.673332
END:VEVENT
BEGIN:VEVENT
DTSTART;TZID=America/Chicago:20170429T090000
DTEND;TZID=America/Chicago:20170429T110000
DTSTAMP:20260424T024615
CREATED:20170214T124544Z
LAST-MODIFIED:20170430T173130Z
UID:10000415-1493456400-1493463600@www.racetime.info
SUMMARY:OHS Leukemia Lymphoma Society 5K Run/Walk
DESCRIPTION:OHS 5K Age Group Results\n\nOHS 5K Overall Results
URL:https://www.racetime.info/event/ohs-leukemia-lymphoma-society-5k-runwalk/
LOCATION:Prairie Point Park\, 4120 Plainfield Road\, Oswego\, IL\, 60543\, United States
CATEGORIES:2017-04 Results (April)
ORGANIZER;CN="Stacey Baker":MAILTO:sbaker@sd308.org
GEO:41.673332;-88.3435388
X-APPLE-STRUCTURED-LOCATION;VALUE=URI;X-ADDRESS=Prairie Point Park 4120 Plainfield Road Oswego IL 60543 United States;X-APPLE-RADIUS=500;X-TITLE=4120 Plainfield Road:geo:-88.3435388,41.673332
END:VEVENT
END:VCALENDAR