BEGIN:VCALENDAR
VERSION:2.0
PRODID:-//Race Time - ECPv6.15.13//NONSGML v1.0//EN
CALSCALE:GREGORIAN
METHOD:PUBLISH
X-ORIGINAL-URL:https://www.racetime.info
X-WR-CALDESC:Events for Race Time
REFRESH-INTERVAL;VALUE=DURATION:PT1H
X-Robots-Tag:noindex
X-PUBLISHED-TTL:PT1H
BEGIN:VTIMEZONE
TZID:America/Chicago
BEGIN:DAYLIGHT
TZOFFSETFROM:-0600
TZOFFSETTO:-0500
TZNAME:CDT
DTSTART:20250309T080000
END:DAYLIGHT
BEGIN:STANDARD
TZOFFSETFROM:-0500
TZOFFSETTO:-0600
TZNAME:CST
DTSTART:20251102T070000
END:STANDARD
BEGIN:DAYLIGHT
TZOFFSETFROM:-0600
TZOFFSETTO:-0500
TZNAME:CDT
DTSTART:20260308T080000
END:DAYLIGHT
BEGIN:STANDARD
TZOFFSETFROM:-0500
TZOFFSETTO:-0600
TZNAME:CST
DTSTART:20261101T070000
END:STANDARD
BEGIN:DAYLIGHT
TZOFFSETFROM:-0600
TZOFFSETTO:-0500
TZNAME:CDT
DTSTART:20270314T080000
END:DAYLIGHT
BEGIN:STANDARD
TZOFFSETFROM:-0500
TZOFFSETTO:-0600
TZNAME:CST
DTSTART:20271107T070000
END:STANDARD
END:VTIMEZONE
BEGIN:VEVENT
DTSTART;TZID=America/Chicago:20260503T080000
DTEND;TZID=America/Chicago:20260503T100000
DTSTAMP:20260423T194411
CREATED:20260308T141920Z
LAST-MODIFIED:20260308T141920Z
UID:10002526-1777795200-1777802400@www.racetime.info
SUMMARY:Bob Blazier Run For the Arts 5K & 1 Mile Run/Walk
DESCRIPTION:
URL:https://www.racetime.info/event/bob-blazier-run-for-the-arts-5k-1-mile-run-walk-7/
LOCATION:Raue Center For The Arts\, 26 N. Williams Street\, Crystal Lake\, IL\, 60014\, United States
ORGANIZER;CN="James Knight":MAILTO:jknight@rauecenter.org
GEO:42.2419354;-88.3190301
X-APPLE-STRUCTURED-LOCATION;VALUE=URI;X-ADDRESS=Raue Center For The Arts 26 N. Williams Street Crystal Lake IL 60014 United States;X-APPLE-RADIUS=500;X-TITLE=26 N. Williams Street:geo:-88.3190301,42.2419354
END:VEVENT
END:VCALENDAR