BEGIN:VCALENDAR
VERSION:2.0
PRODID:-//Race Time - ECPv6.15.13//NONSGML v1.0//EN
CALSCALE:GREGORIAN
METHOD:PUBLISH
X-ORIGINAL-URL:https://www.racetime.info
X-WR-CALDESC:Events for Race Time
REFRESH-INTERVAL;VALUE=DURATION:PT1H
X-Robots-Tag:noindex
X-PUBLISHED-TTL:PT1H
BEGIN:VTIMEZONE
TZID:America/Chicago
BEGIN:DAYLIGHT
TZOFFSETFROM:-0600
TZOFFSETTO:-0500
TZNAME:CDT
DTSTART:20140309T080000
END:DAYLIGHT
BEGIN:STANDARD
TZOFFSETFROM:-0500
TZOFFSETTO:-0600
TZNAME:CST
DTSTART:20141102T070000
END:STANDARD
BEGIN:DAYLIGHT
TZOFFSETFROM:-0600
TZOFFSETTO:-0500
TZNAME:CDT
DTSTART:20150308T080000
END:DAYLIGHT
BEGIN:STANDARD
TZOFFSETFROM:-0500
TZOFFSETTO:-0600
TZNAME:CST
DTSTART:20151101T070000
END:STANDARD
BEGIN:DAYLIGHT
TZOFFSETFROM:-0600
TZOFFSETTO:-0500
TZNAME:CDT
DTSTART:20160313T080000
END:DAYLIGHT
BEGIN:STANDARD
TZOFFSETFROM:-0500
TZOFFSETTO:-0600
TZNAME:CST
DTSTART:20161106T070000
END:STANDARD
BEGIN:DAYLIGHT
TZOFFSETFROM:-0600
TZOFFSETTO:-0500
TZNAME:CDT
DTSTART:20170312T080000
END:DAYLIGHT
BEGIN:STANDARD
TZOFFSETFROM:-0500
TZOFFSETTO:-0600
TZNAME:CST
DTSTART:20171105T070000
END:STANDARD
BEGIN:DAYLIGHT
TZOFFSETFROM:-0600
TZOFFSETTO:-0500
TZNAME:CDT
DTSTART:20180311T080000
END:DAYLIGHT
BEGIN:STANDARD
TZOFFSETFROM:-0500
TZOFFSETTO:-0600
TZNAME:CST
DTSTART:20181104T070000
END:STANDARD
BEGIN:DAYLIGHT
TZOFFSETFROM:-0600
TZOFFSETTO:-0500
TZNAME:CDT
DTSTART:20190310T080000
END:DAYLIGHT
BEGIN:STANDARD
TZOFFSETFROM:-0500
TZOFFSETTO:-0600
TZNAME:CST
DTSTART:20191103T070000
END:STANDARD
BEGIN:DAYLIGHT
TZOFFSETFROM:-0600
TZOFFSETTO:-0500
TZNAME:CDT
DTSTART:20200308T080000
END:DAYLIGHT
BEGIN:STANDARD
TZOFFSETFROM:-0500
TZOFFSETTO:-0600
TZNAME:CST
DTSTART:20201101T070000
END:STANDARD
BEGIN:DAYLIGHT
TZOFFSETFROM:-0600
TZOFFSETTO:-0500
TZNAME:CDT
DTSTART:20210314T080000
END:DAYLIGHT
BEGIN:STANDARD
TZOFFSETFROM:-0500
TZOFFSETTO:-0600
TZNAME:CST
DTSTART:20211107T070000
END:STANDARD
BEGIN:DAYLIGHT
TZOFFSETFROM:-0600
TZOFFSETTO:-0500
TZNAME:CDT
DTSTART:20220313T080000
END:DAYLIGHT
BEGIN:STANDARD
TZOFFSETFROM:-0500
TZOFFSETTO:-0600
TZNAME:CST
DTSTART:20221106T070000
END:STANDARD
BEGIN:DAYLIGHT
TZOFFSETFROM:-0600
TZOFFSETTO:-0500
TZNAME:CDT
DTSTART:20230312T080000
END:DAYLIGHT
BEGIN:STANDARD
TZOFFSETFROM:-0500
TZOFFSETTO:-0600
TZNAME:CST
DTSTART:20231105T070000
END:STANDARD
BEGIN:DAYLIGHT
TZOFFSETFROM:-0600
TZOFFSETTO:-0500
TZNAME:CDT
DTSTART:20240310T080000
END:DAYLIGHT
BEGIN:STANDARD
TZOFFSETFROM:-0500
TZOFFSETTO:-0600
TZNAME:CST
DTSTART:20241103T070000
END:STANDARD
END:VTIMEZONE
BEGIN:VEVENT
DTSTART;TZID=America/Chicago:20231111T090000
DTEND;TZID=America/Chicago:20231111T113000
DTSTAMP:20260423T224942
CREATED:20170920T104651Z
LAST-MODIFIED:20231112T090955Z
UID:10001682-1699693200-1699702200@www.racetime.info
SUMMARY:Bill Leonard Memorial Rig Rondy Dog Sled Races
DESCRIPTION:Rig Rondy Results
URL:https://www.racetime.info/event/copy-of-bill-leonard-memorial-rig-rondy-dog-sled-races-2/
LOCATION:Red Barn Farm Market\, 3500 S. IL. Route 47\, Woodstock\, IL\, 60098\, United States
CATEGORIES:2023-11 Results (November)
ORGANIZER;CN="Mary Beth Kolb":MAILTO:rigrondy@adoptahusky.com
GEO:42.2753018;-88.432903
X-APPLE-STRUCTURED-LOCATION;VALUE=URI;X-ADDRESS=Red Barn Farm Market 3500 S. IL. Route 47 Woodstock IL 60098 United States;X-APPLE-RADIUS=500;X-TITLE=3500 S. IL. Route 47:geo:-88.432903,42.2753018
END:VEVENT
BEGIN:VEVENT
DTSTART;TZID=America/Chicago:20221112T090000
DTEND;TZID=America/Chicago:20221112T150000
DTSTAMP:20260423T224942
CREATED:20170920T104651Z
LAST-MODIFIED:20221112T201831Z
UID:10001681-1668243600-1668265200@www.racetime.info
SUMMARY:Bill Leonard Memorial Rig Rondy Dog Sled Races
DESCRIPTION:Rig Rendezvous Overall Results
URL:https://www.racetime.info/event/copy-of-bill-leonard-memorial-rig-rondy-dog-sled-races/
LOCATION:Red Barn Farm Market\, 3500 S. IL. Route 47\, Woodstock\, IL\, 60098\, United States
CATEGORIES:2022-11 Results (November)
ORGANIZER;CN="Mary Beth Kolb":MAILTO:rigrondy@adoptahusky.com
GEO:42.2753018;-88.432903
X-APPLE-STRUCTURED-LOCATION;VALUE=URI;X-ADDRESS=Red Barn Farm Market 3500 S. IL. Route 47 Woodstock IL 60098 United States;X-APPLE-RADIUS=500;X-TITLE=3500 S. IL. Route 47:geo:-88.432903,42.2753018
END:VEVENT
BEGIN:VEVENT
DTSTART;TZID=America/Chicago:20211113T090000
DTEND;TZID=America/Chicago:20211113T150000
DTSTAMP:20260423T224942
CREATED:20170920T104651Z
LAST-MODIFIED:20211113T210428Z
UID:10001680-1636794000-1636815600@www.racetime.info
SUMMARY:Bill Leonard Memorial Rig Rondy Dog Sled Races
DESCRIPTION:Rig Rondy Overall Results by Division
URL:https://www.racetime.info/event/bill-leonard-memorial-rig-rondy-dog-sled-races-4/
LOCATION:Red Barn Farm Market\, 3500 S. IL. Route 47\, Woodstock\, IL\, 60098\, United States
CATEGORIES:2021-11 Results (November)
ORGANIZER;CN="Mary Beth Kolb":MAILTO:rigrondy@adoptahusky.com
GEO:42.2753018;-88.432903
X-APPLE-STRUCTURED-LOCATION;VALUE=URI;X-ADDRESS=Red Barn Farm Market 3500 S. IL. Route 47 Woodstock IL 60098 United States;X-APPLE-RADIUS=500;X-TITLE=3500 S. IL. Route 47:geo:-88.432903,42.2753018
END:VEVENT
BEGIN:VEVENT
DTSTART;TZID=America/Chicago:20191109T090000
DTEND;TZID=America/Chicago:20191109T150000
DTSTAMP:20260423T224942
CREATED:20170920T104651Z
LAST-MODIFIED:20191109T221435Z
UID:10001679-1573290000-1573311600@www.racetime.info
SUMMARY:Bill Leonard Memorial Rig Rondy Dog Sled Races
DESCRIPTION:Rig Rondy Overall Results All Divisions
URL:https://www.racetime.info/event/bill-leonard-memorial-rig-rondy-dog-sled-races-3/
LOCATION:Red Barn Farm Market\, 3500 S. IL. Route 47\, Woodstock\, IL\, 60098\, United States
CATEGORIES:2019-11 Results (November)
ORGANIZER;CN="Mary Beth Kolb":MAILTO:rigrondy@adoptahusky.com
GEO:42.2753018;-88.432903
X-APPLE-STRUCTURED-LOCATION;VALUE=URI;X-ADDRESS=Red Barn Farm Market 3500 S. IL. Route 47 Woodstock IL 60098 United States;X-APPLE-RADIUS=500;X-TITLE=3500 S. IL. Route 47:geo:-88.432903,42.2753018
END:VEVENT
BEGIN:VEVENT
DTSTART;TZID=America/Chicago:20181110T090000
DTEND;TZID=America/Chicago:20181110T150000
DTSTAMP:20260423T224942
CREATED:20170920T104651Z
LAST-MODIFIED:20181112T135305Z
UID:10001677-1541840400-1541862000@www.racetime.info
SUMMARY:Bill Leonard Memorial Rig Rondy Dog Sled Races
DESCRIPTION:Rig Rondy Results by Class 1\n\nRig Rondy Relay Team Results
URL:https://www.racetime.info/event/bill-leonard-memorial-rig-rondy-dog-sled-races/
LOCATION:Red Barn Farm Market\, 3500 S. IL. Route 47\, Woodstock\, IL\, 60098\, United States
CATEGORIES:2018-11 Results (November)
ORGANIZER;CN="Mary Beth Kolb":MAILTO:rigrondy@adoptahusky.com
GEO:42.2753018;-88.432903
X-APPLE-STRUCTURED-LOCATION;VALUE=URI;X-ADDRESS=Red Barn Farm Market 3500 S. IL. Route 47 Woodstock IL 60098 United States;X-APPLE-RADIUS=500;X-TITLE=3500 S. IL. Route 47:geo:-88.432903,42.2753018
END:VEVENT
BEGIN:VEVENT
DTSTART;TZID=America/Chicago:20181109T090000
DTEND;TZID=America/Chicago:20181109T150000
DTSTAMP:20260423T224942
CREATED:20170920T104651Z
LAST-MODIFIED:20170920T104651Z
UID:10001678-1541754000-1541775600@www.racetime.info
SUMMARY:Bill Leonard Memorial Rig Rondy Dog Sled Races
DESCRIPTION:Rig Rondy Results by Class 1\n\nRig Rondy Relay Team Results
URL:https://www.racetime.info/event/bill-leonard-memorial-rig-rondy-dog-sled-races-2/
LOCATION:Red Barn Farm Market\, 3500 S. IL. Route 47\, Woodstock\, IL\, 60098\, United States
CATEGORIES:2018-11 Results (November)
ORGANIZER;CN="Mary Beth Kolb":MAILTO:rigrondy@adoptahusky.com
GEO:42.2753018;-88.432903
X-APPLE-STRUCTURED-LOCATION;VALUE=URI;X-ADDRESS=Red Barn Farm Market 3500 S. IL. Route 47 Woodstock IL 60098 United States;X-APPLE-RADIUS=500;X-TITLE=3500 S. IL. Route 47:geo:-88.432903,42.2753018
END:VEVENT
BEGIN:VEVENT
DTSTART;TZID=America/Chicago:20171111T090000
DTEND;TZID=America/Chicago:20171111T150000
DTSTAMP:20260423T224942
CREATED:20170920T104651Z
LAST-MODIFIED:20171111T213528Z
UID:10001675-1510390800-1510412400@www.racetime.info
SUMMARY:Bill Leonard Memorial Rig Rondy Dog Sled Races
DESCRIPTION:Rig Rondy Overall Results by Class\n\nRig Rondy Relay Team Results
URL:https://www.racetime.info/event/bill-leonard-memorial-rig-rendezvous-dog-sled-races/
LOCATION:Red Barn Farm Market\, 3500 S. IL. Route 47\, Woodstock\, IL\, 60098\, United States
CATEGORIES:2017-11 Results (November)
ORGANIZER;CN="Mary Beth Kolb":MAILTO:rigrondy@adoptahusky.com
GEO:42.2753018;-88.432903
X-APPLE-STRUCTURED-LOCATION;VALUE=URI;X-ADDRESS=Red Barn Farm Market 3500 S. IL. Route 47 Woodstock IL 60098 United States;X-APPLE-RADIUS=500;X-TITLE=3500 S. IL. Route 47:geo:-88.432903,42.2753018
END:VEVENT
BEGIN:VEVENT
DTSTART;TZID=America/Chicago:20161112T090000
DTEND;TZID=America/Chicago:20161112T150000
DTSTAMP:20260423T224942
CREATED:20160921T130135Z
LAST-MODIFIED:20161112T215005Z
UID:10000330-1478941200-1478962800@www.racetime.info
SUMMARY:Bill Leonard Memorial Rig Rondy Dog Sled Race
DESCRIPTION:Rig Rondy Overall by Class\n\nRig Rondy Relay Team Results
URL:https://www.racetime.info/event/bill-leonard-memorial-rig-rendezvous-dog-sled-race/
LOCATION:Red Barn Farm Market\, 3500 S. IL. Route 47\, Woodstock\, IL\, 60098\, United States
CATEGORIES:2016-11 Results (November)
ORGANIZER;CN="Mary Beth Kolb":MAILTO:rigrondy@adoptahusky.com
GEO:42.2753018;-88.432903
X-APPLE-STRUCTURED-LOCATION;VALUE=URI;X-ADDRESS=Red Barn Farm Market 3500 S. IL. Route 47 Woodstock IL 60098 United States;X-APPLE-RADIUS=500;X-TITLE=3500 S. IL. Route 47:geo:-88.432903,42.2753018
END:VEVENT
BEGIN:VEVENT
DTSTART;TZID=America/Chicago:20151107T090000
DTEND;TZID=America/Chicago:20151107T140000
DTSTAMP:20260423T224942
CREATED:20150825T023151Z
LAST-MODIFIED:20151107T213239Z
UID:10000360-1446886800-1446904800@www.racetime.info
SUMMARY:Bill Leonard Memorial Rig Rendezvous
DESCRIPTION:Rig Rondy Overall Results\n\nRig Rondy Relay Teams
URL:https://www.racetime.info/event/bill-leonard-memorial-rig-rendezvous/
LOCATION:Red Barn Farm Market\, 3500 S. IL. Route 47\, Woodstock\, IL\, 60098\, United States
CATEGORIES:2015-11 Results (November)
ORGANIZER;CN="Mary Beth Kolb":MAILTO:rigrondy@adoptahusky.com
GEO:42.2753018;-88.432903
X-APPLE-STRUCTURED-LOCATION;VALUE=URI;X-ADDRESS=Red Barn Farm Market 3500 S. IL. Route 47 Woodstock IL 60098 United States;X-APPLE-RADIUS=500;X-TITLE=3500 S. IL. Route 47:geo:-88.432903,42.2753018
END:VEVENT
END:VCALENDAR