BEGIN:VCALENDAR
VERSION:2.0
PRODID:-//Race Time - ECPv6.15.13//NONSGML v1.0//EN
CALSCALE:GREGORIAN
METHOD:PUBLISH
X-WR-CALNAME:Race Time
X-ORIGINAL-URL:https://www.racetime.info
X-WR-CALDESC:Events for Race Time
REFRESH-INTERVAL;VALUE=DURATION:PT1H
X-Robots-Tag:noindex
X-PUBLISHED-TTL:PT1H
BEGIN:VTIMEZONE
TZID:America/Chicago
BEGIN:DAYLIGHT
TZOFFSETFROM:-0600
TZOFFSETTO:-0500
TZNAME:CDT
DTSTART:20150308T080000
END:DAYLIGHT
BEGIN:STANDARD
TZOFFSETFROM:-0500
TZOFFSETTO:-0600
TZNAME:CST
DTSTART:20151101T070000
END:STANDARD
BEGIN:DAYLIGHT
TZOFFSETFROM:-0600
TZOFFSETTO:-0500
TZNAME:CDT
DTSTART:20160313T080000
END:DAYLIGHT
BEGIN:STANDARD
TZOFFSETFROM:-0500
TZOFFSETTO:-0600
TZNAME:CST
DTSTART:20161106T070000
END:STANDARD
BEGIN:DAYLIGHT
TZOFFSETFROM:-0600
TZOFFSETTO:-0500
TZNAME:CDT
DTSTART:20170312T080000
END:DAYLIGHT
BEGIN:STANDARD
TZOFFSETFROM:-0500
TZOFFSETTO:-0600
TZNAME:CST
DTSTART:20171105T070000
END:STANDARD
BEGIN:DAYLIGHT
TZOFFSETFROM:-0600
TZOFFSETTO:-0500
TZNAME:CDT
DTSTART:20180311T080000
END:DAYLIGHT
BEGIN:STANDARD
TZOFFSETFROM:-0500
TZOFFSETTO:-0600
TZNAME:CST
DTSTART:20181104T070000
END:STANDARD
BEGIN:DAYLIGHT
TZOFFSETFROM:-0600
TZOFFSETTO:-0500
TZNAME:CDT
DTSTART:20190310T080000
END:DAYLIGHT
BEGIN:STANDARD
TZOFFSETFROM:-0500
TZOFFSETTO:-0600
TZNAME:CST
DTSTART:20191103T070000
END:STANDARD
END:VTIMEZONE
BEGIN:VEVENT
DTSTART;TZID=America/Chicago:20180520T090000
DTEND;TZID=America/Chicago:20180520T110000
DTSTAMP:20260424T024631
CREATED:20170315T205509Z
LAST-MODIFIED:20180520T183009Z
UID:10001213-1526806800-1526814000@www.racetime.info
SUMMARY:Roads Scholar 5K Run/Walk
DESCRIPTION:Roads Scholar 5K Age Group Results\n\nRoads Scholar 5K Overall Results
URL:https://www.racetime.info/event/roads-scholar-5k-run-walk/
LOCATION:Rosary High School\, 901 N. Edgelawn Drive\, Aurora\, IL\, 60506\, United States
CATEGORIES:2018-05 Results (May)
ORGANIZER;CN="Sandra Galindo":MAILTO:sgalindo@rosaryhs.com
GEO:41.7746413;-88.3567841
X-APPLE-STRUCTURED-LOCATION;VALUE=URI;X-ADDRESS=Rosary High School 901 N. Edgelawn Drive Aurora IL 60506 United States;X-APPLE-RADIUS=500;X-TITLE=901 N. Edgelawn Drive:geo:-88.3567841,41.7746413
END:VEVENT
BEGIN:VEVENT
DTSTART;TZID=America/Chicago:20170521T090000
DTEND;TZID=America/Chicago:20170521T110000
DTSTAMP:20260424T024631
CREATED:20170315T205509Z
LAST-MODIFIED:20170521T194317Z
UID:10001212-1495357200-1495364400@www.racetime.info
SUMMARY:Roads Scholar 5K Run/Walk
DESCRIPTION:Roads Scholar 5K Age Group Results\n\nRoads Scholar 5K Overall Results
URL:https://www.racetime.info/event/road-scholars-5k-runwalk-2/
LOCATION:Rosary High School\, 901 N. Edgelawn Drive\, Aurora\, IL\, 60506\, United States
CATEGORIES:2017-05 Results (May)
ORGANIZER;CN="Sandra Galindo":MAILTO:sgalindo@rosaryhs.com
GEO:41.7746413;-88.3567841
X-APPLE-STRUCTURED-LOCATION;VALUE=URI;X-ADDRESS=Rosary High School 901 N. Edgelawn Drive Aurora IL 60506 United States;X-APPLE-RADIUS=500;X-TITLE=901 N. Edgelawn Drive:geo:-88.3567841,41.7746413
END:VEVENT
BEGIN:VEVENT
DTSTART;TZID=America/Chicago:20160515T090000
DTEND;TZID=America/Chicago:20160515T110000
DTSTAMP:20260424T024631
CREATED:20160317T204606Z
LAST-MODIFIED:20160515T193157Z
UID:10000210-1463302800-1463310000@www.racetime.info
SUMMARY:Road Scholars 5K RunWalk
DESCRIPTION:Road Scholars 5K Age Group Results\n\nRoad Scholars 5K Overall Results
URL:https://www.racetime.info/event/road-scholars-5k-runwalk/
LOCATION:Rosary High School\, 901 N. Edgelawn Drive\, Aurora\, IL\, 60506\, United States
CATEGORIES:2016-05 Results (May)
ORGANIZER;CN="Sandra Galindo":MAILTO:sgalindo@rosaryhs.com
GEO:41.7746413;-88.3567841
X-APPLE-STRUCTURED-LOCATION;VALUE=URI;X-ADDRESS=Rosary High School 901 N. Edgelawn Drive Aurora IL 60506 United States;X-APPLE-RADIUS=500;X-TITLE=901 N. Edgelawn Drive:geo:-88.3567841,41.7746413
END:VEVENT
END:VCALENDAR