BEGIN:VCALENDAR
VERSION:2.0
PRODID:-//Race Time - ECPv6.15.13//NONSGML v1.0//EN
CALSCALE:GREGORIAN
METHOD:PUBLISH
X-ORIGINAL-URL:https://www.racetime.info
X-WR-CALDESC:Events for Race Time
REFRESH-INTERVAL;VALUE=DURATION:PT1H
X-Robots-Tag:noindex
X-PUBLISHED-TTL:PT1H
BEGIN:VTIMEZONE
TZID:America/Chicago
BEGIN:DAYLIGHT
TZOFFSETFROM:-0600
TZOFFSETTO:-0500
TZNAME:CDT
DTSTART:20140309T080000
END:DAYLIGHT
BEGIN:STANDARD
TZOFFSETFROM:-0500
TZOFFSETTO:-0600
TZNAME:CST
DTSTART:20141102T070000
END:STANDARD
BEGIN:DAYLIGHT
TZOFFSETFROM:-0600
TZOFFSETTO:-0500
TZNAME:CDT
DTSTART:20150308T080000
END:DAYLIGHT
BEGIN:STANDARD
TZOFFSETFROM:-0500
TZOFFSETTO:-0600
TZNAME:CST
DTSTART:20151101T070000
END:STANDARD
BEGIN:DAYLIGHT
TZOFFSETFROM:-0600
TZOFFSETTO:-0500
TZNAME:CDT
DTSTART:20160313T080000
END:DAYLIGHT
BEGIN:STANDARD
TZOFFSETFROM:-0500
TZOFFSETTO:-0600
TZNAME:CST
DTSTART:20161106T070000
END:STANDARD
END:VTIMEZONE
BEGIN:VEVENT
DTSTART;TZID=America/Chicago:20150222T110000
DTEND;TZID=America/Chicago:20150222T110000
DTSTAMP:20260424T041834
CREATED:20150410T095949Z
LAST-MODIFIED:20160110T164542Z
UID:10000202-1424602800-1424602800@www.racetime.info
SUMMARY:Hot Chocolate Frosty Footrace
DESCRIPTION:Hot Chocolate Frosty Foot Race 5K Age Group Results\n\nHot Chocolate Frosty Foot Race 5K Overall Results
URL:https://www.racetime.info/event/hot-chocolate-frosty-footrace/
LOCATION:Round Lake Area Park District Sports Center\, 2004 Municipal Way\, Round Lake Beach\, IL\, United States
CATEGORIES:2015-02 Results (February)
ORGANIZER;CN="Jessica Jeffery":MAILTO:jessica_jeffery-findley@rlapd.org
GEO:42.3843311;-88.0721672
X-APPLE-STRUCTURED-LOCATION;VALUE=URI;X-ADDRESS=Round Lake Area Park District Sports Center 2004 Municipal Way Round Lake Beach IL United States;X-APPLE-RADIUS=500;X-TITLE=2004 Municipal Way:geo:-88.0721672,42.3843311
END:VEVENT
END:VCALENDAR