BEGIN:VCALENDAR
VERSION:2.0
PRODID:-//Race Time - ECPv6.15.13//NONSGML v1.0//EN
CALSCALE:GREGORIAN
METHOD:PUBLISH
X-ORIGINAL-URL:https://www.racetime.info
X-WR-CALDESC:Events for Race Time
REFRESH-INTERVAL;VALUE=DURATION:PT1H
X-Robots-Tag:noindex
X-PUBLISHED-TTL:PT1H
BEGIN:VTIMEZONE
TZID:America/Chicago
BEGIN:DAYLIGHT
TZOFFSETFROM:-0600
TZOFFSETTO:-0500
TZNAME:CDT
DTSTART:20140309T080000
END:DAYLIGHT
BEGIN:STANDARD
TZOFFSETFROM:-0500
TZOFFSETTO:-0600
TZNAME:CST
DTSTART:20141102T070000
END:STANDARD
BEGIN:DAYLIGHT
TZOFFSETFROM:-0600
TZOFFSETTO:-0500
TZNAME:CDT
DTSTART:20150308T080000
END:DAYLIGHT
BEGIN:STANDARD
TZOFFSETFROM:-0500
TZOFFSETTO:-0600
TZNAME:CST
DTSTART:20151101T070000
END:STANDARD
BEGIN:DAYLIGHT
TZOFFSETFROM:-0600
TZOFFSETTO:-0500
TZNAME:CDT
DTSTART:20160313T080000
END:DAYLIGHT
BEGIN:STANDARD
TZOFFSETFROM:-0500
TZOFFSETTO:-0600
TZNAME:CST
DTSTART:20161106T070000
END:STANDARD
BEGIN:DAYLIGHT
TZOFFSETFROM:-0600
TZOFFSETTO:-0500
TZNAME:CDT
DTSTART:20170312T080000
END:DAYLIGHT
BEGIN:STANDARD
TZOFFSETFROM:-0500
TZOFFSETTO:-0600
TZNAME:CST
DTSTART:20171105T070000
END:STANDARD
BEGIN:DAYLIGHT
TZOFFSETFROM:-0600
TZOFFSETTO:-0500
TZNAME:CDT
DTSTART:20180311T080000
END:DAYLIGHT
BEGIN:STANDARD
TZOFFSETFROM:-0500
TZOFFSETTO:-0600
TZNAME:CST
DTSTART:20181104T070000
END:STANDARD
BEGIN:DAYLIGHT
TZOFFSETFROM:-0600
TZOFFSETTO:-0500
TZNAME:CDT
DTSTART:20190310T080000
END:DAYLIGHT
BEGIN:STANDARD
TZOFFSETFROM:-0500
TZOFFSETTO:-0600
TZNAME:CST
DTSTART:20191103T070000
END:STANDARD
BEGIN:DAYLIGHT
TZOFFSETFROM:-0600
TZOFFSETTO:-0500
TZNAME:CDT
DTSTART:20200308T080000
END:DAYLIGHT
BEGIN:STANDARD
TZOFFSETFROM:-0500
TZOFFSETTO:-0600
TZNAME:CST
DTSTART:20201101T070000
END:STANDARD
BEGIN:DAYLIGHT
TZOFFSETFROM:-0600
TZOFFSETTO:-0500
TZNAME:CDT
DTSTART:20210314T080000
END:DAYLIGHT
BEGIN:STANDARD
TZOFFSETFROM:-0500
TZOFFSETTO:-0600
TZNAME:CST
DTSTART:20211107T070000
END:STANDARD
BEGIN:DAYLIGHT
TZOFFSETFROM:-0600
TZOFFSETTO:-0500
TZNAME:CDT
DTSTART:20220313T080000
END:DAYLIGHT
BEGIN:STANDARD
TZOFFSETFROM:-0500
TZOFFSETTO:-0600
TZNAME:CST
DTSTART:20221106T070000
END:STANDARD
BEGIN:DAYLIGHT
TZOFFSETFROM:-0600
TZOFFSETTO:-0500
TZNAME:CDT
DTSTART:20230312T080000
END:DAYLIGHT
BEGIN:STANDARD
TZOFFSETFROM:-0500
TZOFFSETTO:-0600
TZNAME:CST
DTSTART:20231105T070000
END:STANDARD
END:VTIMEZONE
BEGIN:VEVENT
DTSTART;TZID=America/Chicago:20221015T083000
DTEND;TZID=America/Chicago:20221015T103000
DTSTAMP:20260424T024756
CREATED:20221013T202453Z
LAST-MODIFIED:20221015T173014Z
UID:10001317-1665822600-1665829800@www.racetime.info
SUMMARY:BNC Cross Country Championship
DESCRIPTION:Big Northern JV Girls Overall Results\n\nBig Northern JV Girls Team Results\n\nBig Northern JV Boys Overall Results\n\nBig Northern JV Boys Team Results\n\nBig Northern Varsity Girls Overall Results\n\nBig Northern Varsity Girls Team Results\n\nBig Northern Varsity Boys Overall Results\n\nBig Northern Varsity Boys Team Results
URL:https://www.racetime.info/event/bnc-cross-country-championship/
LOCATION:Sauk Valley Community College\, 173 Il. Rt. 2\, Dixon\, IL\, 61021\, United States
CATEGORIES:2022 Cross Country Results
ORGANIZER;CN="Roger Fegan":MAILTO:rfegan@dps170.org
GEO:41.8175513;-89.5974424
X-APPLE-STRUCTURED-LOCATION;VALUE=URI;X-ADDRESS=Sauk Valley Community College 173 Il. Rt. 2 Dixon IL 61021 United States;X-APPLE-RADIUS=500;X-TITLE=173 Il. Rt. 2:geo:-89.5974424,41.8175513
END:VEVENT
BEGIN:VEVENT
DTSTART;TZID=America/Chicago:20181110T100000
DTEND;TZID=America/Chicago:20181110T120000
DTSTAMP:20260424T024756
CREATED:20180409T195332Z
LAST-MODIFIED:20181111T014715Z
UID:10001760-1541844000-1541851200@www.racetime.info
SUMMARY:SVCC Freedom 5K Run/Walk
DESCRIPTION:SVCC Freedom 5K Age Group Results\n\nSVCC Freedom 5K Overall Results
URL:https://www.racetime.info/event/svvc-freedom-5k-run-walk/
LOCATION:Sauk Valley Community College\, 173 Il. Rt. 2\, Dixon\, IL\, 61021\, United States
CATEGORIES:2018-11 Results (November)
ORGANIZER;CN="Eric Valdez":MAILTO:eric.p.valdez@svcc.edu
GEO:41.8175513;-89.5974424
X-APPLE-STRUCTURED-LOCATION;VALUE=URI;X-ADDRESS=Sauk Valley Community College 173 Il. Rt. 2 Dixon IL 61021 United States;X-APPLE-RADIUS=500;X-TITLE=173 Il. Rt. 2:geo:-89.5974424,41.8175513
END:VEVENT
BEGIN:VEVENT
DTSTART;TZID=America/Chicago:20150411T080000
DTEND;TZID=America/Chicago:20150411T110000
DTSTAMP:20260424T024756
CREATED:20150522T050318Z
LAST-MODIFIED:20150802T040925Z
UID:10000234-1428739200-1428750000@www.racetime.info
SUMMARY:Sauk Valley Spring and Stroll 5K
DESCRIPTION:Sauk Valley Sprint & Stroll 5K Overall Results
URL:https://www.racetime.info/event/sauk-valley-spring-and-stroll-5k/
LOCATION:Sauk Valley Community College\, 173 Il. Rt. 2\, Dixon\, IL\, 61021\, United States
CATEGORIES:2015-04 Results (April)
ORGANIZER;CN="Dana Chacon":MAILTO:dana.j.chacon@svcc.edu
GEO:41.8175513;-89.5974424
X-APPLE-STRUCTURED-LOCATION;VALUE=URI;X-ADDRESS=Sauk Valley Community College 173 Il. Rt. 2 Dixon IL 61021 United States;X-APPLE-RADIUS=500;X-TITLE=173 Il. Rt. 2:geo:-89.5974424,41.8175513
END:VEVENT
END:VCALENDAR