BEGIN:VCALENDAR
VERSION:2.0
PRODID:-//Race Time - ECPv6.15.13//NONSGML v1.0//EN
CALSCALE:GREGORIAN
METHOD:PUBLISH
X-WR-CALNAME:Race Time
X-ORIGINAL-URL:https://www.racetime.info
X-WR-CALDESC:Events for Race Time
REFRESH-INTERVAL;VALUE=DURATION:PT1H
X-Robots-Tag:noindex
X-PUBLISHED-TTL:PT1H
BEGIN:VTIMEZONE
TZID:America/Chicago
BEGIN:DAYLIGHT
TZOFFSETFROM:-0600
TZOFFSETTO:-0500
TZNAME:CDT
DTSTART:20140309T080000
END:DAYLIGHT
BEGIN:STANDARD
TZOFFSETFROM:-0500
TZOFFSETTO:-0600
TZNAME:CST
DTSTART:20141102T070000
END:STANDARD
BEGIN:DAYLIGHT
TZOFFSETFROM:-0600
TZOFFSETTO:-0500
TZNAME:CDT
DTSTART:20150308T080000
END:DAYLIGHT
BEGIN:STANDARD
TZOFFSETFROM:-0500
TZOFFSETTO:-0600
TZNAME:CST
DTSTART:20151101T070000
END:STANDARD
BEGIN:DAYLIGHT
TZOFFSETFROM:-0600
TZOFFSETTO:-0500
TZNAME:CDT
DTSTART:20160313T080000
END:DAYLIGHT
BEGIN:STANDARD
TZOFFSETFROM:-0500
TZOFFSETTO:-0600
TZNAME:CST
DTSTART:20161106T070000
END:STANDARD
BEGIN:DAYLIGHT
TZOFFSETFROM:-0600
TZOFFSETTO:-0500
TZNAME:CDT
DTSTART:20170312T080000
END:DAYLIGHT
BEGIN:STANDARD
TZOFFSETFROM:-0500
TZOFFSETTO:-0600
TZNAME:CST
DTSTART:20171105T070000
END:STANDARD
END:VTIMEZONE
BEGIN:VEVENT
DTSTART;TZID=America/Chicago:20160922T130000
DTEND;TZID=America/Chicago:20160922T160000
DTSTAMP:20260423T225443
CREATED:20160830T005202Z
LAST-MODIFIED:20160922T210556Z
UID:10000319-1474549200-1474560000@www.racetime.info
SUMMARY:Girls In The Game (Private)
DESCRIPTION:Girls In The Game 5K Age Group Results\n\nGirls In The Game 5K Overall Results
URL:https://www.racetime.info/event/girls-in-the-game-private/
LOCATION:Sears Holding\, 3333 Beverly Road\, Hoffman Estates\, IL\, 60179\, United States
CATEGORIES:2016-09 Results (September)
ORGANIZER;CN="Lily Nishida":MAILTO:wnet707@searshc.com
GEO:42.0777546;-88.2149715
X-APPLE-STRUCTURED-LOCATION;VALUE=URI;X-ADDRESS=Sears Holding 3333 Beverly Road Hoffman Estates IL 60179 United States;X-APPLE-RADIUS=500;X-TITLE=3333 Beverly Road:geo:-88.2149715,42.0777546
END:VEVENT
BEGIN:VEVENT
DTSTART;TZID=America/Chicago:20150924T140000
DTEND;TZID=America/Chicago:20150924T160000
DTSTAMP:20260423T225443
CREATED:20150901T171650Z
LAST-MODIFIED:20150925T000650Z
UID:10000389-1443103200-1443110400@www.racetime.info
SUMMARY:SHC WiLD Girls In The Game 5K (Private Race)
DESCRIPTION:Girls In The Game 5K Age Group Results\n\nGirls In The Game 5K Overall Results
URL:https://www.racetime.info/event/shc-wild-girls-in-the-game-5k-private-race/
LOCATION:Sears Holding\, 3333 Beverly Road\, Hoffman Estates\, IL\, 60179\, United States
CATEGORIES:2015-09 Results (September)
ORGANIZER;CN="Lily Nishida":MAILTO:wnet707@searshc.com
GEO:42.0777546;-88.2149715
X-APPLE-STRUCTURED-LOCATION;VALUE=URI;X-ADDRESS=Sears Holding 3333 Beverly Road Hoffman Estates IL 60179 United States;X-APPLE-RADIUS=500;X-TITLE=3333 Beverly Road:geo:-88.2149715,42.0777546
END:VEVENT
END:VCALENDAR