BEGIN:VCALENDAR
VERSION:2.0
PRODID:-//Race Time - ECPv6.15.13//NONSGML v1.0//EN
CALSCALE:GREGORIAN
METHOD:PUBLISH
X-WR-CALNAME:Race Time
X-ORIGINAL-URL:https://www.racetime.info
X-WR-CALDESC:Events for Race Time
REFRESH-INTERVAL;VALUE=DURATION:PT1H
X-Robots-Tag:noindex
X-PUBLISHED-TTL:PT1H
BEGIN:VTIMEZONE
TZID:America/Chicago
BEGIN:DAYLIGHT
TZOFFSETFROM:-0600
TZOFFSETTO:-0500
TZNAME:CDT
DTSTART:20140309T080000
END:DAYLIGHT
BEGIN:STANDARD
TZOFFSETFROM:-0500
TZOFFSETTO:-0600
TZNAME:CST
DTSTART:20141102T070000
END:STANDARD
BEGIN:DAYLIGHT
TZOFFSETFROM:-0600
TZOFFSETTO:-0500
TZNAME:CDT
DTSTART:20150308T080000
END:DAYLIGHT
BEGIN:STANDARD
TZOFFSETFROM:-0500
TZOFFSETTO:-0600
TZNAME:CST
DTSTART:20151101T070000
END:STANDARD
BEGIN:DAYLIGHT
TZOFFSETFROM:-0600
TZOFFSETTO:-0500
TZNAME:CDT
DTSTART:20160313T080000
END:DAYLIGHT
BEGIN:STANDARD
TZOFFSETFROM:-0500
TZOFFSETTO:-0600
TZNAME:CST
DTSTART:20161106T070000
END:STANDARD
END:VTIMEZONE
BEGIN:VEVENT
DTSTART;TZID=America/Chicago:20150620T101500
DTEND;TZID=America/Chicago:20150620T120000
DTSTAMP:20260424T053907
CREATED:20150522T235112Z
LAST-MODIFIED:20150622T111745Z
UID:10000051-1434795300-1434801600@www.racetime.info
SUMMARY:ATI's Metal 1K Walk & 5K Run
DESCRIPTION:ATI Metal 5K Age Group Results\n\nATI Metal 5K Overall Results
URL:https://www.racetime.info/event/atis-metal-1k-walk-5k-run/
LOCATION:Silver Cross Field\, 1 Mayor Art Schultz Dr\, Joliet\, IL\, 60432\, United States
CATEGORIES:2015-06 Results (June)
ORGANIZER;CN="ATI Physical Therapy":MAILTO:terry.williams@atipt.com
GEO:41.5260175;-88.0775418
X-APPLE-STRUCTURED-LOCATION;VALUE=URI;X-ADDRESS=Silver Cross Field 1 Mayor Art Schultz Dr Joliet IL 60432 United States;X-APPLE-RADIUS=500;X-TITLE=1 Mayor Art Schultz Dr:geo:-88.0775418,41.5260175
END:VEVENT
END:VCALENDAR