BEGIN:VCALENDAR
VERSION:2.0
PRODID:-//Race Time - ECPv6.15.13//NONSGML v1.0//EN
CALSCALE:GREGORIAN
METHOD:PUBLISH
X-WR-CALNAME:Race Time
X-ORIGINAL-URL:https://www.racetime.info
X-WR-CALDESC:Events for Race Time
REFRESH-INTERVAL;VALUE=DURATION:PT1H
X-Robots-Tag:noindex
X-PUBLISHED-TTL:PT1H
BEGIN:VTIMEZONE
TZID:America/Chicago
BEGIN:DAYLIGHT
TZOFFSETFROM:-0600
TZOFFSETTO:-0500
TZNAME:CDT
DTSTART:20140309T080000
END:DAYLIGHT
BEGIN:STANDARD
TZOFFSETFROM:-0500
TZOFFSETTO:-0600
TZNAME:CST
DTSTART:20141102T070000
END:STANDARD
BEGIN:DAYLIGHT
TZOFFSETFROM:-0600
TZOFFSETTO:-0500
TZNAME:CDT
DTSTART:20150308T080000
END:DAYLIGHT
BEGIN:STANDARD
TZOFFSETFROM:-0500
TZOFFSETTO:-0600
TZNAME:CST
DTSTART:20151101T070000
END:STANDARD
BEGIN:DAYLIGHT
TZOFFSETFROM:-0600
TZOFFSETTO:-0500
TZNAME:CDT
DTSTART:20160313T080000
END:DAYLIGHT
BEGIN:STANDARD
TZOFFSETFROM:-0500
TZOFFSETTO:-0600
TZNAME:CST
DTSTART:20161106T070000
END:STANDARD
BEGIN:DAYLIGHT
TZOFFSETFROM:-0600
TZOFFSETTO:-0500
TZNAME:CDT
DTSTART:20170312T080000
END:DAYLIGHT
BEGIN:STANDARD
TZOFFSETFROM:-0500
TZOFFSETTO:-0600
TZNAME:CST
DTSTART:20171105T070000
END:STANDARD
BEGIN:DAYLIGHT
TZOFFSETFROM:-0600
TZOFFSETTO:-0500
TZNAME:CDT
DTSTART:20180311T080000
END:DAYLIGHT
BEGIN:STANDARD
TZOFFSETFROM:-0500
TZOFFSETTO:-0600
TZNAME:CST
DTSTART:20181104T070000
END:STANDARD
BEGIN:DAYLIGHT
TZOFFSETFROM:-0600
TZOFFSETTO:-0500
TZNAME:CDT
DTSTART:20190310T080000
END:DAYLIGHT
BEGIN:STANDARD
TZOFFSETFROM:-0500
TZOFFSETTO:-0600
TZNAME:CST
DTSTART:20191103T070000
END:STANDARD
BEGIN:DAYLIGHT
TZOFFSETFROM:-0600
TZOFFSETTO:-0500
TZNAME:CDT
DTSTART:20200308T080000
END:DAYLIGHT
BEGIN:STANDARD
TZOFFSETFROM:-0500
TZOFFSETTO:-0600
TZNAME:CST
DTSTART:20201101T070000
END:STANDARD
BEGIN:DAYLIGHT
TZOFFSETFROM:-0600
TZOFFSETTO:-0500
TZNAME:CDT
DTSTART:20210314T080000
END:DAYLIGHT
BEGIN:STANDARD
TZOFFSETFROM:-0500
TZOFFSETTO:-0600
TZNAME:CST
DTSTART:20211107T070000
END:STANDARD
BEGIN:DAYLIGHT
TZOFFSETFROM:-0600
TZOFFSETTO:-0500
TZNAME:CDT
DTSTART:20220313T080000
END:DAYLIGHT
BEGIN:STANDARD
TZOFFSETFROM:-0500
TZOFFSETTO:-0600
TZNAME:CST
DTSTART:20221106T070000
END:STANDARD
BEGIN:DAYLIGHT
TZOFFSETFROM:-0600
TZOFFSETTO:-0500
TZNAME:CDT
DTSTART:20230312T080000
END:DAYLIGHT
BEGIN:STANDARD
TZOFFSETFROM:-0500
TZOFFSETTO:-0600
TZNAME:CST
DTSTART:20231105T070000
END:STANDARD
BEGIN:DAYLIGHT
TZOFFSETFROM:-0600
TZOFFSETTO:-0500
TZNAME:CDT
DTSTART:20240310T080000
END:DAYLIGHT
BEGIN:STANDARD
TZOFFSETFROM:-0500
TZOFFSETTO:-0600
TZNAME:CST
DTSTART:20241103T070000
END:STANDARD
END:VTIMEZONE
BEGIN:VEVENT
DTSTART;TZID=America/Chicago:20230415T080000
DTEND;TZID=America/Chicago:20230415T100000
DTSTAMP:20260424T001225
CREATED:20220213T132740Z
LAST-MODIFIED:20230422T092113Z
UID:10001264-1681545600-1681552800@www.racetime.info
SUMMARY:ABC/25 Get Burbed Challenge 5K & 1 Mile Run/Walk
DESCRIPTION:ABC Get Burbed 1 Mile Age Group Results\n\nABC Get Burbed 1 Mile Overall Results\n\nABC Get Burbed 5K Age Group Results\n\nABC Get Burbed 5K Overall Results
URL:https://www.racetime.info/event/copy-of-abc-25-get-burbed-challenge-5k-1-mile-run-walk/
LOCATION:South Middle School\, 400 S. Highland\, Arlington Heights\, IL\, 60005\, United States
CATEGORIES:2023-04 Results (April)
ORGANIZER;CN="Angie Thanopoulos":MAILTO:abc25challenge@gmail.com
GEO:42.0770175;-87.9860022
X-APPLE-STRUCTURED-LOCATION;VALUE=URI;X-ADDRESS=South Middle School 400 S. Highland Arlington Heights IL 60005 United States;X-APPLE-RADIUS=500;X-TITLE=400 S. Highland:geo:-87.9860022,42.0770175
END:VEVENT
BEGIN:VEVENT
DTSTART;TZID=America/Chicago:20220430T080000
DTEND;TZID=America/Chicago:20220430T100000
DTSTAMP:20260424T001225
CREATED:20220213T132740Z
LAST-MODIFIED:20220506T100902Z
UID:10001263-1651305600-1651312800@www.racetime.info
SUMMARY:ABC/25 Get Burbed Challenge 5K & 1 Mile Run/Walk
DESCRIPTION:ABC 25 Get Burbed 1 Mile Age Group Results\n\nABC 25 Get Burbed 1 Mile Overall Results\n\nABC 25 Get Burbed 5K Age Group Results\n\nABC 25 Get Burbed 5K Overall Results
URL:https://www.racetime.info/event/abc-25-get-burbed-challenge-5k-1-mile-run-walk/
LOCATION:South Middle School\, 400 S. Highland\, Arlington Heights\, IL\, 60005\, United States
CATEGORIES:2022-04 Results (April)
ORGANIZER;CN="Angie Thanopoulos":MAILTO:abc25challenge@gmail.com
GEO:42.0770175;-87.9860022
X-APPLE-STRUCTURED-LOCATION;VALUE=URI;X-ADDRESS=South Middle School 400 S. Highland Arlington Heights IL 60005 United States;X-APPLE-RADIUS=500;X-TITLE=400 S. Highland:geo:-87.9860022,42.0770175
END:VEVENT
BEGIN:VEVENT
DTSTART;TZID=America/Chicago:20210424T080000
DTEND;TZID=America/Chicago:20210424T110000
DTSTAMP:20260424T001225
CREATED:20170206T054923Z
LAST-MODIFIED:20210412T113401Z
UID:10000958-1619251200-1619262000@www.racetime.info
SUMMARY:ABC/25 Get Burbed Challenge 5K Run/Walk (Virtual) & 1 Mile Youth Run/Walk (Live & Virtual)
DESCRIPTION:
URL:https://www.racetime.info/event/abc-25-get-burbed-challenge-just-move-it-challenge-5k-run-walk-1-mile-youth-run-walk-2/
LOCATION:South Middle School\, 400 S. Highland\, Arlington Heights\, IL\, 60005\, United States
ORGANIZER;CN="Angie Thanopoulos":MAILTO:abc25challenge@gmail.com
GEO:42.0770175;-87.9860022
X-APPLE-STRUCTURED-LOCATION;VALUE=URI;X-ADDRESS=South Middle School 400 S. Highland Arlington Heights IL 60005 United States;X-APPLE-RADIUS=500;X-TITLE=400 S. Highland:geo:-87.9860022,42.0770175
END:VEVENT
BEGIN:VEVENT
DTSTART;TZID=America/Chicago:20200425T080000
DTEND;TZID=America/Chicago:20200425T110000
DTSTAMP:20260424T001225
CREATED:20170206T054923Z
LAST-MODIFIED:20200401T141321Z
UID:10000956-1587801600-1587812400@www.racetime.info
SUMMARY:ABC/25 Get Burbed Challenge (Just Move It! Challenge) 5K Run/Walk & 1 Mile Youth Run/Walk: CANCELLED
DESCRIPTION:
URL:https://www.racetime.info/event/abc-25-get-burbed-challenge-just-move-it-challenge-5k-run-walk-1-mile-youth-run-walk/
LOCATION:South Middle School\, 400 S. Highland\, Arlington Heights\, IL\, 60005\, United States
ORGANIZER;CN="Angie Thanopoulos":MAILTO:abc25challenge@gmail.com
GEO:42.0770175;-87.9860022
X-APPLE-STRUCTURED-LOCATION;VALUE=URI;X-ADDRESS=South Middle School 400 S. Highland Arlington Heights IL 60005 United States;X-APPLE-RADIUS=500;X-TITLE=400 S. Highland:geo:-87.9860022,42.0770175
END:VEVENT
BEGIN:VEVENT
DTSTART;TZID=America/Chicago:20190413T080000
DTEND;TZID=America/Chicago:20190413T110000
DTSTAMP:20260424T001225
CREATED:20170206T054923Z
LAST-MODIFIED:20190226T124755Z
UID:10000955-1555142400-1555153200@www.racetime.info
SUMMARY:ABC/25 Get Burbed Challenge (Just Move It! Challenge) 5K Run/Walk & 1 Mile Youth Run/Walk
DESCRIPTION:
URL:https://www.racetime.info/event/abc-get-burbed-challenge-just-move-it-challenge-5k-run-walk-1-mile-youth-run-walk/
LOCATION:South Middle School\, 400 S. Highland\, Arlington Heights\, IL\, 60005\, United States
ORGANIZER;CN="Angie Thanopoulos":MAILTO:abc25challenge@gmail.com
GEO:42.0770175;-87.9860022
X-APPLE-STRUCTURED-LOCATION;VALUE=URI;X-ADDRESS=South Middle School 400 S. Highland Arlington Heights IL 60005 United States;X-APPLE-RADIUS=500;X-TITLE=400 S. Highland:geo:-87.9860022,42.0770175
END:VEVENT
BEGIN:VEVENT
DTSTART;TZID=America/Chicago:20180421T080000
DTEND;TZID=America/Chicago:20180421T110000
DTSTAMP:20260424T001225
CREATED:20170206T054923Z
LAST-MODIFIED:20180422T180846Z
UID:10000953-1524297600-1524308400@www.racetime.info
SUMMARY:Just Move It! Challenge 5K Run/Walk & 1 Mile Youth Run/Walk
DESCRIPTION:Just Move It! Challenge 1 Mile Age Group Results\n\nJust Move It! Challenge 1 Mile Overall Results\n\nJust Move It! Challenge 5K Age Group Results\n\nJust Move It! Challenge 5K Overall Results
URL:https://www.racetime.info/event/just-move-it-challenge-5k-run-walk-1-mile-youth-run-walk/
LOCATION:South Middle School\, 400 S. Highland\, Arlington Heights\, IL\, 60005\, United States
CATEGORIES:2018-04 Results (April)
ORGANIZER;CN="Angie Thanopoulos":MAILTO:abc25challenge@gmail.com
GEO:42.0770175;-87.9860022
X-APPLE-STRUCTURED-LOCATION;VALUE=URI;X-ADDRESS=South Middle School 400 S. Highland Arlington Heights IL 60005 United States;X-APPLE-RADIUS=500;X-TITLE=400 S. Highland:geo:-87.9860022,42.0770175
END:VEVENT
BEGIN:VEVENT
DTSTART;TZID=America/Chicago:20170422T080000
DTEND;TZID=America/Chicago:20170422T110000
DTSTAMP:20260424T001225
CREATED:20170206T054923Z
LAST-MODIFIED:20170422T172622Z
UID:10000950-1492848000-1492858800@www.racetime.info
SUMMARY:Just Move It! Challenge 5K Run/Walk & 1 Mile Youth Run/Walk
DESCRIPTION:Just Move It! 5K Age Group Results\n\nJust Move It! 5K Overall Results\n\nJust Move It! 5K Overall Results by School\n\nJust Move It! 5K Team Results\n\nJust Move It! 1 Mile Age Group Results\n\nJust Move It! 1 Mile Overall Results\n\nJust Move It! 1 Mile Overall Results by School
URL:https://www.racetime.info/event/just-move-it-challenge-5k-runwalk-1-mile-youth-runwalk/
LOCATION:South Middle School\, 400 S. Highland\, Arlington Heights\, IL\, 60005\, United States
CATEGORIES:2017-04 Results (April)
ORGANIZER;CN="Angie Thanopoulos":MAILTO:abc25challenge@gmail.com
GEO:42.0770175;-87.9860022
X-APPLE-STRUCTURED-LOCATION;VALUE=URI;X-ADDRESS=South Middle School 400 S. Highland Arlington Heights IL 60005 United States;X-APPLE-RADIUS=500;X-TITLE=400 S. Highland:geo:-87.9860022,42.0770175
END:VEVENT
BEGIN:VEVENT
DTSTART;TZID=America/Chicago:20160416T080000
DTEND;TZID=America/Chicago:20160416T100000
DTSTAMP:20260424T001225
CREATED:20160122T195523Z
LAST-MODIFIED:20160417T153804Z
UID:10000183-1460793600-1460800800@www.racetime.info
SUMMARY:Just Move It! Challenge 5K & 1 Mile Run/Walk
DESCRIPTION:Just Move It Youth 1 Mile Overall (Private)\n\nJust Move It 5K Overall Results (Private)
URL:https://www.racetime.info/event/just-move-it-challenge-5k-1-mile-runwalk/
LOCATION:South Middle School\, 400 S. Highland\, Arlington Heights\, IL\, 60005\, United States
CATEGORIES:2016-04 Results (April)
ORGANIZER;CN="Jennifer Banks":MAILTO:jmichallenge@gmail.com
GEO:42.0770175;-87.9860022
X-APPLE-STRUCTURED-LOCATION;VALUE=URI;X-ADDRESS=South Middle School 400 S. Highland Arlington Heights IL 60005 United States;X-APPLE-RADIUS=500;X-TITLE=400 S. Highland:geo:-87.9860022,42.0770175
END:VEVENT
BEGIN:VEVENT
DTSTART;TZID=America/Chicago:20150411T080000
DTEND;TZID=America/Chicago:20150411T080000
DTSTAMP:20260424T001225
CREATED:20150324T202514Z
LAST-MODIFIED:20150802T042348Z
UID:10000059-1428739200-1428739200@www.racetime.info
SUMMARY:Just Move It! Run/Walk
DESCRIPTION:Just Move It! 1-Mile Overall Results\n\nJust Move It! 5K Age Group Results\n\nJust Move It! 5K Overall Results
URL:https://www.racetime.info/event/just-move-it-5k-runwalk/
LOCATION:South Middle School\, 400 S. Highland\, Arlington Heights\, IL\, 60005\, United States
CATEGORIES:2015-04 Results (April)
ORGANIZER;CN="Doris Downing":MAILTO:jmichallenge@gmail.com
GEO:42.0770175;-87.9860022
X-APPLE-STRUCTURED-LOCATION;VALUE=URI;X-ADDRESS=South Middle School 400 S. Highland Arlington Heights IL 60005 United States;X-APPLE-RADIUS=500;X-TITLE=400 S. Highland:geo:-87.9860022,42.0770175
END:VEVENT
END:VCALENDAR