BEGIN:VCALENDAR
VERSION:2.0
PRODID:-//Race Time - ECPv6.15.13//NONSGML v1.0//EN
CALSCALE:GREGORIAN
METHOD:PUBLISH
X-WR-CALNAME:Race Time
X-ORIGINAL-URL:https://www.racetime.info
X-WR-CALDESC:Events for Race Time
REFRESH-INTERVAL;VALUE=DURATION:PT1H
X-Robots-Tag:noindex
X-PUBLISHED-TTL:PT1H
BEGIN:VTIMEZONE
TZID:America/Chicago
BEGIN:DAYLIGHT
TZOFFSETFROM:-0600
TZOFFSETTO:-0500
TZNAME:CDT
DTSTART:20160313T080000
END:DAYLIGHT
BEGIN:STANDARD
TZOFFSETFROM:-0500
TZOFFSETTO:-0600
TZNAME:CST
DTSTART:20161106T070000
END:STANDARD
BEGIN:DAYLIGHT
TZOFFSETFROM:-0600
TZOFFSETTO:-0500
TZNAME:CDT
DTSTART:20170312T080000
END:DAYLIGHT
BEGIN:STANDARD
TZOFFSETFROM:-0500
TZOFFSETTO:-0600
TZNAME:CST
DTSTART:20171105T070000
END:STANDARD
BEGIN:DAYLIGHT
TZOFFSETFROM:-0600
TZOFFSETTO:-0500
TZNAME:CDT
DTSTART:20180311T080000
END:DAYLIGHT
BEGIN:STANDARD
TZOFFSETFROM:-0500
TZOFFSETTO:-0600
TZNAME:CST
DTSTART:20181104T070000
END:STANDARD
BEGIN:DAYLIGHT
TZOFFSETFROM:-0600
TZOFFSETTO:-0500
TZNAME:CDT
DTSTART:20190310T080000
END:DAYLIGHT
BEGIN:STANDARD
TZOFFSETFROM:-0500
TZOFFSETTO:-0600
TZNAME:CST
DTSTART:20191103T070000
END:STANDARD
BEGIN:DAYLIGHT
TZOFFSETFROM:-0600
TZOFFSETTO:-0500
TZNAME:CDT
DTSTART:20200308T080000
END:DAYLIGHT
BEGIN:STANDARD
TZOFFSETFROM:-0500
TZOFFSETTO:-0600
TZNAME:CST
DTSTART:20201101T070000
END:STANDARD
END:VTIMEZONE
BEGIN:VEVENT
DTSTART;TZID=America/Chicago:20190928T090000
DTEND;TZID=America/Chicago:20190928T110000
DTSTAMP:20260424T024917
CREATED:20190807T122259Z
LAST-MODIFIED:20190928T201155Z
UID:10001914-1569661200-1569668400@www.racetime.info
SUMMARY:Sabre Sprint 5K Run/Walk
DESCRIPTION:Sabre Sprint 5K Age Group Results\n\nSabre Sprint 5K Overall Results
URL:https://www.racetime.info/event/sabre-sprint-5k-run-walk/
LOCATION:St. Albert The Great School\, 5535 West State Road\, Burbank\, IL\, 60459\, United States
CATEGORIES:2019-09 Results (September)
ORGANIZER;CN="Roxanne Rosas":MAILTO:rtagle77@hotmail.com
GEO:41.7470334;-87.7590577
X-APPLE-STRUCTURED-LOCATION;VALUE=URI;X-ADDRESS=St. Albert The Great School 5535 West State Road Burbank IL 60459 United States;X-APPLE-RADIUS=500;X-TITLE=5535 West State Road:geo:-87.7590577,41.7470334
END:VEVENT
BEGIN:VEVENT
DTSTART;TZID=America/Chicago:20171007T090000
DTEND;TZID=America/Chicago:20171007T110000
DTSTAMP:20260424T024917
CREATED:20170822T115009Z
LAST-MODIFIED:20171007T210004Z
UID:10001583-1507366800-1507374000@www.racetime.info
SUMMARY:Sabre Sprint 5K Run/Walk
DESCRIPTION:Sabre Sprint 5K Age Group Results\n\nSabre Sprint 5K Overall Results
URL:https://www.racetime.info/event/sabre-sprint-5k-runwalk/
LOCATION:St. Albert The Great School\, 5535 West State Road\, Burbank\, IL\, 60459\, United States
CATEGORIES:2017-10 Results (October)
ORGANIZER;CN="Rozanne Rosas":MAILTO:rtagle77@hotmail.com
GEO:41.7470334;-87.7590577
X-APPLE-STRUCTURED-LOCATION;VALUE=URI;X-ADDRESS=St. Albert The Great School 5535 West State Road Burbank IL 60459 United States;X-APPLE-RADIUS=500;X-TITLE=5535 West State Road:geo:-87.7590577,41.7470334
END:VEVENT
END:VCALENDAR