BEGIN:VCALENDAR
VERSION:2.0
PRODID:-//Race Time - ECPv6.15.13//NONSGML v1.0//EN
CALSCALE:GREGORIAN
METHOD:PUBLISH
X-ORIGINAL-URL:https://www.racetime.info
X-WR-CALDESC:Events for Race Time
REFRESH-INTERVAL;VALUE=DURATION:PT1H
X-Robots-Tag:noindex
X-PUBLISHED-TTL:PT1H
BEGIN:VTIMEZONE
TZID:America/Chicago
BEGIN:DAYLIGHT
TZOFFSETFROM:-0600
TZOFFSETTO:-0500
TZNAME:CDT
DTSTART:20150308T080000
END:DAYLIGHT
BEGIN:STANDARD
TZOFFSETFROM:-0500
TZOFFSETTO:-0600
TZNAME:CST
DTSTART:20151101T070000
END:STANDARD
BEGIN:DAYLIGHT
TZOFFSETFROM:-0600
TZOFFSETTO:-0500
TZNAME:CDT
DTSTART:20160313T080000
END:DAYLIGHT
BEGIN:STANDARD
TZOFFSETFROM:-0500
TZOFFSETTO:-0600
TZNAME:CST
DTSTART:20161106T070000
END:STANDARD
BEGIN:DAYLIGHT
TZOFFSETFROM:-0600
TZOFFSETTO:-0500
TZNAME:CDT
DTSTART:20170312T080000
END:DAYLIGHT
BEGIN:STANDARD
TZOFFSETFROM:-0500
TZOFFSETTO:-0600
TZNAME:CST
DTSTART:20171105T070000
END:STANDARD
BEGIN:DAYLIGHT
TZOFFSETFROM:-0600
TZOFFSETTO:-0500
TZNAME:CDT
DTSTART:20180311T080000
END:DAYLIGHT
BEGIN:STANDARD
TZOFFSETFROM:-0500
TZOFFSETTO:-0600
TZNAME:CST
DTSTART:20181104T070000
END:STANDARD
END:VTIMEZONE
BEGIN:VEVENT
DTSTART;TZID=America/Chicago:20171021T074500
DTEND;TZID=America/Chicago:20171021T100000
DTSTAMP:20260424T024918
CREATED:20170609T205943Z
LAST-MODIFIED:20171021T195428Z
UID:10000632-1508571900-1508580000@www.racetime.info
SUMMARY:St. Cletus Choose Kindness 5K Run/Walk\, 1 Mile Run and 100 Yard Dash
DESCRIPTION:Choose Kindness 5K Age Group Results\n\nChoose Kindness 5K Overall Results
URL:https://www.racetime.info/event/st-cletus-choose-kindness-5k-runwalk-1-mile-run-and-100-yard-dash/
LOCATION:St. Cletus School\, 700 W. 55th Street\, LaGrange\, IL\, 60525\, United States
CATEGORIES:2017-10 Results (October)
ORGANIZER;CN="Eileen Dorchinecz":MAILTO:eileendorch@gmail.com
GEO:41.7912408;-87.8763937
X-APPLE-STRUCTURED-LOCATION;VALUE=URI;X-ADDRESS=St. Cletus School 700 W. 55th Street LaGrange IL 60525 United States;X-APPLE-RADIUS=500;X-TITLE=700 W. 55th Street:geo:-87.8763937,41.7912408
END:VEVENT
BEGIN:VEVENT
DTSTART;TZID=America/Chicago:20160409T081500
DTEND;TZID=America/Chicago:20160409T110000
DTSTAMP:20260424T024918
CREATED:20160225T013801Z
LAST-MODIFIED:20160409T180459Z
UID:10000543-1460189700-1460199600@www.racetime.info
SUMMARY:St. Cletus Choose Kindness 5K Run/Walk\, 1 Mile & 100 Yard Youth Dash
DESCRIPTION:Choose Kindness Youth Run\n\nChoose Kindness 5K Overall Results
URL:https://www.racetime.info/event/st-cletus-choose-kindness-5k-runwalk-1-mile-100-yard-youth-dash/
LOCATION:St. Cletus School\, 700 W. 55th Street\, LaGrange\, IL\, 60525\, United States
CATEGORIES:2016-04 Results (April)
ORGANIZER;CN="Eileen Dorchinecz":MAILTO:eileendorch@gmail.com
GEO:41.7912408;-87.8763937
X-APPLE-STRUCTURED-LOCATION;VALUE=URI;X-ADDRESS=St. Cletus School 700 W. 55th Street LaGrange IL 60525 United States;X-APPLE-RADIUS=500;X-TITLE=700 W. 55th Street:geo:-87.8763937,41.7912408
END:VEVENT
END:VCALENDAR