BEGIN:VCALENDAR
VERSION:2.0
PRODID:-//Race Time - ECPv6.15.13//NONSGML v1.0//EN
CALSCALE:GREGORIAN
METHOD:PUBLISH
X-ORIGINAL-URL:https://www.racetime.info
X-WR-CALDESC:Events for Race Time
REFRESH-INTERVAL;VALUE=DURATION:PT1H
X-Robots-Tag:noindex
X-PUBLISHED-TTL:PT1H
BEGIN:VTIMEZONE
TZID:America/Chicago
BEGIN:DAYLIGHT
TZOFFSETFROM:-0600
TZOFFSETTO:-0500
TZNAME:CDT
DTSTART:20190310T080000
END:DAYLIGHT
BEGIN:STANDARD
TZOFFSETFROM:-0500
TZOFFSETTO:-0600
TZNAME:CST
DTSTART:20191103T070000
END:STANDARD
BEGIN:DAYLIGHT
TZOFFSETFROM:-0600
TZOFFSETTO:-0500
TZNAME:CDT
DTSTART:20200308T080000
END:DAYLIGHT
BEGIN:STANDARD
TZOFFSETFROM:-0500
TZOFFSETTO:-0600
TZNAME:CST
DTSTART:20201101T070000
END:STANDARD
BEGIN:DAYLIGHT
TZOFFSETFROM:-0600
TZOFFSETTO:-0500
TZNAME:CDT
DTSTART:20210314T080000
END:DAYLIGHT
BEGIN:STANDARD
TZOFFSETFROM:-0500
TZOFFSETTO:-0600
TZNAME:CST
DTSTART:20211107T070000
END:STANDARD
BEGIN:DAYLIGHT
TZOFFSETFROM:-0600
TZOFFSETTO:-0500
TZNAME:CDT
DTSTART:20220313T080000
END:DAYLIGHT
BEGIN:STANDARD
TZOFFSETFROM:-0500
TZOFFSETTO:-0600
TZNAME:CST
DTSTART:20221106T070000
END:STANDARD
BEGIN:DAYLIGHT
TZOFFSETFROM:-0600
TZOFFSETTO:-0500
TZNAME:CDT
DTSTART:20230312T080000
END:DAYLIGHT
BEGIN:STANDARD
TZOFFSETFROM:-0500
TZOFFSETTO:-0600
TZNAME:CST
DTSTART:20231105T070000
END:STANDARD
BEGIN:DAYLIGHT
TZOFFSETFROM:-0600
TZOFFSETTO:-0500
TZNAME:CDT
DTSTART:20240310T080000
END:DAYLIGHT
BEGIN:STANDARD
TZOFFSETFROM:-0500
TZOFFSETTO:-0600
TZNAME:CST
DTSTART:20241103T070000
END:STANDARD
BEGIN:DAYLIGHT
TZOFFSETFROM:-0600
TZOFFSETTO:-0500
TZNAME:CDT
DTSTART:20250309T080000
END:DAYLIGHT
BEGIN:STANDARD
TZOFFSETFROM:-0500
TZOFFSETTO:-0600
TZNAME:CST
DTSTART:20251102T070000
END:STANDARD
BEGIN:DAYLIGHT
TZOFFSETFROM:-0600
TZOFFSETTO:-0500
TZNAME:CDT
DTSTART:20260308T080000
END:DAYLIGHT
BEGIN:STANDARD
TZOFFSETFROM:-0500
TZOFFSETTO:-0600
TZNAME:CST
DTSTART:20261101T070000
END:STANDARD
END:VTIMEZONE
BEGIN:VEVENT
DTSTART;TZID=America/Chicago:20250315T090000
DTEND;TZID=America/Chicago:20250315T103000
DTSTAMP:20260424T024652
CREATED:20250306T124307Z
LAST-MODIFIED:20250315T182811Z
UID:10002262-1742029200-1742034600@www.racetime.info
SUMMARY:Shamrock Shuffle 5K Run/Walk
DESCRIPTION:Everest Shamrock 5K Age Group Results\n\nEverest Shamrock 5K Overall Results
URL:https://www.racetime.info/event/shamrock-shuffle-5k-run-walk-4/
LOCATION:Everest Academy\, 11550 Bell Road\, Lemont\, 60439\, United States
CATEGORIES:2025-03 Results (March)
ORGANIZER;CN="Sue Zabilka":MAILTO:szabilka17@gmail.com
END:VEVENT
BEGIN:VEVENT
DTSTART;TZID=America/Chicago:20240323T090000
DTEND;TZID=America/Chicago:20240323T103000
DTSTAMP:20260424T024652
CREATED:20200211T224304Z
LAST-MODIFIED:20240323T172005Z
UID:10001118-1711184400-1711189800@www.racetime.info
SUMMARY:Shamrock Shuffle 5K Run/Walk
DESCRIPTION:Everest Shamrock Shuffle 5K Age Group Results\n\nEverest Shamrock Shuffle 5K Overall Results
URL:https://www.racetime.info/event/copy-of-shamrock-shuffle-5k-run-walk-2/
LOCATION:Everest Academy\, 11550 Bell Road\, Lemont\, 60439\, United States
CATEGORIES:2024-03 Results (March)
ORGANIZER;CN="Sue Zabilka":MAILTO:szabilka17@gmail.com
END:VEVENT
BEGIN:VEVENT
DTSTART;TZID=America/Chicago:20230318T090000
DTEND;TZID=America/Chicago:20230318T110000
DTSTAMP:20260424T024652
CREATED:20200211T224304Z
LAST-MODIFIED:20230318T170156Z
UID:10001115-1679130000-1679137200@www.racetime.info
SUMMARY:Shamrock Shuffle 5K Run/Walk
DESCRIPTION:Shamrock Shuffle 5K Age Group Results\n\nShamrock Shuffle 5K Overall Results
URL:https://www.racetime.info/event/copy-of-shamrock-shuffle-5k-run-walk/
LOCATION:Everest Academy\, 11550 Bell Road\, Lemont\, 60439\, United States
CATEGORIES:2023-03 Results (March)
ORGANIZER;CN="Sue Zabilka":MAILTO:szabilka17@gmail.com
END:VEVENT
BEGIN:VEVENT
DTSTART;TZID=America/Chicago:20220319T090000
DTEND;TZID=America/Chicago:20220319T103000
DTSTAMP:20260424T024652
CREATED:20200211T224304Z
LAST-MODIFIED:20220319T172140Z
UID:10001113-1647680400-1647685800@www.racetime.info
SUMMARY:Shamrock Shuffle 5K Run/Walk
DESCRIPTION:Shamrock Shuffle 5K Age Group Results\n\nShamrock Shuffle 5K Overall Results
URL:https://www.racetime.info/event/shamrock-shuffle-5k-run-walk-3/
LOCATION:Everest Academy\, 11550 Bell Road\, Lemont\, 60439\, United States
CATEGORIES:2022-03 Results (March)
ORGANIZER;CN="Sue Zabilka":MAILTO:szabilka17@gmail.com
END:VEVENT
BEGIN:VEVENT
DTSTART;TZID=America/Chicago:20210327T090000
DTEND;TZID=America/Chicago:20210327T110000
DTSTAMP:20260424T024652
CREATED:20200211T224304Z
LAST-MODIFIED:20210327T173545Z
UID:10001112-1616835600-1616842800@www.racetime.info
SUMMARY:Shamrock Shuffle 5K Run/Walk
DESCRIPTION:Shamrock Shuffle Age Group Results\n\nShamrock Shuffle Overall Results
URL:https://www.racetime.info/event/shamrock-shuffle-5k-run-walk-2/
LOCATION:Everest Academy\, 11550 Bell Road\, Lemont\, 60439\, United States
CATEGORIES:2021-03 Results (March)
ORGANIZER;CN="Sue Zabilka":MAILTO:szabilka17@gmail.com
END:VEVENT
BEGIN:VEVENT
DTSTART;TZID=America/Chicago:20200314T090000
DTEND;TZID=America/Chicago:20200314T110000
DTSTAMP:20260424T024652
CREATED:20200211T224304Z
LAST-MODIFIED:20200314T165636Z
UID:10001111-1584176400-1584183600@www.racetime.info
SUMMARY:Shamrock Shuffle 5K Run/Walk
DESCRIPTION:Shamrock Shuffle 5K Age Group Results\n\nShamrock Shuffle 5K Overall Results
URL:https://www.racetime.info/event/shamrock-shuffle-5k-run-walk/
LOCATION:Everest Academy\, 11550 Bell Road\, Lemont\, 60439\, United States
CATEGORIES:2020-03 Results (March)
ORGANIZER;CN="Sue Zabilka":MAILTO:szabilka17@gmail.com
END:VEVENT
END:VCALENDAR