BEGIN:VCALENDAR
VERSION:2.0
PRODID:-//Race Time - ECPv6.15.13//NONSGML v1.0//EN
CALSCALE:GREGORIAN
METHOD:PUBLISH
X-WR-CALNAME:Race Time
X-ORIGINAL-URL:https://www.racetime.info
X-WR-CALDESC:Events for Race Time
REFRESH-INTERVAL;VALUE=DURATION:PT1H
X-Robots-Tag:noindex
X-PUBLISHED-TTL:PT1H
BEGIN:VTIMEZONE
TZID:America/Chicago
BEGIN:DAYLIGHT
TZOFFSETFROM:-0600
TZOFFSETTO:-0500
TZNAME:CDT
DTSTART:20140309T080000
END:DAYLIGHT
BEGIN:STANDARD
TZOFFSETFROM:-0500
TZOFFSETTO:-0600
TZNAME:CST
DTSTART:20141102T070000
END:STANDARD
BEGIN:DAYLIGHT
TZOFFSETFROM:-0600
TZOFFSETTO:-0500
TZNAME:CDT
DTSTART:20150308T080000
END:DAYLIGHT
BEGIN:STANDARD
TZOFFSETFROM:-0500
TZOFFSETTO:-0600
TZNAME:CST
DTSTART:20151101T070000
END:STANDARD
BEGIN:DAYLIGHT
TZOFFSETFROM:-0600
TZOFFSETTO:-0500
TZNAME:CDT
DTSTART:20160313T080000
END:DAYLIGHT
BEGIN:STANDARD
TZOFFSETFROM:-0500
TZOFFSETTO:-0600
TZNAME:CST
DTSTART:20161106T070000
END:STANDARD
END:VTIMEZONE
BEGIN:VEVENT
DTSTART;TZID=America/Chicago:20150808T073000
DTEND;TZID=America/Chicago:20150808T100000
DTSTAMP:20260424T054140
CREATED:20150608T192946Z
LAST-MODIFIED:20150808T173122Z
UID:10000063-1439019000-1439028000@www.racetime.info
SUMMARY:Flapjack 5K Run/Walk
DESCRIPTION:Flap Jack 5K Age Group Results\n\nFlap Jack 5K Overall Results\n\nFlap Jack 5K Team Results
URL:https://www.racetime.info/event/flapjack-5k-runwalk/
LOCATION:St. Isidore Church\, 427 W. Army Trail Road\, Bloomingdale\, IL\, 60108\, United States
CATEGORIES:2015-08 Results (August)
ORGANIZER;CN="Ferdinand Marasigan":MAILTO:flapjack5knfp@gmail.com
GEO:41.9401992;-88.1178537
X-APPLE-STRUCTURED-LOCATION;VALUE=URI;X-ADDRESS=St. Isidore Church 427 W. Army Trail Road Bloomingdale IL 60108 United States;X-APPLE-RADIUS=500;X-TITLE=427 W. Army Trail Road:geo:-88.1178537,41.9401992
END:VEVENT
END:VCALENDAR