BEGIN:VCALENDAR
VERSION:2.0
PRODID:-//Race Time - ECPv6.15.13//NONSGML v1.0//EN
CALSCALE:GREGORIAN
METHOD:PUBLISH
X-WR-CALNAME:Race Time
X-ORIGINAL-URL:https://www.racetime.info
X-WR-CALDESC:Events for Race Time
REFRESH-INTERVAL;VALUE=DURATION:PT1H
X-Robots-Tag:noindex
X-PUBLISHED-TTL:PT1H
BEGIN:VTIMEZONE
TZID:America/Chicago
BEGIN:DAYLIGHT
TZOFFSETFROM:-0600
TZOFFSETTO:-0500
TZNAME:CDT
DTSTART:20140309T080000
END:DAYLIGHT
BEGIN:STANDARD
TZOFFSETFROM:-0500
TZOFFSETTO:-0600
TZNAME:CST
DTSTART:20141102T070000
END:STANDARD
BEGIN:DAYLIGHT
TZOFFSETFROM:-0600
TZOFFSETTO:-0500
TZNAME:CDT
DTSTART:20150308T080000
END:DAYLIGHT
BEGIN:STANDARD
TZOFFSETFROM:-0500
TZOFFSETTO:-0600
TZNAME:CST
DTSTART:20151101T070000
END:STANDARD
BEGIN:DAYLIGHT
TZOFFSETFROM:-0600
TZOFFSETTO:-0500
TZNAME:CDT
DTSTART:20160313T080000
END:DAYLIGHT
BEGIN:STANDARD
TZOFFSETFROM:-0500
TZOFFSETTO:-0600
TZNAME:CST
DTSTART:20161106T070000
END:STANDARD
BEGIN:DAYLIGHT
TZOFFSETFROM:-0600
TZOFFSETTO:-0500
TZNAME:CDT
DTSTART:20170312T080000
END:DAYLIGHT
BEGIN:STANDARD
TZOFFSETFROM:-0500
TZOFFSETTO:-0600
TZNAME:CST
DTSTART:20171105T070000
END:STANDARD
BEGIN:DAYLIGHT
TZOFFSETFROM:-0600
TZOFFSETTO:-0500
TZNAME:CDT
DTSTART:20180311T080000
END:DAYLIGHT
BEGIN:STANDARD
TZOFFSETFROM:-0500
TZOFFSETTO:-0600
TZNAME:CST
DTSTART:20181104T070000
END:STANDARD
BEGIN:DAYLIGHT
TZOFFSETFROM:-0600
TZOFFSETTO:-0500
TZNAME:CDT
DTSTART:20190310T080000
END:DAYLIGHT
BEGIN:STANDARD
TZOFFSETFROM:-0500
TZOFFSETTO:-0600
TZNAME:CST
DTSTART:20191103T070000
END:STANDARD
END:VTIMEZONE
BEGIN:VEVENT
DTSTART;TZID=America/Chicago:20180909T090000
DTEND;TZID=America/Chicago:20180909T110000
DTSTAMP:20260424T020537
CREATED:20170714T120041Z
LAST-MODIFIED:20180909T175412Z
UID:10001533-1536483600-1536490800@www.racetime.info
SUMMARY:Team Nicholas: I'm Possible 5K Run/Walk
DESCRIPTION:I’m Possible 5K Age Group Results\n\nI’m Possible 5K Overall Results
URL:https://www.racetime.info/event/team-nicholas-im-possible-5k-run-walk/
LOCATION:St. Joe’s Park\, 1500 N. Raynor\, Joliet\, IL\, United States
CATEGORIES:2018-09 Results (September)
ORGANIZER;CN="Joanna Veghts":MAILTO:teamnicholas2012@gmail.com
GEO:41.5505058;-88.1016953
X-APPLE-STRUCTURED-LOCATION;VALUE=URI;X-ADDRESS=St. Joe’s Park 1500 N. Raynor Joliet IL United States;X-APPLE-RADIUS=500;X-TITLE=1500 N. Raynor:geo:-88.1016953,41.5505058
END:VEVENT
BEGIN:VEVENT
DTSTART;TZID=America/Chicago:20170910T090000
DTEND;TZID=America/Chicago:20170910T110000
DTSTAMP:20260424T020537
CREATED:20170714T120041Z
LAST-MODIFIED:20170910T194956Z
UID:10001532-1505034000-1505041200@www.racetime.info
SUMMARY:Team Nicholas: I'm Possible 5K Run/Walk
DESCRIPTION:I’m Possible 5K Age Group Results\n\nI’m Possible 5K Overall Results
URL:https://www.racetime.info/event/team-nicholas-im-possible-5k-runwalk-2/
LOCATION:St. Joe’s Park\, 1500 N. Raynor\, Joliet\, IL\, United States
CATEGORIES:2017-09 Results (September)
ORGANIZER;CN="Joanna Veghts":MAILTO:teamnicholas2012@gmail.com
GEO:41.5505058;-88.1016953
X-APPLE-STRUCTURED-LOCATION;VALUE=URI;X-ADDRESS=St. Joe’s Park 1500 N. Raynor Joliet IL United States;X-APPLE-RADIUS=500;X-TITLE=1500 N. Raynor:geo:-88.1016953,41.5505058
END:VEVENT
BEGIN:VEVENT
DTSTART;TZID=America/Chicago:20160911T090000
DTEND;TZID=America/Chicago:20160911T110000
DTSTAMP:20260424T020537
CREATED:20160708T113710Z
LAST-MODIFIED:20160917T044504Z
UID:10000269-1473584400-1473591600@www.racetime.info
SUMMARY:Team Nicholas I'm Possible 5K Run/Walk
DESCRIPTION:Team Nicholas I’m Possible 5K Run/Walk Age Group Results\n\nTeam Nicholas I’m Possible 5K Run/Walk Overall Results
URL:https://www.racetime.info/event/team-nicholas-im-possible-5k-runwalk/
LOCATION:St. Joe’s Park\, 1500 N. Raynor\, Joliet\, IL\, United States
CATEGORIES:2016-09 Results (September)
ORGANIZER;CN="Joanna Veghts":MAILTO:teamnicholas2012@gmail.com
GEO:41.5505058;-88.1016953
X-APPLE-STRUCTURED-LOCATION;VALUE=URI;X-ADDRESS=St. Joe’s Park 1500 N. Raynor Joliet IL United States;X-APPLE-RADIUS=500;X-TITLE=1500 N. Raynor:geo:-88.1016953,41.5505058
END:VEVENT
BEGIN:VEVENT
DTSTART;TZID=America/Chicago:20150920T083000
DTEND;TZID=America/Chicago:20150920T110000
DTSTAMP:20260424T020537
CREATED:20150819T021556Z
LAST-MODIFIED:20150920T174521Z
UID:10000339-1442737800-1442746800@www.racetime.info
SUMMARY:I'm Possible 5K Run/Walk
DESCRIPTION:I’m Possible 5K Age Group Results\n\nI’m Possible 5K Overall Results
URL:https://www.racetime.info/event/im-possible-5k-runwalk/
LOCATION:St. Joe’s Park\, 1500 N. Raynor\, Joliet\, IL\, United States
CATEGORIES:2015-09 Results (September)
ORGANIZER;CN="Joanna Veghts":MAILTO:teamnicholas2012@gmail.com
GEO:41.5505058;-88.1016953
X-APPLE-STRUCTURED-LOCATION;VALUE=URI;X-ADDRESS=St. Joe’s Park 1500 N. Raynor Joliet IL United States;X-APPLE-RADIUS=500;X-TITLE=1500 N. Raynor:geo:-88.1016953,41.5505058
END:VEVENT
END:VCALENDAR