BEGIN:VCALENDAR
VERSION:2.0
PRODID:-//Race Time - ECPv6.15.13//NONSGML v1.0//EN
CALSCALE:GREGORIAN
METHOD:PUBLISH
X-ORIGINAL-URL:https://www.racetime.info
X-WR-CALDESC:Events for Race Time
REFRESH-INTERVAL;VALUE=DURATION:PT1H
X-Robots-Tag:noindex
X-PUBLISHED-TTL:PT1H
BEGIN:VTIMEZONE
TZID:America/Chicago
BEGIN:DAYLIGHT
TZOFFSETFROM:-0600
TZOFFSETTO:-0500
TZNAME:CDT
DTSTART:20140309T080000
END:DAYLIGHT
BEGIN:STANDARD
TZOFFSETFROM:-0500
TZOFFSETTO:-0600
TZNAME:CST
DTSTART:20141102T070000
END:STANDARD
BEGIN:DAYLIGHT
TZOFFSETFROM:-0600
TZOFFSETTO:-0500
TZNAME:CDT
DTSTART:20150308T080000
END:DAYLIGHT
BEGIN:STANDARD
TZOFFSETFROM:-0500
TZOFFSETTO:-0600
TZNAME:CST
DTSTART:20151101T070000
END:STANDARD
BEGIN:DAYLIGHT
TZOFFSETFROM:-0600
TZOFFSETTO:-0500
TZNAME:CDT
DTSTART:20160313T080000
END:DAYLIGHT
BEGIN:STANDARD
TZOFFSETFROM:-0500
TZOFFSETTO:-0600
TZNAME:CST
DTSTART:20161106T070000
END:STANDARD
BEGIN:DAYLIGHT
TZOFFSETFROM:-0600
TZOFFSETTO:-0500
TZNAME:CDT
DTSTART:20170312T080000
END:DAYLIGHT
BEGIN:STANDARD
TZOFFSETFROM:-0500
TZOFFSETTO:-0600
TZNAME:CST
DTSTART:20171105T070000
END:STANDARD
BEGIN:DAYLIGHT
TZOFFSETFROM:-0600
TZOFFSETTO:-0500
TZNAME:CDT
DTSTART:20180311T080000
END:DAYLIGHT
BEGIN:STANDARD
TZOFFSETFROM:-0500
TZOFFSETTO:-0600
TZNAME:CST
DTSTART:20181104T070000
END:STANDARD
BEGIN:DAYLIGHT
TZOFFSETFROM:-0600
TZOFFSETTO:-0500
TZNAME:CDT
DTSTART:20190310T080000
END:DAYLIGHT
BEGIN:STANDARD
TZOFFSETFROM:-0500
TZOFFSETTO:-0600
TZNAME:CST
DTSTART:20191103T070000
END:STANDARD
BEGIN:DAYLIGHT
TZOFFSETFROM:-0600
TZOFFSETTO:-0500
TZNAME:CDT
DTSTART:20200308T080000
END:DAYLIGHT
BEGIN:STANDARD
TZOFFSETFROM:-0500
TZOFFSETTO:-0600
TZNAME:CST
DTSTART:20201101T070000
END:STANDARD
BEGIN:DAYLIGHT
TZOFFSETFROM:-0600
TZOFFSETTO:-0500
TZNAME:CDT
DTSTART:20210314T080000
END:DAYLIGHT
BEGIN:STANDARD
TZOFFSETFROM:-0500
TZOFFSETTO:-0600
TZNAME:CST
DTSTART:20211107T070000
END:STANDARD
BEGIN:DAYLIGHT
TZOFFSETFROM:-0600
TZOFFSETTO:-0500
TZNAME:CDT
DTSTART:20220313T080000
END:DAYLIGHT
BEGIN:STANDARD
TZOFFSETFROM:-0500
TZOFFSETTO:-0600
TZNAME:CST
DTSTART:20221106T070000
END:STANDARD
BEGIN:DAYLIGHT
TZOFFSETFROM:-0600
TZOFFSETTO:-0500
TZNAME:CDT
DTSTART:20230312T080000
END:DAYLIGHT
BEGIN:STANDARD
TZOFFSETFROM:-0500
TZOFFSETTO:-0600
TZNAME:CST
DTSTART:20231105T070000
END:STANDARD
BEGIN:DAYLIGHT
TZOFFSETFROM:-0600
TZOFFSETTO:-0500
TZNAME:CDT
DTSTART:20240310T080000
END:DAYLIGHT
BEGIN:STANDARD
TZOFFSETFROM:-0500
TZOFFSETTO:-0600
TZNAME:CST
DTSTART:20241103T070000
END:STANDARD
END:VTIMEZONE
BEGIN:VEVENT
DTSTART;TZID=America/Chicago:20231007T090000
DTEND;TZID=America/Chicago:20231007T103000
DTSTAMP:20260424T024123
CREATED:20170829T182113Z
LAST-MODIFIED:20231007T203158Z
UID:10001597-1696669200-1696674600@www.racetime.info
SUMMARY:Rise and Run with the Phoenix 5K Run/Walk & Kids Dash
DESCRIPTION:Rise and Run with the Phoenix 5K Age Group Results\n\nRise and Run with the Phoenix 5K Overall Results
URL:https://www.racetime.info/event/copy-of-jogging-for-st-joes-5k-run-walk-kids-dash/
LOCATION:St. Joseph School\, 510 S. Jefferson\, Lockport\, IL\, 60441\, United States
CATEGORIES:2023-10 Results (October)
ORGANIZER;CN="Maribeth Leyva":MAILTO:joggingforjoes@hotmail.com
GEO:41.5919577;-88.0512084
X-APPLE-STRUCTURED-LOCATION;VALUE=URI;X-ADDRESS=St. Joseph School 510 S. Jefferson Lockport IL 60441 United States;X-APPLE-RADIUS=500;X-TITLE=510 S. Jefferson:geo:-88.0512084,41.5919577
END:VEVENT
BEGIN:VEVENT
DTSTART;TZID=America/Chicago:20221001T090000
DTEND;TZID=America/Chicago:20221001T110000
DTSTAMP:20260424T024123
CREATED:20170829T182113Z
LAST-MODIFIED:20221001T184602Z
UID:10000775-1664614800-1664622000@www.racetime.info
SUMMARY:Jogging for St. Joe's 5K Run/Walk & Kids Dash
DESCRIPTION:Jogging for St. Joe 5K Age Group Results\n\nJogging for St. Joe 5K Overall Results
URL:https://www.racetime.info/event/copy-of-jogging-for-st-joes-5k-run-walk-kids-dash-cancelled/
LOCATION:St. Joseph School\, 510 S. Jefferson\, Lockport\, IL\, 60441\, United States
CATEGORIES:2022-10 Results (October)
ORGANIZER;CN="Maribeth Leyva":MAILTO:joggingforjoes@hotmail.com
GEO:41.5919577;-88.0512084
X-APPLE-STRUCTURED-LOCATION;VALUE=URI;X-ADDRESS=St. Joseph School 510 S. Jefferson Lockport IL 60441 United States;X-APPLE-RADIUS=500;X-TITLE=510 S. Jefferson:geo:-88.0512084,41.5919577
END:VEVENT
BEGIN:VEVENT
DTSTART;TZID=America/Chicago:20201003T090000
DTEND;TZID=America/Chicago:20201003T110000
DTSTAMP:20260424T024123
CREATED:20170829T182113Z
LAST-MODIFIED:20200910T130746Z
UID:10000774-1601715600-1601722800@www.racetime.info
SUMMARY:Jogging for St. Joe's 5K Run/Walk & Kids Dash: CANCELLED
DESCRIPTION:
URL:https://www.racetime.info/event/jogging-for-st-joes-5k-run-walk-kids-dash-3/
LOCATION:St. Joseph School\, 510 S. Jefferson\, Lockport\, IL\, 60441\, United States
ORGANIZER;CN="Maribeth Leyva":MAILTO:joggingforjoes@hotmail.com
GEO:41.5919577;-88.0512084
X-APPLE-STRUCTURED-LOCATION;VALUE=URI;X-ADDRESS=St. Joseph School 510 S. Jefferson Lockport IL 60441 United States;X-APPLE-RADIUS=500;X-TITLE=510 S. Jefferson:geo:-88.0512084,41.5919577
END:VEVENT
BEGIN:VEVENT
DTSTART;TZID=America/Chicago:20191005T090000
DTEND;TZID=America/Chicago:20191005T110000
DTSTAMP:20260424T024123
CREATED:20170829T182113Z
LAST-MODIFIED:20191005T184951Z
UID:10000773-1570266000-1570273200@www.racetime.info
SUMMARY:Jogging for St. Joe's 5K Run/Walk & Kids Dash
DESCRIPTION:Jogging for St. Joe’s 5K Age Group Results\n\nJogging for St. Joe’s 5K Overall Results
URL:https://www.racetime.info/event/jogging-for-st-joes-5k-run-walk-kids-dash-2/
LOCATION:St. Joseph School\, 510 S. Jefferson\, Lockport\, IL\, 60441\, United States
CATEGORIES:2019-10 Results (October)
ORGANIZER;CN="Maribeth Leyva":MAILTO:joggingforjoes@hotmail.com
GEO:41.5919577;-88.0512084
X-APPLE-STRUCTURED-LOCATION;VALUE=URI;X-ADDRESS=St. Joseph School 510 S. Jefferson Lockport IL 60441 United States;X-APPLE-RADIUS=500;X-TITLE=510 S. Jefferson:geo:-88.0512084,41.5919577
END:VEVENT
BEGIN:VEVENT
DTSTART;TZID=America/Chicago:20180929T090000
DTEND;TZID=America/Chicago:20180929T110000
DTSTAMP:20260424T024123
CREATED:20170829T182113Z
LAST-MODIFIED:20180930T022517Z
UID:10000771-1538211600-1538218800@www.racetime.info
SUMMARY:Jogging for St. Joe's 5K Run/Walk & Kids Dash
DESCRIPTION:Jogging for St. Joe’s 5K Age Group Results\n\nJogging for St. Joe’s 5K Overall Results
URL:https://www.racetime.info/event/jogging-for-st-joes-5k-run-walk-kids-dash/
LOCATION:St. Joseph School\, 510 S. Jefferson\, Lockport\, IL\, 60441\, United States
CATEGORIES:2018-09 Results (September)
ORGANIZER;CN="Maribeth Leyva":MAILTO:joggingforjoes@hotmail.com
GEO:41.5919577;-88.0512084
X-APPLE-STRUCTURED-LOCATION;VALUE=URI;X-ADDRESS=St. Joseph School 510 S. Jefferson Lockport IL 60441 United States;X-APPLE-RADIUS=500;X-TITLE=510 S. Jefferson:geo:-88.0512084,41.5919577
END:VEVENT
BEGIN:VEVENT
DTSTART;TZID=America/Chicago:20170930T090000
DTEND;TZID=America/Chicago:20170930T110000
DTSTAMP:20260424T024123
CREATED:20170829T182113Z
LAST-MODIFIED:20170930T190242Z
UID:10000769-1506762000-1506769200@www.racetime.info
SUMMARY:Jogging for St. Joe's 5K Run/Walk & Kids Dash
DESCRIPTION:Jogging for St. Joe’s 5K Age Group Results\n\nJogging for St. Joe’s 5K Overall Results
URL:https://www.racetime.info/event/jogging-for-st-joes-5k-runwalk-kids-dash-2/
LOCATION:St. Joseph School\, 510 S. Jefferson\, Lockport\, IL\, 60441\, United States
CATEGORIES:2017-09 Results (September)
ORGANIZER;CN="Maribeth Leyva":MAILTO:joggingforjoes@hotmail.com
GEO:41.5919577;-88.0512084
X-APPLE-STRUCTURED-LOCATION;VALUE=URI;X-ADDRESS=St. Joseph School 510 S. Jefferson Lockport IL 60441 United States;X-APPLE-RADIUS=500;X-TITLE=510 S. Jefferson:geo:-88.0512084,41.5919577
END:VEVENT
BEGIN:VEVENT
DTSTART;TZID=America/Chicago:20161001T090000
DTEND;TZID=America/Chicago:20161001T110000
DTSTAMP:20260424T024123
CREATED:20160219T124913Z
LAST-MODIFIED:20161002T011231Z
UID:10000200-1475312400-1475319600@www.racetime.info
SUMMARY:Jogging for St. Joe's 5K Run/Walk & Kids Dash
DESCRIPTION:Jogging for St. Joe’s 5K Age Group Results\n\nJogging for St. Joe’s 5K Overall Results
URL:https://www.racetime.info/event/jogging-for-st-joes-5k-runwalk-kids-dash/
LOCATION:St. Joseph School\, 510 S. Jefferson\, Lockport\, IL\, 60441\, United States
CATEGORIES:2016-10 Results (October)
ORGANIZER;CN="Maribeth Leyva":MAILTO:joggingforjoes@hotmail.com
GEO:41.5919577;-88.0512084
X-APPLE-STRUCTURED-LOCATION;VALUE=URI;X-ADDRESS=St. Joseph School 510 S. Jefferson Lockport IL 60441 United States;X-APPLE-RADIUS=500;X-TITLE=510 S. Jefferson:geo:-88.0512084,41.5919577
END:VEVENT
BEGIN:VEVENT
DTSTART;TZID=America/Chicago:20151003T090000
DTEND;TZID=America/Chicago:20151003T110000
DTSTAMP:20260424T024123
CREATED:20150924T161514Z
LAST-MODIFIED:20151004T005154Z
UID:10000144-1443862800-1443870000@www.racetime.info
SUMMARY:Jogging For St. Joe's 5K Run/Walk
DESCRIPTION:Jogging For St. Joe’s Age Group Results\n\nJogging For St. Joe’s Overall Results
URL:https://www.racetime.info/event/jogging-for-st-joes-5k-runwalk/
LOCATION:St. Joseph School\, 510 S. Jefferson\, Lockport\, IL\, 60441\, United States
CATEGORIES:2015-10 Results (October)
ORGANIZER;CN="Maribeth Leyva":MAILTO:joggingforjoes@hotmail.com
GEO:41.5919577;-88.0512084
X-APPLE-STRUCTURED-LOCATION;VALUE=URI;X-ADDRESS=St. Joseph School 510 S. Jefferson Lockport IL 60441 United States;X-APPLE-RADIUS=500;X-TITLE=510 S. Jefferson:geo:-88.0512084,41.5919577
END:VEVENT
END:VCALENDAR