BEGIN:VCALENDAR
VERSION:2.0
PRODID:-//Race Time - ECPv6.15.13//NONSGML v1.0//EN
CALSCALE:GREGORIAN
METHOD:PUBLISH
X-ORIGINAL-URL:https://www.racetime.info
X-WR-CALDESC:Events for Race Time
REFRESH-INTERVAL;VALUE=DURATION:PT1H
X-Robots-Tag:noindex
X-PUBLISHED-TTL:PT1H
BEGIN:VTIMEZONE
TZID:America/Chicago
BEGIN:DAYLIGHT
TZOFFSETFROM:-0600
TZOFFSETTO:-0500
TZNAME:CDT
DTSTART:20140309T080000
END:DAYLIGHT
BEGIN:STANDARD
TZOFFSETFROM:-0500
TZOFFSETTO:-0600
TZNAME:CST
DTSTART:20141102T070000
END:STANDARD
BEGIN:DAYLIGHT
TZOFFSETFROM:-0600
TZOFFSETTO:-0500
TZNAME:CDT
DTSTART:20150308T080000
END:DAYLIGHT
BEGIN:STANDARD
TZOFFSETFROM:-0500
TZOFFSETTO:-0600
TZNAME:CST
DTSTART:20151101T070000
END:STANDARD
BEGIN:DAYLIGHT
TZOFFSETFROM:-0600
TZOFFSETTO:-0500
TZNAME:CDT
DTSTART:20160313T080000
END:DAYLIGHT
BEGIN:STANDARD
TZOFFSETFROM:-0500
TZOFFSETTO:-0600
TZNAME:CST
DTSTART:20161106T070000
END:STANDARD
BEGIN:DAYLIGHT
TZOFFSETFROM:-0600
TZOFFSETTO:-0500
TZNAME:CDT
DTSTART:20170312T080000
END:DAYLIGHT
BEGIN:STANDARD
TZOFFSETFROM:-0500
TZOFFSETTO:-0600
TZNAME:CST
DTSTART:20171105T070000
END:STANDARD
BEGIN:DAYLIGHT
TZOFFSETFROM:-0600
TZOFFSETTO:-0500
TZNAME:CDT
DTSTART:20180311T080000
END:DAYLIGHT
BEGIN:STANDARD
TZOFFSETFROM:-0500
TZOFFSETTO:-0600
TZNAME:CST
DTSTART:20181104T070000
END:STANDARD
BEGIN:DAYLIGHT
TZOFFSETFROM:-0600
TZOFFSETTO:-0500
TZNAME:CDT
DTSTART:20190310T080000
END:DAYLIGHT
BEGIN:STANDARD
TZOFFSETFROM:-0500
TZOFFSETTO:-0600
TZNAME:CST
DTSTART:20191103T070000
END:STANDARD
BEGIN:DAYLIGHT
TZOFFSETFROM:-0600
TZOFFSETTO:-0500
TZNAME:CDT
DTSTART:20200308T080000
END:DAYLIGHT
BEGIN:STANDARD
TZOFFSETFROM:-0500
TZOFFSETTO:-0600
TZNAME:CST
DTSTART:20201101T070000
END:STANDARD
BEGIN:DAYLIGHT
TZOFFSETFROM:-0600
TZOFFSETTO:-0500
TZNAME:CDT
DTSTART:20210314T080000
END:DAYLIGHT
BEGIN:STANDARD
TZOFFSETFROM:-0500
TZOFFSETTO:-0600
TZNAME:CST
DTSTART:20211107T070000
END:STANDARD
BEGIN:DAYLIGHT
TZOFFSETFROM:-0600
TZOFFSETTO:-0500
TZNAME:CDT
DTSTART:20220313T080000
END:DAYLIGHT
BEGIN:STANDARD
TZOFFSETFROM:-0500
TZOFFSETTO:-0600
TZNAME:CST
DTSTART:20221106T070000
END:STANDARD
BEGIN:DAYLIGHT
TZOFFSETFROM:-0600
TZOFFSETTO:-0500
TZNAME:CDT
DTSTART:20230312T080000
END:DAYLIGHT
BEGIN:STANDARD
TZOFFSETFROM:-0500
TZOFFSETTO:-0600
TZNAME:CST
DTSTART:20231105T070000
END:STANDARD
BEGIN:DAYLIGHT
TZOFFSETFROM:-0600
TZOFFSETTO:-0500
TZNAME:CDT
DTSTART:20240310T080000
END:DAYLIGHT
BEGIN:STANDARD
TZOFFSETFROM:-0500
TZOFFSETTO:-0600
TZNAME:CST
DTSTART:20241103T070000
END:STANDARD
BEGIN:DAYLIGHT
TZOFFSETFROM:-0600
TZOFFSETTO:-0500
TZNAME:CDT
DTSTART:20250309T080000
END:DAYLIGHT
BEGIN:STANDARD
TZOFFSETFROM:-0500
TZOFFSETTO:-0600
TZNAME:CST
DTSTART:20251102T070000
END:STANDARD
BEGIN:DAYLIGHT
TZOFFSETFROM:-0600
TZOFFSETTO:-0500
TZNAME:CDT
DTSTART:20260308T080000
END:DAYLIGHT
BEGIN:STANDARD
TZOFFSETFROM:-0500
TZOFFSETTO:-0600
TZNAME:CST
DTSTART:20261101T070000
END:STANDARD
END:VTIMEZONE
BEGIN:VEVENT
DTSTART;TZID=America/Chicago:20251115T090000
DTEND;TZID=America/Chicago:20251115T103000
DTSTAMP:20260423T230850
CREATED:20250826T122209Z
LAST-MODIFIED:20251115T201703Z
UID:10002426-1763197200-1763202600@www.racetime.info
SUMMARY:St. Linus Gobble\, Gobble\, Run or Wobble 5K Run/Walk
DESCRIPTION:St. Linus 5K Age Group Results\n\nSt. Linus 5K Overall Results
URL:https://www.racetime.info/event/st-linus-gobble-gobble-run-or-wobble-5k-run-walk/
LOCATION:St. Linus Church\, 10400 Lawler Avenue\, Oak Lawn\, IL\, 60453\, United States
CATEGORIES:2025-11 Results (November)
ORGANIZER;CN="Alisa Trovato":MAILTO:atrovato@stlinusschool.org
GEO:41.7053927;-87.7463825
X-APPLE-STRUCTURED-LOCATION;VALUE=URI;X-ADDRESS=St. Linus Church 10400 Lawler Avenue Oak Lawn IL 60453 United States;X-APPLE-RADIUS=500;X-TITLE=10400 Lawler Avenue:geo:-87.7463825,41.7053927
END:VEVENT
BEGIN:VEVENT
DTSTART;TZID=America/Chicago:20241102T090000
DTEND;TZID=America/Chicago:20241102T103000
DTSTAMP:20260423T230850
CREATED:20170926T121645Z
LAST-MODIFIED:20241102T171158Z
UID:10001683-1730538000-1730543400@www.racetime.info
SUMMARY:St. Linus Gobble\, Gobble\, Run or Wobble 5K Run/Walk
DESCRIPTION:St. Linus 5K Age Group Results\n\nSt. Linus 5K Overall Results
URL:https://www.racetime.info/event/copy-of-st-linus-gobble-gobble-run-or-wobble-5k-run-walk-2/
LOCATION:St. Linus Church\, 10400 Lawler Avenue\, Oak Lawn\, IL\, 60453\, United States
CATEGORIES:2024-11 Results (November)
ORGANIZER;CN="Alisa Trovato":MAILTO:atrovato@stlinusschool.org
GEO:41.7053927;-87.7463825
X-APPLE-STRUCTURED-LOCATION;VALUE=URI;X-ADDRESS=St. Linus Church 10400 Lawler Avenue Oak Lawn IL 60453 United States;X-APPLE-RADIUS=500;X-TITLE=10400 Lawler Avenue:geo:-87.7463825,41.7053927
END:VEVENT
BEGIN:VEVENT
DTSTART;TZID=America/Chicago:20231104T090000
DTEND;TZID=America/Chicago:20231104T103000
DTSTAMP:20260423T230850
CREATED:20170926T121645Z
LAST-MODIFIED:20231104T170820Z
UID:10000856-1699088400-1699093800@www.racetime.info
SUMMARY:St. Linus Gobble\, Gobble\, Run or Wobble 5K Run/Walk
DESCRIPTION:Gobble Gobble Run or Wobble 5K Age Group Results\n\nGobble Gobble Run or Wobble 5K Overall Results
URL:https://www.racetime.info/event/copy-of-st-linus-gobble-gobble-run-or-wobble-5k-run-walk/
LOCATION:St. Linus Church\, 10400 Lawler Avenue\, Oak Lawn\, IL\, 60453\, United States
CATEGORIES:2023-11 Results (November)
ORGANIZER;CN="Alisa Trovato":MAILTO:atrovato@stlinusschool.org
GEO:41.7053927;-87.7463825
X-APPLE-STRUCTURED-LOCATION;VALUE=URI;X-ADDRESS=St. Linus Church 10400 Lawler Avenue Oak Lawn IL 60453 United States;X-APPLE-RADIUS=500;X-TITLE=10400 Lawler Avenue:geo:-87.7463825,41.7053927
END:VEVENT
BEGIN:VEVENT
DTSTART;TZID=America/Chicago:20221105T090000
DTEND;TZID=America/Chicago:20221105T103000
DTSTAMP:20260423T230850
CREATED:20170926T121645Z
LAST-MODIFIED:20221105T163818Z
UID:10000854-1667638800-1667644200@www.racetime.info
SUMMARY:St. Linus Gobble\, Gobble\, Run or Wobble 5K Run/Walk
DESCRIPTION:Gobble Gobble Run or Wobble 5K Age Group Results\n\nGobble Gobble Run or Wobble 5K Overall Results
URL:https://www.racetime.info/event/copy-of-gobble-gobble-run-or-wobble-5k-run-walk/
LOCATION:St. Linus Church\, 10400 Lawler Avenue\, Oak Lawn\, IL\, 60453\, United States
CATEGORIES:2022-11 Results (November)
ORGANIZER;CN="Alisa Trovato":MAILTO:atrovato@stlinusschool.org
GEO:41.7053927;-87.7463825
X-APPLE-STRUCTURED-LOCATION;VALUE=URI;X-ADDRESS=St. Linus Church 10400 Lawler Avenue Oak Lawn IL 60453 United States;X-APPLE-RADIUS=500;X-TITLE=10400 Lawler Avenue:geo:-87.7463825,41.7053927
END:VEVENT
BEGIN:VEVENT
DTSTART;TZID=America/Chicago:20211106T090000
DTEND;TZID=America/Chicago:20211106T110000
DTSTAMP:20260423T230850
CREATED:20170926T121645Z
LAST-MODIFIED:20211106T164249Z
UID:10000852-1636189200-1636196400@www.racetime.info
SUMMARY:Gobble\, Gobble\, Run or Wobble 5K Run/Walk
DESCRIPTION:St. Linus Turkey Trot 5K Age Group Results\n\nSt. Linus Turkey Trot 5K Overall Results
URL:https://www.racetime.info/event/gobble-gobble-run-or-wobble-5k-run-walk-4/
LOCATION:St. Linus Church\, 10400 Lawler Avenue\, Oak Lawn\, IL\, 60453\, United States
CATEGORIES:2021-11 Results (November)
ORGANIZER;CN="Alisa Trovato":MAILTO:atrovato@stlinusschool.org
GEO:41.7053927;-87.7463825
X-APPLE-STRUCTURED-LOCATION;VALUE=URI;X-ADDRESS=St. Linus Church 10400 Lawler Avenue Oak Lawn IL 60453 United States;X-APPLE-RADIUS=500;X-TITLE=10400 Lawler Avenue:geo:-87.7463825,41.7053927
END:VEVENT
BEGIN:VEVENT
DTSTART;TZID=America/Chicago:20201107T090000
DTEND;TZID=America/Chicago:20201107T110000
DTSTAMP:20260423T230850
CREATED:20170926T121645Z
LAST-MODIFIED:20201011T141440Z
UID:10000866-1604739600-1604746800@www.racetime.info
SUMMARY:Gobble\, Gobble\, Run or Wobble 5K Run/Walk: VIRTUAL
DESCRIPTION:
URL:https://www.racetime.info/event/gobble-gobble-run-or-wobble-5k-run-walk-3/
LOCATION:St. Linus Church\, 10400 Lawler Avenue\, Oak Lawn\, IL\, 60453\, United States
ORGANIZER;CN="Alisa Trovato":MAILTO:atrovato@stlinusschool.org
GEO:41.7053927;-87.7463825
X-APPLE-STRUCTURED-LOCATION;VALUE=URI;X-ADDRESS=St. Linus Church 10400 Lawler Avenue Oak Lawn IL 60453 United States;X-APPLE-RADIUS=500;X-TITLE=10400 Lawler Avenue:geo:-87.7463825,41.7053927
END:VEVENT
BEGIN:VEVENT
DTSTART;TZID=America/Chicago:20191116T090000
DTEND;TZID=America/Chicago:20191116T110000
DTSTAMP:20260423T230850
CREATED:20170926T121645Z
LAST-MODIFIED:20191117T024636Z
UID:10000864-1573894800-1573902000@www.racetime.info
SUMMARY:Gobble\, Gobble\, Run or Wobble 5K Run/Walk
DESCRIPTION:St. Linus Turkey Trot 5K Age Group Results\n\nSt. Linus Turkey Trot 5K Overall Results
URL:https://www.racetime.info/event/gobble-gobble-run-or-wobble-5k-run-walk-2/
LOCATION:St. Linus Church\, 10400 Lawler Avenue\, Oak Lawn\, IL\, 60453\, United States
CATEGORIES:2019-11 Results (November)
ORGANIZER;CN="Alisa Trovato":MAILTO:atrovato@stlinusschool.org
GEO:41.7053927;-87.7463825
X-APPLE-STRUCTURED-LOCATION;VALUE=URI;X-ADDRESS=St. Linus Church 10400 Lawler Avenue Oak Lawn IL 60453 United States;X-APPLE-RADIUS=500;X-TITLE=10400 Lawler Avenue:geo:-87.7463825,41.7053927
END:VEVENT
BEGIN:VEVENT
DTSTART;TZID=America/Chicago:20181117T090000
DTEND;TZID=America/Chicago:20181117T110000
DTSTAMP:20260423T230850
CREATED:20170926T121645Z
LAST-MODIFIED:20181117T201413Z
UID:10000862-1542445200-1542452400@www.racetime.info
SUMMARY:Gobble\, Gobble\, Run or Wobble 5K Run/Walk
DESCRIPTION:Gobble Gobble Run or Wobble 5K Age Group Results\n\nGobble Gobble Run or Wobble 5K Overall Results
URL:https://www.racetime.info/event/gobble-gobble-run-or-wobble-5k-run-walk/
LOCATION:St. Linus Church\, 10400 Lawler Avenue\, Oak Lawn\, IL\, 60453\, United States
CATEGORIES:2018-11 Results (November)
ORGANIZER;CN="Alisa Trovato":MAILTO:atrovato@stlinusschool.org
GEO:41.7053927;-87.7463825
X-APPLE-STRUCTURED-LOCATION;VALUE=URI;X-ADDRESS=St. Linus Church 10400 Lawler Avenue Oak Lawn IL 60453 United States;X-APPLE-RADIUS=500;X-TITLE=10400 Lawler Avenue:geo:-87.7463825,41.7053927
END:VEVENT
BEGIN:VEVENT
DTSTART;TZID=America/Chicago:20171118T090000
DTEND;TZID=America/Chicago:20171118T110000
DTSTAMP:20260423T230850
CREATED:20170926T121645Z
LAST-MODIFIED:20171118T194731Z
UID:10000861-1510995600-1511002800@www.racetime.info
SUMMARY:Gobble\, Gobble\, Run or Wobble 5K Run/Walk
DESCRIPTION:Gobble Gobble Run or Wobble 5K Age Group Results\n\nGobble Gobble Run or Wobble 5K Overall Results
URL:https://www.racetime.info/event/gobble-gobble-run-or-wobble-5k-runwalk/
LOCATION:St. Linus Church\, 10400 Lawler Avenue\, Oak Lawn\, IL\, 60453\, United States
CATEGORIES:2017-11 Results (November)
ORGANIZER;CN="Alisa Trovato":MAILTO:atrovato@stlinusschool.org
GEO:41.7053927;-87.7463825
X-APPLE-STRUCTURED-LOCATION;VALUE=URI;X-ADDRESS=St. Linus Church 10400 Lawler Avenue Oak Lawn IL 60453 United States;X-APPLE-RADIUS=500;X-TITLE=10400 Lawler Avenue:geo:-87.7463825,41.7053927
END:VEVENT
BEGIN:VEVENT
DTSTART;TZID=America/Chicago:20161112T090000
DTEND;TZID=America/Chicago:20161112T110000
DTSTAMP:20260423T230850
CREATED:20160810T114536Z
LAST-MODIFIED:20161114T154649Z
UID:10000750-1478941200-1478948400@www.racetime.info
SUMMARY:Gobble Gobble Run or Wobble 5K
DESCRIPTION:Gobble Gobble Run or Wobble 5K Age Group Results\n\nGobble Gobble Run or Wobble 5K Overall Results
URL:https://www.racetime.info/event/gobble-gobble-run-or-wobble-5k-2/
LOCATION:St. Linus Church\, 10400 Lawler Avenue\, Oak Lawn\, IL\, 60453\, United States
CATEGORIES:2016-11 Results (November)
ORGANIZER;CN="Maria Wantuck":MAILTO:mariawantuck@yahoo.com
GEO:41.7053927;-87.7463825
X-APPLE-STRUCTURED-LOCATION;VALUE=URI;X-ADDRESS=St. Linus Church 10400 Lawler Avenue Oak Lawn IL 60453 United States;X-APPLE-RADIUS=500;X-TITLE=10400 Lawler Avenue:geo:-87.7463825,41.7053927
END:VEVENT
BEGIN:VEVENT
DTSTART;TZID=America/Chicago:20151121T090000
DTEND;TZID=America/Chicago:20151121T110000
DTSTAMP:20260423T230850
CREATED:20150721T014741Z
LAST-MODIFIED:20151120T185523Z
UID:10000312-1448096400-1448103600@www.racetime.info
SUMMARY:Gobble Gobble Run or Wobble 5K CANCELLED!
DESCRIPTION:Dear 5K registered participants\, \nWe regret to inform you that the St. Linus Gobble Gobble Run or Wobble 5K race has been cancelled due to inclement weather. Village officials in Oak Lawn had an emergency meeting with 5K organizers about the impending snow storm that begins tonight and will continue until after 3 pm tomorrow.  \nOur main concern is safety for all participants. The village has stated that hazardous conditions would prohibit us from running due to slick roads\, and the need to reposition city workers from 5K security to maintenance of streets for village residents. \nParticipants are encouraged to come to packet pickup tonight from 6-8pm to collect their bags. Please come to St. Linus Gym at: 10400 S. Lawler Ave\, Oak Lawn\, IL 60453. The gym doors are located off the south parking lot nearest to our field. Our 5K committee will also have volunteers on site for packet pickup between 7 am and 9 am on race day for those unable to make it tonight.  \nWe are holding a raffle of our prizes generously donated by our sponsors. All registered participants have been entered to win our prizes and winners will be posted at packet pickup before participants arrive to collect their goodie bags and t-shirts. Hotel packages have been raffled for registrants over the age of 18 only. \nSincerely\, \nThe Gobble Gobble Run or Wobble 5K Committee
URL:https://www.racetime.info/event/gobble-gobble-run-or-wobble-5k/
LOCATION:St. Linus Church\, 10400 Lawler Avenue\, Oak Lawn\, IL\, 60453\, United States
ORGANIZER;CN="Julie Cooper":MAILTO:gobblegobblerunorwobble5k@gmail.com
GEO:41.7053927;-87.7463825
X-APPLE-STRUCTURED-LOCATION;VALUE=URI;X-ADDRESS=St. Linus Church 10400 Lawler Avenue Oak Lawn IL 60453 United States;X-APPLE-RADIUS=500;X-TITLE=10400 Lawler Avenue:geo:-87.7463825,41.7053927
END:VEVENT
END:VCALENDAR