BEGIN:VCALENDAR
VERSION:2.0
PRODID:-//Race Time - ECPv6.15.13//NONSGML v1.0//EN
CALSCALE:GREGORIAN
METHOD:PUBLISH
X-WR-CALNAME:Race Time
X-ORIGINAL-URL:https://www.racetime.info
X-WR-CALDESC:Events for Race Time
REFRESH-INTERVAL;VALUE=DURATION:PT1H
X-Robots-Tag:noindex
X-PUBLISHED-TTL:PT1H
BEGIN:VTIMEZONE
TZID:America/Chicago
BEGIN:DAYLIGHT
TZOFFSETFROM:-0600
TZOFFSETTO:-0500
TZNAME:CDT
DTSTART:20140309T080000
END:DAYLIGHT
BEGIN:STANDARD
TZOFFSETFROM:-0500
TZOFFSETTO:-0600
TZNAME:CST
DTSTART:20141102T070000
END:STANDARD
BEGIN:DAYLIGHT
TZOFFSETFROM:-0600
TZOFFSETTO:-0500
TZNAME:CDT
DTSTART:20150308T080000
END:DAYLIGHT
BEGIN:STANDARD
TZOFFSETFROM:-0500
TZOFFSETTO:-0600
TZNAME:CST
DTSTART:20151101T070000
END:STANDARD
BEGIN:DAYLIGHT
TZOFFSETFROM:-0600
TZOFFSETTO:-0500
TZNAME:CDT
DTSTART:20160313T080000
END:DAYLIGHT
BEGIN:STANDARD
TZOFFSETFROM:-0500
TZOFFSETTO:-0600
TZNAME:CST
DTSTART:20161106T070000
END:STANDARD
BEGIN:DAYLIGHT
TZOFFSETFROM:-0600
TZOFFSETTO:-0500
TZNAME:CDT
DTSTART:20170312T080000
END:DAYLIGHT
BEGIN:STANDARD
TZOFFSETFROM:-0500
TZOFFSETTO:-0600
TZNAME:CST
DTSTART:20171105T070000
END:STANDARD
BEGIN:DAYLIGHT
TZOFFSETFROM:-0600
TZOFFSETTO:-0500
TZNAME:CDT
DTSTART:20180311T080000
END:DAYLIGHT
BEGIN:STANDARD
TZOFFSETFROM:-0500
TZOFFSETTO:-0600
TZNAME:CST
DTSTART:20181104T070000
END:STANDARD
END:VTIMEZONE
BEGIN:VEVENT
DTSTART;TZID=America/Chicago:20170909T103000
DTEND;TZID=America/Chicago:20170909T123000
DTSTAMP:20260424T023311
CREATED:20170723T103251Z
LAST-MODIFIED:20170909T195300Z
UID:10001554-1504953000-1504960200@www.racetime.info
SUMMARY:Lancer Dash 5K & 2K Run/Walk; Kids' Fun Run
DESCRIPTION:Lancer 5K Age Group Results\n\nLancer 5K Overall Results\n\nLancer 2K Age Group Results\n\nLancer 2K Overall Results
URL:https://www.racetime.info/event/lancer-dash-5k-kids-fun-run/
LOCATION:St. Mary’s School\, 210 Gurler Road\, DeKalb\, IL\, 60115\, United States
CATEGORIES:2017-09 Results (September)
ORGANIZER;CN="Greg Kubitz":MAILTO:greg.kubitz@gmail.com
GEO:41.8910563;-88.7651788
X-APPLE-STRUCTURED-LOCATION;VALUE=URI;X-ADDRESS=St. Mary’s School 210 Gurler Road DeKalb IL 60115 United States;X-APPLE-RADIUS=500;X-TITLE=210 Gurler Road:geo:-88.7651788,41.8910563
END:VEVENT
BEGIN:VEVENT
DTSTART;TZID=America/Chicago:20160917T103000
DTEND;TZID=America/Chicago:20160917T130000
DTSTAMP:20260424T023311
CREATED:20160717T153627Z
LAST-MODIFIED:20160917T185229Z
UID:10000718-1474108200-1474117200@www.racetime.info
SUMMARY:Lancer Dash 5K\, 2K & .1 Mile Youth Run
DESCRIPTION:Lancer 2K Age Group Results\n\nLancer 2K Overall Results\n\nLancer 5K Age Group Results\n\nLancer 5K Overall Results
URL:https://www.racetime.info/event/lancer-dash-5k-2k-1-mile-youth-run/
LOCATION:St. Mary’s School\, 210 Gurler Road\, DeKalb\, IL\, 60115\, United States
CATEGORIES:2016-09 Results (September)
ORGANIZER;CN="Greg Kubitz":MAILTO:greg.kubitz@gmail.com
GEO:41.8910563;-88.7651788
X-APPLE-STRUCTURED-LOCATION;VALUE=URI;X-ADDRESS=St. Mary’s School 210 Gurler Road DeKalb IL 60115 United States;X-APPLE-RADIUS=500;X-TITLE=210 Gurler Road:geo:-88.7651788,41.8910563
END:VEVENT
BEGIN:VEVENT
DTSTART;TZID=America/Chicago:20151017T090000
DTEND;TZID=America/Chicago:20151017T110000
DTSTAMP:20260424T023311
CREATED:20150908T004422Z
LAST-MODIFIED:20151017T202113Z
UID:10000403-1445072400-1445079600@www.racetime.info
SUMMARY:Lancer Dash 5k\, 2K & Youth Sprint
DESCRIPTION:Little Lancer 2K Age Group Results\n\nLittle Lancer 2K Overall Results\n\nLancer Dash 5K Age Group Results\n\nLancer Dash 5K Overall Results
URL:https://www.racetime.info/event/lancer-dash-5k-2k-youth-sprint/
LOCATION:St. Mary’s School\, 210 Gurler Road\, DeKalb\, IL\, 60115\, United States
CATEGORIES:2015-10 Results (October)
ORGANIZER;CN="Greg Kubitz":MAILTO:greg.kubitz@gmail.com
GEO:41.8910563;-88.7651788
X-APPLE-STRUCTURED-LOCATION;VALUE=URI;X-ADDRESS=St. Mary’s School 210 Gurler Road DeKalb IL 60115 United States;X-APPLE-RADIUS=500;X-TITLE=210 Gurler Road:geo:-88.7651788,41.8910563
END:VEVENT
END:VCALENDAR