BEGIN:VCALENDAR
VERSION:2.0
PRODID:-//Race Time - ECPv6.15.13//NONSGML v1.0//EN
CALSCALE:GREGORIAN
METHOD:PUBLISH
X-WR-CALNAME:Race Time
X-ORIGINAL-URL:https://www.racetime.info
X-WR-CALDESC:Events for Race Time
REFRESH-INTERVAL;VALUE=DURATION:PT1H
X-Robots-Tag:noindex
X-PUBLISHED-TTL:PT1H
BEGIN:VTIMEZONE
TZID:America/Chicago
BEGIN:DAYLIGHT
TZOFFSETFROM:-0600
TZOFFSETTO:-0500
TZNAME:CDT
DTSTART:20140309T080000
END:DAYLIGHT
BEGIN:STANDARD
TZOFFSETFROM:-0500
TZOFFSETTO:-0600
TZNAME:CST
DTSTART:20141102T070000
END:STANDARD
BEGIN:DAYLIGHT
TZOFFSETFROM:-0600
TZOFFSETTO:-0500
TZNAME:CDT
DTSTART:20150308T080000
END:DAYLIGHT
BEGIN:STANDARD
TZOFFSETFROM:-0500
TZOFFSETTO:-0600
TZNAME:CST
DTSTART:20151101T070000
END:STANDARD
BEGIN:DAYLIGHT
TZOFFSETFROM:-0600
TZOFFSETTO:-0500
TZNAME:CDT
DTSTART:20160313T080000
END:DAYLIGHT
BEGIN:STANDARD
TZOFFSETFROM:-0500
TZOFFSETTO:-0600
TZNAME:CST
DTSTART:20161106T070000
END:STANDARD
BEGIN:DAYLIGHT
TZOFFSETFROM:-0600
TZOFFSETTO:-0500
TZNAME:CDT
DTSTART:20170312T080000
END:DAYLIGHT
BEGIN:STANDARD
TZOFFSETFROM:-0500
TZOFFSETTO:-0600
TZNAME:CST
DTSTART:20171105T070000
END:STANDARD
BEGIN:DAYLIGHT
TZOFFSETFROM:-0600
TZOFFSETTO:-0500
TZNAME:CDT
DTSTART:20180311T080000
END:DAYLIGHT
BEGIN:STANDARD
TZOFFSETFROM:-0500
TZOFFSETTO:-0600
TZNAME:CST
DTSTART:20181104T070000
END:STANDARD
BEGIN:DAYLIGHT
TZOFFSETFROM:-0600
TZOFFSETTO:-0500
TZNAME:CDT
DTSTART:20190310T080000
END:DAYLIGHT
BEGIN:STANDARD
TZOFFSETFROM:-0500
TZOFFSETTO:-0600
TZNAME:CST
DTSTART:20191103T070000
END:STANDARD
END:VTIMEZONE
BEGIN:VEVENT
DTSTART;TZID=America/Chicago:20180903T080000
DTEND;TZID=America/Chicago:20180903T100000
DTSTAMP:20260424T011825
CREATED:20170611T173851Z
LAST-MODIFIED:20180903T151824Z
UID:10000627-1535961600-1535968800@www.racetime.info
SUMMARY:St. Pet's 5K Run/Walk
DESCRIPTION:St. Pet’s 5K Age Group Results\n\nSt. Pet’s 5K Overall Results
URL:https://www.racetime.info/event/st-pets-5k-run-walk/
LOCATION:St. Petronille Church\, 420 Glenwood Avenue\, Glen Ellyn\, IL\, 60137\, United States
CATEGORIES:2018-09 Results (September)
ORGANIZER;CN="Paula Barnett":MAILTO:barnettp@stpetschurch.org
GEO:41.8744424;-88.0690031
X-APPLE-STRUCTURED-LOCATION;VALUE=URI;X-ADDRESS=St. Petronille Church 420 Glenwood Avenue Glen Ellyn IL 60137 United States;X-APPLE-RADIUS=500;X-TITLE=420 Glenwood Avenue:geo:-88.0690031,41.8744424
END:VEVENT
BEGIN:VEVENT
DTSTART;TZID=America/Chicago:20170904T080000
DTEND;TZID=America/Chicago:20170904T100000
DTSTAMP:20260424T011825
CREATED:20170611T173851Z
LAST-MODIFIED:20170904T153014Z
UID:10000625-1504512000-1504519200@www.racetime.info
SUMMARY:St. Pet's 5K Run/Walk
DESCRIPTION:St. Pet’s 5K Age Group Results\n\nSt. Pet’s 5K Overall Results
URL:https://www.racetime.info/event/st-pets-5k-runwalk-3/
LOCATION:St. Petronille Church\, 420 Glenwood Avenue\, Glen Ellyn\, IL\, 60137\, United States
CATEGORIES:2017-09 Results (September)
ORGANIZER;CN="Paula Barnett":MAILTO:barnettp@stpetschurch.org
GEO:41.8744424;-88.0690031
X-APPLE-STRUCTURED-LOCATION;VALUE=URI;X-ADDRESS=St. Petronille Church 420 Glenwood Avenue Glen Ellyn IL 60137 United States;X-APPLE-RADIUS=500;X-TITLE=420 Glenwood Avenue:geo:-88.0690031,41.8744424
END:VEVENT
BEGIN:VEVENT
DTSTART;TZID=America/Chicago:20160905T080000
DTEND;TZID=America/Chicago:20160905T100000
DTSTAMP:20260424T011825
CREATED:20160622T192045Z
LAST-MODIFIED:20160905T160529Z
UID:10000695-1473062400-1473069600@www.racetime.info
SUMMARY:St. Pet's 5K Run/Walk
DESCRIPTION:St. Pet’s 5K Overall Results
URL:https://www.racetime.info/event/st-pets-5k-runwalk-2/
LOCATION:St. Petronille Church\, 420 Glenwood Avenue\, Glen Ellyn\, IL\, 60137\, United States
CATEGORIES:2016-09 Results (September)
ORGANIZER;CN="Paula Barnett":MAILTO:barnettp@stpetschurch.org
GEO:41.8744424;-88.0690031
X-APPLE-STRUCTURED-LOCATION;VALUE=URI;X-ADDRESS=St. Petronille Church 420 Glenwood Avenue Glen Ellyn IL 60137 United States;X-APPLE-RADIUS=500;X-TITLE=420 Glenwood Avenue:geo:-88.0690031,41.8744424
END:VEVENT
BEGIN:VEVENT
DTSTART;TZID=America/Chicago:20150907T080000
DTEND;TZID=America/Chicago:20150907T100000
DTSTAMP:20260424T011825
CREATED:20150610T000704Z
LAST-MODIFIED:20150907T161201Z
UID:10000058-1441612800-1441620000@www.racetime.info
SUMMARY:St. Pet's 5K Run/Walk
DESCRIPTION:St. Pet’s 5K Age Group Results\n\nSt. Pet’s 5K Overall Results
URL:https://www.racetime.info/event/st-pets-5k-runwalk/
LOCATION:St. Petronille Church\, 420 Glenwood Avenue\, Glen Ellyn\, IL\, 60137\, United States
CATEGORIES:2015-09 Results (September)
ORGANIZER;CN="Paula Barnett":MAILTO:barnettp@stpetschurch.org
GEO:41.8744424;-88.0690031
X-APPLE-STRUCTURED-LOCATION;VALUE=URI;X-ADDRESS=St. Petronille Church 420 Glenwood Avenue Glen Ellyn IL 60137 United States;X-APPLE-RADIUS=500;X-TITLE=420 Glenwood Avenue:geo:-88.0690031,41.8744424
END:VEVENT
END:VCALENDAR