BEGIN:VCALENDAR
VERSION:2.0
PRODID:-//Race Time - ECPv6.15.13//NONSGML v1.0//EN
CALSCALE:GREGORIAN
METHOD:PUBLISH
X-ORIGINAL-URL:https://www.racetime.info
X-WR-CALDESC:Events for Race Time
REFRESH-INTERVAL;VALUE=DURATION:PT1H
X-Robots-Tag:noindex
X-PUBLISHED-TTL:PT1H
BEGIN:VTIMEZONE
TZID:America/Chicago
BEGIN:DAYLIGHT
TZOFFSETFROM:-0600
TZOFFSETTO:-0500
TZNAME:CDT
DTSTART:20140309T080000
END:DAYLIGHT
BEGIN:STANDARD
TZOFFSETFROM:-0500
TZOFFSETTO:-0600
TZNAME:CST
DTSTART:20141102T070000
END:STANDARD
BEGIN:DAYLIGHT
TZOFFSETFROM:-0600
TZOFFSETTO:-0500
TZNAME:CDT
DTSTART:20150308T080000
END:DAYLIGHT
BEGIN:STANDARD
TZOFFSETFROM:-0500
TZOFFSETTO:-0600
TZNAME:CST
DTSTART:20151101T070000
END:STANDARD
BEGIN:DAYLIGHT
TZOFFSETFROM:-0600
TZOFFSETTO:-0500
TZNAME:CDT
DTSTART:20160313T080000
END:DAYLIGHT
BEGIN:STANDARD
TZOFFSETFROM:-0500
TZOFFSETTO:-0600
TZNAME:CST
DTSTART:20161106T070000
END:STANDARD
BEGIN:DAYLIGHT
TZOFFSETFROM:-0600
TZOFFSETTO:-0500
TZNAME:CDT
DTSTART:20170312T080000
END:DAYLIGHT
BEGIN:STANDARD
TZOFFSETFROM:-0500
TZOFFSETTO:-0600
TZNAME:CST
DTSTART:20171105T070000
END:STANDARD
BEGIN:DAYLIGHT
TZOFFSETFROM:-0600
TZOFFSETTO:-0500
TZNAME:CDT
DTSTART:20180311T080000
END:DAYLIGHT
BEGIN:STANDARD
TZOFFSETFROM:-0500
TZOFFSETTO:-0600
TZNAME:CST
DTSTART:20181104T070000
END:STANDARD
END:VTIMEZONE
BEGIN:VEVENT
DTSTART;TZID=America/Chicago:20170429T090000
DTEND;TZID=America/Chicago:20170429T110000
DTSTAMP:20260424T024635
CREATED:20170215T234309Z
LAST-MODIFIED:20170430T162752Z
UID:10001034-1493456400-1493463600@www.racetime.info
SUMMARY:Stagg Charger 5K Run/Walk & Color Blast Zone!
DESCRIPTION:Stagg Charger 5K Age Group Results\n\nStagg Charger 5K Overall Results\n\nStagg Charger 5K Oak Ridge Overall Results
URL:https://www.racetime.info/event/stagg-charger-5k-runwalk-color-blast-zone/
LOCATION:Amos Alonzo Stagg High School\, 8015 W. 111th Street\, Palos Hills\, IL\, 60463\, United States
CATEGORIES:2017-04 Results (April)
ORGANIZER;CN="Dan Carrier":MAILTO:dcarrier@d230.org
GEO:41.6879265;-87.8185761
X-APPLE-STRUCTURED-LOCATION;VALUE=URI;X-ADDRESS=Amos Alonzo Stagg High School 8015 W. 111th Street Palos Hills IL 60463 United States;X-APPLE-RADIUS=500;X-TITLE=8015 W. 111th Street:geo:-87.8185761,41.6879265
END:VEVENT
BEGIN:VEVENT
DTSTART;TZID=America/Chicago:20160430T090000
DTEND;TZID=America/Chicago:20160430T110000
DTSTAMP:20260424T024635
CREATED:20160213T014259Z
LAST-MODIFIED:20160430T224534Z
UID:10000539-1462006800-1462014000@www.racetime.info
SUMMARY:Charger (Less than a) 5K Run/Walk & Youth Dash
DESCRIPTION:Stagg 2.50 Mile Age Group Results\n\nStagg 2.50 Mile Overall (Combined) Results\n\nStagg 2.50 Mile Overall By Division Results
URL:https://www.racetime.info/event/charger-5k-runwalk-youth-dash/
LOCATION:Amos Alonzo Stagg High School\, 8015 W. 111th Street\, Palos Hills\, IL\, 60463\, United States
CATEGORIES:2016-04 Results (April)
ORGANIZER;CN="Dan Carrier":MAILTO:dcarrier@d230.org
GEO:41.6879265;-87.8185761
X-APPLE-STRUCTURED-LOCATION;VALUE=URI;X-ADDRESS=Amos Alonzo Stagg High School 8015 W. 111th Street Palos Hills IL 60463 United States;X-APPLE-RADIUS=500;X-TITLE=8015 W. 111th Street:geo:-87.8185761,41.6879265
END:VEVENT
BEGIN:VEVENT
DTSTART;TZID=America/Chicago:20150502T000000
DTEND;TZID=America/Chicago:20150502T000000
DTSTAMP:20260424T024635
CREATED:20150409T034501Z
LAST-MODIFIED:20150829T200549Z
UID:10000037-1430524800-1430524800@www.racetime.info
SUMMARY:Charger 5K Run/Walk
DESCRIPTION:Stagg Chargers 5K Overall Results\n\nStagg Charges 5K Age Group Results
URL:https://www.racetime.info/event/charger-5k-runwalk-2/
LOCATION:Amos Alonzo Stagg High School\, 8015 W. 111th Street\, Palos Hills\, IL\, 60463\, United States
CATEGORIES:2015-05 Results (May)
ORGANIZER;CN="Dan Carrier":MAILTO:dcarrier@d230.org
GEO:41.6879265;-87.8185761
X-APPLE-STRUCTURED-LOCATION;VALUE=URI;X-ADDRESS=Amos Alonzo Stagg High School 8015 W. 111th Street Palos Hills IL 60463 United States;X-APPLE-RADIUS=500;X-TITLE=8015 W. 111th Street:geo:-87.8185761,41.6879265
END:VEVENT
END:VCALENDAR